BEGIN:VCALENDAR
VERSION:2.0
PRODID:-//European American Chamber of Commerce Texas [EACCTX] | Your Partner for Transatlantic Business Resources - ECPv6.15.20//NONSGML v1.0//EN
CALSCALE:GREGORIAN
METHOD:PUBLISH
X-WR-CALNAME:European American Chamber of Commerce Texas [EACCTX] | Your Partner for Transatlantic Business Resources
X-ORIGINAL-URL:https://www.eacctx.com
X-WR-CALDESC:Events for European American Chamber of Commerce Texas [EACCTX] | Your Partner for Transatlantic Business Resources
REFRESH-INTERVAL;VALUE=DURATION:PT1H
X-Robots-Tag:noindex
X-PUBLISHED-TTL:PT1H
BEGIN:VTIMEZONE
TZID:America/Chicago
BEGIN:DAYLIGHT
TZOFFSETFROM:-0600
TZOFFSETTO:-0500
TZNAME:CDT
DTSTART:20210314T080000
END:DAYLIGHT
BEGIN:STANDARD
TZOFFSETFROM:-0500
TZOFFSETTO:-0600
TZNAME:CST
DTSTART:20211107T070000
END:STANDARD
BEGIN:DAYLIGHT
TZOFFSETFROM:-0600
TZOFFSETTO:-0500
TZNAME:CDT
DTSTART:20220313T080000
END:DAYLIGHT
BEGIN:STANDARD
TZOFFSETFROM:-0500
TZOFFSETTO:-0600
TZNAME:CST
DTSTART:20221106T070000
END:STANDARD
BEGIN:DAYLIGHT
TZOFFSETFROM:-0600
TZOFFSETTO:-0500
TZNAME:CDT
DTSTART:20230312T080000
END:DAYLIGHT
BEGIN:STANDARD
TZOFFSETFROM:-0500
TZOFFSETTO:-0600
TZNAME:CST
DTSTART:20231105T070000
END:STANDARD
END:VTIMEZONE
BEGIN:VEVENT
DTSTART;TZID=America/Chicago:20220901T173000
DTEND;TZID=America/Chicago:20220901T193000
DTSTAMP:20260421T000452
CREATED:20220808T182047Z
LAST-MODIFIED:20220812T134813Z
UID:46212-1662053400-1662060600@www.eacctx.com
SUMMARY:AeroTech Talk at CAE
DESCRIPTION:Talk\, Tour\, and Engage at CAE on Thursday\, September 1st from 5:30-7:30pm\n  \nTAKE A RIDE WITH US!\nCAE will make several of its 39 flight simulators available to guests to experience!\nREGISTER HERE\n\nAt CAE\, we equip people in critical roles with the expertise and solutions to create a safer world. As a technology company\, we digitalize the physical world\, deploying simulation training and critical operations support solutions. Above all else\, we empower pilots\, airlines\, defense and security forces\, and healthcare practitioners to perform at their best every day and when the stakes are the highest. Around the globe\, we’re everywhere customers need us to be with more than 13\,000 employees in more than 200 sites and training locations in over 35 countries. CAE represents 75 years of industry firsts—the highest-fidelity flight and mission simulators\, surgical manikins\, and personalized training programs powered by artificial intelligence. We’re investing our time and resources into building the next generation of cutting-edge\, digitally immersive training and critical operations solutions. Today and tomorrow\, we’ll make sure our customers are ready for the moments that matter.
URL:https://www.eacctx.com/2event/aerotech-talk-at-cae/
LOCATION:CAE (DFW Airport)\, 2929 W. Airfield Drive\, Dallas\, 75261\, United States
CATEGORIES:upcoming
ORGANIZER;CN="European American Chamber of Commerce Texas":MAILTO:info@eacctx.com
END:VEVENT
END:VCALENDAR