BEGIN:VCALENDAR
VERSION:2.0
PRODID:-//European American Chamber of Commerce Texas [EACCTX] | Your Partner for Transatlantic Business Resources - ECPv6.15.20//NONSGML v1.0//EN
CALSCALE:GREGORIAN
METHOD:PUBLISH
X-ORIGINAL-URL:https://www.eacctx.com
X-WR-CALDESC:Events for European American Chamber of Commerce Texas [EACCTX] | Your Partner for Transatlantic Business Resources
REFRESH-INTERVAL;VALUE=DURATION:PT1H
X-Robots-Tag:noindex
X-PUBLISHED-TTL:PT1H
BEGIN:VTIMEZONE
TZID:America/Chicago
BEGIN:DAYLIGHT
TZOFFSETFROM:-0600
TZOFFSETTO:-0500
TZNAME:CDT
DTSTART:20250309T080000
END:DAYLIGHT
BEGIN:STANDARD
TZOFFSETFROM:-0500
TZOFFSETTO:-0600
TZNAME:CST
DTSTART:20251102T070000
END:STANDARD
BEGIN:DAYLIGHT
TZOFFSETFROM:-0600
TZOFFSETTO:-0500
TZNAME:CDT
DTSTART:20260308T080000
END:DAYLIGHT
BEGIN:STANDARD
TZOFFSETFROM:-0500
TZOFFSETTO:-0600
TZNAME:CST
DTSTART:20261101T070000
END:STANDARD
BEGIN:DAYLIGHT
TZOFFSETFROM:-0600
TZOFFSETTO:-0500
TZNAME:CDT
DTSTART:20270314T080000
END:DAYLIGHT
BEGIN:STANDARD
TZOFFSETFROM:-0500
TZOFFSETTO:-0600
TZNAME:CST
DTSTART:20271107T070000
END:STANDARD
END:VTIMEZONE
BEGIN:VEVENT
DTSTART;TZID=America/Chicago:20260311T090000
DTEND;TZID=America/Chicago:20260311T130000
DTSTAMP:20260419T072221
CREATED:20260226T150041Z
LAST-MODIFIED:20260326T113524Z
UID:53928-1773219600-1773234000@www.eacctx.com
SUMMARY:The EACC invites you to apply for admission for the BRAVE1 US Investment Roadshow!
DESCRIPTION:  \nThe EACC invites investors\, eco-system leaders\, and strategic partners to apply for admission for the BRAVE1 US Investment Roadshow!\n\n\nBrave1 is bringing 16 carefully selected Ukrainian dual-use companies to the Dallas for the day of March 11th\, 2026 to focus on the topics of unmanned systems\, AI-enabled defense applications\, secure communications\, and counter-drone solutions.\n\nRegister here to apply for admission!\n\n\n\nAgenda:\n\n9:00 am — Doors open\n9:30-9:45 — Technology & Battlefield insights from Brave1\n9:45-10:30 — Company Pitches (Part I): Battle-proven defense tech teams with solutions already scaled and deployed on the frontline\n10:30-11:00 — Panel Discussion on Ecosystem & Market insights with Oedipus\, Green Flag\, KSE and Resist.UA\n11:00-11:45 — Company Pitches (Part II)\n11:45-13:00 — Networking & Matchmaking: Connect directly with founders and peer investors already investing in Ukraine\n\n\nCompanies Attending: \n1) HIMERA\n            – Domain: Communication\n            – Company Description: HIMERA develops and manufactures scalable resilient communication systems based on its unique access to the modern battlefield. They’re used by global defense forces in the most complex electronic warfare and electronic reconnaissance environments.\n              – Maturity Stage: Seed\n\n2) Vidar Systems\n            – Domain: AI\n            – Company Description: Vidar Systems is an intelligent acoustic technology startup\, which develops and operates AI-powered autonomous sensory systems to help defense forces gain full acoustic situational awareness\, enabling early warning and strengthening target acquisition capabilities.\n              – Maturity Stage: Seed\n3) LAZR \n            – Domain: Air Defense\n            – Company Description: LAZR builds distributed laser defense – affordable\, mobile\, networked laser C-UAS systems for FPV and small drones shaped by real operator feedback. Multiple smart turrets mount on vehicles and fixed sites to share tracks\, expand coverage\, and keep operating even under attrition.\n              – Maturity Stage: Seed\n4) Iron Belly \n            – Domain: UAV + AI\n            – Company Description: Iron Belly is a Ukrainian defense technology and manufacturing company specializing in AI-driven autonomous UAV systems for defense. The company combines in-house AI software\, electronics\, and scalable production to deliver combat-proven\, production-ready platforms.\n              – Maturity Stage: Series A\n5) The Fourth Law \n            – Domain: AI\n            – Company Description: The Fourth Law solves autonomy for drones. It’s product video is the world’ s first video of AI killer drones systematically used in battlefield.\n              – Maturity Stage: Series A\n6) Frontline Robotics \n            – Domain: UAV + Robotics\n            – Company Description: Frontline Robotics is a Ukrainian defense manufacturer (now scaling internationally) of highly autonomous unmanned systems for air and ground domains\, designed for mass production and resilience in ever-evolving battlefield conditions.\n              – Maturity Stage: Series A\n7) Buntar Aerospace \n            – Domain: UAV + AI\n            – Company Description: Buntar is a Ukrainian-born unmanned aerial systems manufacturer that transforms frontline experience into AI-driven decision-making to save lives.\n             – Maturity Stage: Series A\n8) Odd Systems \n            – Domain: Components; UAV\n            – Company Description: Founded by Petcube Founders\, Odd Systems scales battle-proven thermal and daylights cameras and UAVs through localized\, high-volume manufacturing to ensure “Free World” cameras sovereignty.\n              – Maturity Stage: Series A\n9) Aero Center Ltd. \n            – Domain: UAV + Air Defense\n            – Company Description: Aero Center is a drone and munition production company that will enable autonomous combat in the sky and on the ground in 2026.\n            – Maturity Stage: Series A\n10) Sine Engineering \n            – Domain: Communication\n            – Company Description: Sine Engineering is Ukraine’s leading provider of autonomy infrastructure for unmanned systems\, developing resilient communications\, GPS- independent navigation\, and multi-drone control for contested environments.\n– Maturity Stage: Series A\n11) Airlogix \n            – Domain: UAV + Air Defense\n            – Company Description: Airlogix is an innovative aerospace company developing advanced unmanned aerial vehicles (drones) and systems for both civilian and defense applications\, uniquely focused on creating resilient\, dual-use UAV technologies that enhance security and operational effectiveness in challenging environments.\n            – Maturity Stage: Series B+\n12) TAF Industries \n            – Domain: UAV + EW\n            – Company Description: TAF Industries is one of Ukraine’s leading military-tech companies\, uniquely combining large-scale FPV drone production\, advanced reconnaissance UAVs\, and cutting-edge AI-enabled EW/ELINT systems to deliver battle- proven solutions that protect soldiers and give tactical advantage on the modern battlefield.\n            – Maturity Stage: Series B+\n13) Pegasus Arms \n            – Domain: UAV + Air Defense\n            – Company Description: We are a full-cycle production company developing drone-interceptors\, EW and UAVs. Our flagship heavy bomber drone is used in more than 50 units on the frontline.\n             – Maturity Stage: Series B+\n14) Skyfall \n            – Domain: UAV + Air Defense\n            – Company Description: SkyFall is the largest UAV manufacturer inUkraine. Founded in 2022\, our drones have already been deployed in well over 2\,500\,000 missions.\n            – Maturity Stage: Series B+\n15) General Cherry \n            – Domain: UAV + Air Defense\n            – Company Description: General Cherry is unique because it builds combat-proven drones in direct feedback loops with frontline pilots and a production model designed for 3× scalability.\n            – Maturity Stage: Series B+\n16) Contra Drone \n            – Domain: EW\n            – Company Description: Contra-drone represents Ukrainian innovative anti-UAV systems engineered for real-world combat challenges. We combine cutting-edge technology\, international standards\, and field experience to guarantee the maximum level of security.\n            – Maturity Stage: Series B+
URL:https://www.eacctx.com/2event/the-eacc-invites-you-to-apply-for-admission-for-the-brave1-us-investment-roadshow/
LOCATION:Crum Family Boulevard Auditorium\, The David B. Miller Business Quadrangle - 6214 Bishop Blvd on the lower level\, Dallas\, TX\, United States
CATEGORIES:Past Event,upcoming
END:VEVENT
BEGIN:VEVENT
DTSTART;TZID=America/Chicago:20260330T180000
DTEND;TZID=America/Chicago:20260330T200000
DTSTAMP:20260419T072221
CREATED:20260323T173859Z
LAST-MODIFIED:20260331T145423Z
UID:53999-1774893600-1774900800@www.eacctx.com
SUMMARY:STRAIT TALK...Geopolitics and the Current Impact on Global Supply Chains
DESCRIPTION:The EACC Texas Trade Alliance is thrilled to invite you to an exclusive discussion about trade logistics\, transportation\, customs\, and supply chain management featuring EACC Texas Chairwoman Michelle Schulz\, and Ario Aalaei\, founder and principal of Bridgepoint Global Advisors. \nTime: 6:00-8:00 PM \nDate: Monday\, March 30\, 2026 \nLocation: 8343 Douglas Avenue Conference Center Dallas TX 75225 \nMembers: FREE \nNonmembers: $30 register fee \nREGISTER HERE \n \nEACC Texas Chairwoman Michelle Schulz \nMichelle Schulz is the Founder and Managing Partner of Schulz Trade Law PLLC\, a Dallas-based firm specializing in international trade law. As Chairwoman of the EACC Texas Board of Directors\, she has over two decades of experience in import and export compliance and enforcement matters. She is also a founding member of the EACC Texas Transatlantic Trade Alliance (ETTA) task force\, launched earlier this year. \nAs an international trade attorney\, Michelle represents Fortune 500 companies and global corporate clients in compliance with U.S. and international regulations governing exports of dual-use commodities\, defense articles\, software\, and technology. Her clients span the globe – from North and South America to Europe\, Africa\, and Asia. She serves as an outside advisor to the U.S. Secretary of Commerce and U.S. Trade Representative on the Industry Trade Advisory Committee for Aerospace (ITAC-1)\, holding a secret-level security clearance. \nHer practice encompasses defense exports under ITAR\, dual-use exports under EAR\, U.S. Customs Regulations\, FCPA\, CFIUS regulations\, sanctions\, embargoes\, and trade data reporting. She regularly guides corporate counsel through international trade due diligence in mergers and acquisitions. \n  \n \nArio Aalaei \nArio Aalaei is the Founder and Principal of BridgePoint Global Advisors\, a Texas-based advisory firm focused on freight\, supply chain strategy\, and international market entry. He brings more than 25 years of leadership experience in global freight forwarding and container shipping across the United States\, Europe\, and Asia. \nOver the course of his career\, he has led large ocean freight and logistics organizations\, managed multimillion-dollar customer portfolios\, and worked closely with global shipping lines\, importers\, and multinational companies. His experience spans everything from carrier contracts and trade lane strategy to port selection\, routing decisions\, and helping companies respond to changing market conditions. Today\, through BridgePoint\, he advises leadership teams on how to make smarter freight and supply chain decisions\, especially when markets become more volatile or complex. \nHis work is grounded in a simple idea: most supply chain problems do not begin with execution — they begin with structure\, planning\, and the decisions made before disruption hits. \n  \n \nModerator: Stefan Boehmer \nStefan Boehmer is a senior finance executive\, advisor\, and board leader with extensive experience in business transformation\, turnaround situations\, and international growth. He has held senior leadership roles in global organizations\, combining financial discipline with strategic execution to drive sustainable value creation. \nAt Siemens\, Stefan led a major financial and strategic transformation\, delivering strong revenue growth and turning a challenging operating position into record profitability. He is known for building high-performance teams and successfully leading organizations through complex change. Today\, Stefan is actively involved with Texas Advisory Services\, supporting U.S. and international companies with market entry\, growth strategy\, financial leadership\, and ecosystem access across Texas. He also serves as an advisory board member and is a frequent speaker and writer on finance transformation\, automation\, AI\, and leadership. Stefan’s leadership philosophy centers on servant leadership and the integration of IQ\, EQ\, and TQ\, believing strong results come from empowered people\, disciplined execution\, and a clear long-term vision. \n \nOver 45 years of experience have provided Tim Feemster\, CEO & Managing Principal of Foremost Quality Logistics\, with a variety of hands on problem solving situations in industrial/manufacturing site selection\, economic development\, real estate\, transportation\, logistics\, distribution\, and marketing. Tim is quoted frequently in the economic development\, real estate & supply chain press\, makes over 20 keynote presentations a year\, and was designated one of the “2019 & 2020 Dallas 500” the “Most Powerful Business Leaders in Dallas-Fort Worth” in the D Magazine’s CEO edition. Before forming Foremost Quality Logistics\, Feemster had experience as a senior manager in three manufacturing companies\, a general manager\, a consultant\, an executive in two third party logistics providers\, and a practice group leader in two commercial real estate firms. Feemster has been responsible for economic development strategy consulting\, building construction management\, transportation & warehouse operations; real estate site selection; network optimization; strategic planning; lease management; marketing; inventory planning & deployment; lean systems & quality management; and private fleet management. Feemster holds an M.B.A. in Marketing from the Ross School of Business\, University of Michigan in Ann Arbor\, and a B.A. in Mathematics from DePauw University in Greencastle\, Indiana\, and is a Six Sigma Green Belt. Feemster is an active member in the Warehouse Education and Research Council (WERC.org)\, where he is a Past President; Council Supply Chain Management Professionals (CSCMP.org)\, Industrial Asset Management Council (IAMC.org)\, Intermodal Association of North America (IANA.org)\, DePauw Alumni Board (DePauw.edu)\, and a board member of the DePauw DFW Regional Alumni Chapter. Specialties: Logistics & Supply Chain Trends/Site Selection Keynote Speaker | Supply Chain Optimization & Strategy | Real Estate Site Selection | Economic Development Strategy Consulting
URL:https://www.eacctx.com/2event/strait-talk-geopolitics-and-disruption/
LOCATION:Conference Center\, 8343 Douglas Avenue Conference Center Dallas TX 75225\, Dallas\, 75225\, United States
CATEGORIES:events,Past Event
ORGANIZER;CN="EACC Texas":MAILTO:info@eacctx.com
END:VEVENT
END:VCALENDAR