BEGIN:VCALENDAR
VERSION:2.0
PRODID:-//European American Chamber of Commerce Texas [EACCTX] | Your Partner for Transatlantic Business Resources - ECPv6.15.20//NONSGML v1.0//EN
CALSCALE:GREGORIAN
METHOD:PUBLISH
X-WR-CALNAME:European American Chamber of Commerce Texas [EACCTX] | Your Partner for Transatlantic Business Resources
X-ORIGINAL-URL:https://www.eacctx.com
X-WR-CALDESC:Events for European American Chamber of Commerce Texas [EACCTX] | Your Partner for Transatlantic Business Resources
REFRESH-INTERVAL;VALUE=DURATION:PT1H
X-Robots-Tag:noindex
X-PUBLISHED-TTL:PT1H
BEGIN:VTIMEZONE
TZID:America/Chicago
BEGIN:DAYLIGHT
TZOFFSETFROM:-0600
TZOFFSETTO:-0500
TZNAME:CDT
DTSTART:20250309T080000
END:DAYLIGHT
BEGIN:STANDARD
TZOFFSETFROM:-0500
TZOFFSETTO:-0600
TZNAME:CST
DTSTART:20251102T070000
END:STANDARD
BEGIN:DAYLIGHT
TZOFFSETFROM:-0600
TZOFFSETTO:-0500
TZNAME:CDT
DTSTART:20260308T080000
END:DAYLIGHT
BEGIN:STANDARD
TZOFFSETFROM:-0500
TZOFFSETTO:-0600
TZNAME:CST
DTSTART:20261101T070000
END:STANDARD
BEGIN:DAYLIGHT
TZOFFSETFROM:-0600
TZOFFSETTO:-0500
TZNAME:CDT
DTSTART:20270314T080000
END:DAYLIGHT
BEGIN:STANDARD
TZOFFSETFROM:-0500
TZOFFSETTO:-0600
TZNAME:CST
DTSTART:20271107T070000
END:STANDARD
END:VTIMEZONE
BEGIN:VEVENT
DTSTART;TZID=America/Chicago:20260210T173000
DTEND;TZID=America/Chicago:20260210T200000
DTSTAMP:20260419T085728
CREATED:20260116T202113Z
LAST-MODIFIED:20260227T172902Z
UID:53829-1770744600-1770753600@www.eacctx.com
SUMMARY:Holistic Security for Organizations in 2026
DESCRIPTION:REGISTER HERE\n  \nEvent Timeline: \nRegistration & Networking  – hor d’oeuvres\nWelcome – NDCC\, EACC & FACC        Opening remarks – Ambassador CG Stefan Lindstrom\nFrom Risk to Return: Managing Generative AI in Corporations        – Mikko Peltola A-CX\nSecure Property Access through Smart Locking        – Wade Norman iLOQ\nConnecting\, Protecting\, and Controlling the OT World        – Sakari Suhonen TOSI\nPreventing Cyber Attacks Before They Happen        – Andrew Wildrix Intrusion\nPanel Discussion – moderator Mikko Peltola A-CX        representatives from iLOQ\, Intrusion and Tosi\nQ&A with networking\nVenue closes
URL:https://www.eacctx.com/2event/holistic-security-for-organizations-in-2026/
LOCATION:North Dallas Chamber of Commerce\, 5710 Lyndon B Johnson Fwy #100\, Dallas\, TX\, 75230\, United States
CATEGORIES:events,Past Event
ORGANIZER;CN="EACC Texas":MAILTO:info@eacctx.com
END:VEVENT
BEGIN:VEVENT
DTSTART;TZID=America/Chicago:20260218T100000
DTEND;TZID=America/Chicago:20260218T110000
DTSTAMP:20260419T085728
CREATED:20260205T192733Z
LAST-MODIFIED:20260205T192733Z
UID:53884-1771408800-1771412400@www.eacctx.com
SUMMARY:Exporting with Confidence: Trade Agreements & Compliance Essentials
DESCRIPTION:The U.S. Commercial Service is inviting exporters\, including advanced manufacturers\, energy-related exporters and strategic technologies developers\, to join this valuable\, online discussion. The webinar will provide an overview of both WTO and free trade agreements\, and key export compliance considerations. Experts from within the U.S. Department of Commerce\, including the U.S. Commercial Service (USCS)\, the Office of Trade Negotiations and Analysis (I&A)\, the Office of Trade Agreements Negotiation and Compliance (TANC)\, and the Bureau of Industry Security (BIS)\, will share practical guidance on how businesses can leverage trade agreements\, overcome trade barriers\, and meet U.S. export compliance requirements to increase exports. Participants will gain insights into navigating global markets\, understanding enforcement and compliance risks\, and accessing government resources to support compliant and successful international trade! \n  \nDate: Wednesday\, February 18\, 2026 \nTime: 10:00 AM – 11:00 AM CST \nREGISTER HERE
URL:https://www.eacctx.com/2event/exporting-with-confidence-trade-agreements-compliance-essentials/
CATEGORIES:Partner Events
END:VEVENT
END:VCALENDAR