BEGIN:VCALENDAR
VERSION:2.0
PRODID:-//European American Chamber of Commerce Texas [EACCTX] | Your Partner for Transatlantic Business Resources - ECPv6.15.20//NONSGML v1.0//EN
CALSCALE:GREGORIAN
METHOD:PUBLISH
X-ORIGINAL-URL:https://www.eacctx.com
X-WR-CALDESC:Events for European American Chamber of Commerce Texas [EACCTX] | Your Partner for Transatlantic Business Resources
REFRESH-INTERVAL;VALUE=DURATION:PT1H
X-Robots-Tag:noindex
X-PUBLISHED-TTL:PT1H
BEGIN:VTIMEZONE
TZID:America/Chicago
BEGIN:DAYLIGHT
TZOFFSETFROM:-0600
TZOFFSETTO:-0500
TZNAME:CDT
DTSTART:20240310T080000
END:DAYLIGHT
BEGIN:STANDARD
TZOFFSETFROM:-0500
TZOFFSETTO:-0600
TZNAME:CST
DTSTART:20241103T070000
END:STANDARD
BEGIN:DAYLIGHT
TZOFFSETFROM:-0600
TZOFFSETTO:-0500
TZNAME:CDT
DTSTART:20250309T080000
END:DAYLIGHT
BEGIN:STANDARD
TZOFFSETFROM:-0500
TZOFFSETTO:-0600
TZNAME:CST
DTSTART:20251102T070000
END:STANDARD
BEGIN:DAYLIGHT
TZOFFSETFROM:-0600
TZOFFSETTO:-0500
TZNAME:CDT
DTSTART:20260308T080000
END:DAYLIGHT
BEGIN:STANDARD
TZOFFSETFROM:-0500
TZOFFSETTO:-0600
TZNAME:CST
DTSTART:20261101T070000
END:STANDARD
END:VTIMEZONE
BEGIN:VEVENT
DTSTART;TZID=America/Chicago:20251015T173000
DTEND;TZID=America/Chicago:20251015T200000
DTSTAMP:20260419T174500
CREATED:20250910T163219Z
LAST-MODIFIED:20251014T231437Z
UID:53135-1760549400-1760558400@www.eacctx.com
SUMMARY:Texas Stock Exchange – The Transatlantic Impact
DESCRIPTION:Texas Stock Exchange – The Transatlantic Impact \n📅 Wed October 15\, 2025 \n🕠 5:30 – 8:00 PM \n📍 JP Morgan Client Center\, 1900 N Akard St. Dallas \n* For EACC President’s Circle and Sustaining Partner members only \nHosted by JP Morgan \nThe European American Chamber of Commerce\, together with JP Morgan\, invites our President’s Circle and Sustaining Partner Members to an exclusive evening discussion on the Texas Stock Exchange (TXSE) and its transatlantic significance. \nJeff Karcher\, Global Managing Director at TXSE\, will provide insights into the creation of the exchange\, scheduled to launch in 2026\, and what it means for access to capital and opportunities in one of the fastest-growing economic regions in the world. \nThe Texas Stock Exchange represents the next chapter in a long history of U.S. financial innovation. With Texas and the greater Southeast Quadrant (seQ) driving U.S. economic expansion and population growth\, TXSE is positioned to become a major force in global finance. The region is already home to nearly a quarter of U.S. publicly traded companies\, making it a powerful hub for investment\, innovation\, and transatlantic business. \nRead D Magazine article: Texas Stock Exchange Receives SEC Approval\, Will Launch in 2026 \nWhy attend? \n\nGain first-hand insights into the vision\, structure\, and opportunities of TXSE.\nUnderstand the strategic impact for European businesses seeking growth in the U.S. market.\nConnect with peers in an exclusive setting hosted by JP Morgan.\n\nThis event will explore how TXSE’s launch could reshape capital markets and create new pathways for European-U.S. business and cooperation. \n*Become a President’s Circle or Sustaining Partner member by viewing membership perks and contacting us through emckelvey@eacctx.com
URL:https://www.eacctx.com/2event/texas-stock-exchange-the-transatlantic-impact/
LOCATION:JP Morgan Client Centre\, 1900 N. Akard Street\, 5th Floor\, Dallas\, TX\, 75201\, United States
CATEGORIES:events,upcoming
ORGANIZER;CN="EACC Texas":MAILTO:info@eacctx.com
END:VEVENT
BEGIN:VEVENT
DTSTART;TZID=America/Chicago:20251023T083000
DTEND;TZID=America/Chicago:20251023T210000
DTSTAMP:20260419T174500
CREATED:20250812T143154Z
LAST-MODIFIED:20251002T185522Z
UID:53049-1761208200-1761253200@www.eacctx.com
SUMMARY:⭐5th Annual EU-Texas Economic Leadership Forum and Ambassadors' Gala in Dallas⭐
DESCRIPTION:  \n\n  \nSubscribe to our mailing list to receive up-to-date information about the event directly to your email. \nPlease enable JavaScript in your browser to complete this form.Name *FirstLastTitle *Company *Please check all interests that apply. *MembershipWebinarsLive EventsNewsletterEmail *Submit
URL:https://www.eacctx.com/2event/%e2%ad%90-5th-annual-eu-texas-economic-leadership-forum-and-ambassadors-gala-in-dallas%e2%ad%90/
LOCATION:SMU – Dallas
CATEGORIES:events,upcoming
ORGANIZER;CN="EACC Texas":MAILTO:info@eacctx.com
END:VEVENT
BEGIN:VEVENT
DTSTART;TZID=America/Chicago:20251029T170000
DTEND;TZID=America/Chicago:20251029T190000
DTSTAMP:20260419T174500
CREATED:20251021T200856Z
LAST-MODIFIED:20251027T163421Z
UID:53392-1761757200-1761764400@www.eacctx.com
SUMMARY:Austin! Meet Europe’s Tech Envoys: Exploring Texas' Digital Future
DESCRIPTION:Meet the EU’s Digital Councelors on their first visit to Texas! \n\nDate & Time: October 29\, 2025 | 5:00 PM – 7:00 PMLocation: Austin Chamber of Commerce (535 E 5th street\, suite 369\, 78701 Austin\, TX)Networking: Cocktails and light bites will be served \nThe European American Chamber of Commerce Texas is proud to host a panel discussion for a delegation of 25–30 European Digital Counselors visiting Austin\, Texas\, to explore the region’s innovation ecosystem and digital technologies. This unique event will provide insights into the cultural and political dimensions of digital innovation in Texas\, with a focus on Artificial Intelligence (AI)\, cybersecurity\, quantum technologies\, and other emerging technologies. \nREGISTER HERE \nPanel Themes: \n\nEuropean Tech Presence in Texas: A scene-setting overview of AI and other technological developments shaping the state\nThe Incubator Scene: Perspectives from Texas’s startup and innovation hubs\nVenture Capital Insights: How VCs evaluate and support European startups entering the U.S. market\n\nPanelists include: \n\nAndrea Hrusovska\, collaborating with Eastern European startups\nKevin Koym\, Austin tech veteran with over 30 years of experience\nEduardo Velasco\, Agentic Capital LLC\, VC perspective\nModerator: Erin McKelvey\, European American Chamber of Commerce Texas\n\nWho Should Attend \nMembers of the Austin Chamber of Commerce\, European trade & investment offices\, and anyone interested in sharing their views on European business in Texas\, U.S. innovation ecosystem\, and transatlantic collaboration on new business creation. \nJoin us to welcome Europe’s digital leaders and gain exclusive insights into how Texas is shaping the future of innovation and transatlantic business collaboration. \nREGISTER HERE
URL:https://www.eacctx.com/2event/austin-meet-europes-tech-envoys-exploring-texas-digital-future/
LOCATION:Austin Chamber of Commerce\, 535 E 5th street\, suite 369\, Austin\, Texas\, 78701
CATEGORIES:events,upcoming
ORGANIZER;CN="EACC Texas":MAILTO:info@eacctx.com
END:VEVENT
END:VCALENDAR