BEGIN:VCALENDAR
VERSION:2.0
PRODID:-//European American Chamber of Commerce Texas [EACCTX] | Your Partner for Transatlantic Business Resources - ECPv6.15.20//NONSGML v1.0//EN
CALSCALE:GREGORIAN
METHOD:PUBLISH
X-ORIGINAL-URL:https://www.eacctx.com
X-WR-CALDESC:Events for European American Chamber of Commerce Texas [EACCTX] | Your Partner for Transatlantic Business Resources
REFRESH-INTERVAL;VALUE=DURATION:PT1H
X-Robots-Tag:noindex
X-PUBLISHED-TTL:PT1H
BEGIN:VTIMEZONE
TZID:America/Chicago
BEGIN:DAYLIGHT
TZOFFSETFROM:-0600
TZOFFSETTO:-0500
TZNAME:CDT
DTSTART:20240310T080000
END:DAYLIGHT
BEGIN:STANDARD
TZOFFSETFROM:-0500
TZOFFSETTO:-0600
TZNAME:CST
DTSTART:20241103T070000
END:STANDARD
BEGIN:DAYLIGHT
TZOFFSETFROM:-0600
TZOFFSETTO:-0500
TZNAME:CDT
DTSTART:20250309T080000
END:DAYLIGHT
BEGIN:STANDARD
TZOFFSETFROM:-0500
TZOFFSETTO:-0600
TZNAME:CST
DTSTART:20251102T070000
END:STANDARD
BEGIN:DAYLIGHT
TZOFFSETFROM:-0600
TZOFFSETTO:-0500
TZNAME:CDT
DTSTART:20260308T080000
END:DAYLIGHT
BEGIN:STANDARD
TZOFFSETFROM:-0500
TZOFFSETTO:-0600
TZNAME:CST
DTSTART:20261101T070000
END:STANDARD
END:VTIMEZONE
BEGIN:VEVENT
DTSTART;TZID=America/Chicago:20250904T173000
DTEND;TZID=America/Chicago:20250904T193000
DTSTAMP:20260419T174500
CREATED:20250228T212943Z
LAST-MODIFIED:20250717T160344Z
UID:52714-1757007000-1757014200@www.eacctx.com
SUMMARY:EACC Texas Annual General Meeting & AeroTech Talks
DESCRIPTION:Join EACC Texas Board of Directors\, Members and Guests\n\n\n\n\nEACC Texas members and one guest: No Charge\nNon Members: $30\nWine & Hors d’oeuvres included.\nIn accordance with the EACC Code of Regulations\, the EACC Texas holds a general membership meeting once a year to elect board members and to conduct other business as necessary.  \nRegister here
URL:https://www.eacctx.com/2event/annual-general-meeting/
LOCATION:Safran USA\, Inc.\, 2201 W. Royal Lane\, Irving\, TX\, 75063\, United States
CATEGORIES:events,upcoming
ORGANIZER;CN="EACC Texas":MAILTO:info@eacctx.com
END:VEVENT
BEGIN:VEVENT
DTSTART;TZID=America/Chicago:20250911T090000
DTEND;TZID=America/Chicago:20250911T100000
DTSTAMP:20260419T174500
CREATED:20250702T161908Z
LAST-MODIFIED:20250909T201829Z
UID:52976-1757581200-1757584800@www.eacctx.com
SUMMARY:EACC Texas & Enterprise Europe Network | Doing Business in the USA: Starter Guide to US Customs & Logistics + Tariff Updates
DESCRIPTION:Doing business in the United States: Starter Guide to US Customs & Logistics + an Update on Tariffs \nLearnings: \n\nImport Requirements for certain Product groups\nAn update on duty/and tariff regimens\, increased customs enforcement\, issues\nWhat you need to know to navigate the US ports system\nHow to manage trade compliance in common sectors (food\, technology\, chemicals\, medical devices)\nThings you need to know to ensure a smooth path through customs for specialty products\nSales Channels available and what are the best option for your product\nThe types of Legal agreements & contracts you need to do business in the US\nWarehousing cost and best practices\, managing rate volatility\, picking partners\nApplicable federal and state regulations – FDA\, CPSC\, etc.\n\nhttps://een.ec.europa.eu/webinars/webinar-series-embracing-global-markets/doing-business-united-states-customs-tariffs 
URL:https://www.eacctx.com/2event/eacc-texas-enterprise-europe-network-webinar-sept-11/
LOCATION:Online
ORGANIZER;CN="EACC Texas":MAILTO:info@eacctx.com
END:VEVENT
BEGIN:VEVENT
DTSTART;TZID=America/Chicago:20250911T110000
DTEND;TZID=America/Chicago:20250911T120000
DTSTAMP:20260419T174500
CREATED:20250905T204415Z
LAST-MODIFIED:20250908T165434Z
UID:53112-1757588400-1757592000@www.eacctx.com
SUMMARY:Semiconductors in Central Texas: Innovation\, Security\, and Growth
DESCRIPTION:We’re excited to invite you to collaborate with us in spreading the word about our upcoming webinar: \nSemiconductors in Central Texas: Innovation\, Security\, and Growth \n📅 September 11\, 11:00 AM CST \n🎤 Speakers: Drew Scheberle (National Security Innovation Council)\, Roland Peña (Opportunity Austin)\, and Tyson Tuttle (Founder & CEO\, Circuit; former CEO\, Silicon Labs) \nThis event will highlight how Central Texas is fast becoming the epicenter of America’s semiconductor future—fueling innovation in health tech\, national security\, and beyond. \nTo make promotion simple\, we’ve prepared a promo kit with ready-to-use copy and graphics for email\, newsletters\, and social media. \nYour support in sharing this with your network will help strengthen our ecosystem by connecting innovators\, builders\, and community leaders. \n🔗 Registration Link: Register Here \nThank you for your partnership in making this conversation impactful! \nAll the best\, \nEmma
URL:https://www.eacctx.com/2event/semiconductors-in-central-texas-innovation-security-and-growth/
LOCATION:Virtual
CATEGORIES:events,Partner Events
ORGANIZER;CN="EACC Texas":MAILTO:info@eacctx.com
END:VEVENT
BEGIN:VEVENT
DTSTART;TZID=America/Chicago:20250915T080000
DTEND;TZID=America/Chicago:20250915T100000
DTSTAMP:20260419T174500
CREATED:20250902T142950Z
LAST-MODIFIED:20250902T142950Z
UID:53103-1757923200-1757930400@www.eacctx.com
SUMMARY:Building connections in technology and entrepreneurship between USA and Sweden
DESCRIPTION:Public Panel on Technology & Entrepreneurship\nGet ready to join an inspiring afternoon as leading voices from Sweden and the US come together for a transatlantic panel on technology and entrepreneurship in a geopolitical world. \nThis event is all about building connections\, sharing insights\, and exploring how we can strengthen collaboration between our two countries in times of both challenges and opportunities. Expect thought-provoking discussions\, fresh perspectives\, and the chance to engage directly during our open Q&A. \n  \nWhen? \nMonday\, September 15\, 2025 \n15:00–17:00 CEST (Sweden) | 8:00–10:00 AM CDT (Texas) \nFollowed by Q&A and networking \nWhere? \nOnline participation available (link shared with registered participants) \n  \nPanelists include: \nHannes Helander – Royal Swedish Academy of Engineering Sciences. \nIlona Kiebler – Management Consultant Digital Transformation (ERP Specialist) at Kiebler&Partners. \nLinda McMahon – CEO\, Dallas Economic Development Corporation. \nDr. Mitch Stevison – President & CEO\, Frontgrade Technologies. \nKlementina Österberg – CEO\, GU Ventures. \n  \nModerated by: \nHelene Honeybone – Entrepreneur & Honorary Consul of Sweden\, Dallas. \nMaureen McKelvey – Professor & Director\, U-GOT KIES\, University of Gothenburg. \n  \nRegister here: Event Registration \nThis panel is part of the Nordic Texas Initiative\, a collaboration between U-GOT KIES\, the Honorary Consulate of Sweden in Dallas\, and SACC-Dallas – building bridges in innovation\, entrepreneurship\, and technology. \n 
URL:https://www.eacctx.com/2event/building-connections-in-technology-and-entrepreneurship-between-usa-and-sweden/
CATEGORIES:events,Partner Events
END:VEVENT
BEGIN:VEVENT
DTSTART;TZID=America/Chicago:20250916T153000
DTEND;TZID=America/Chicago:20250916T203000
DTSTAMP:20260419T174500
CREATED:20250818T174038Z
LAST-MODIFIED:20250912T174825Z
UID:53076-1758036600-1758054600@www.eacctx.com
SUMMARY:Go-On Annual Meeting - Houston Energy Week
DESCRIPTION:Go-on Annual Meeting: Energy Week 2025 \n📅 Tuesday\, September 16\, 2025\n🕞 3:30 – 8:30 PM\n📍 POST Houston\, 401 Franklin St\, Houston\, TX 77201 \nJoin us for the Go-on Annual Meeting during Energy Week 2025\, bringing together leaders from the energy\, sustainability\, and aerospace sectors to explore global economic trends\, nuclear energy innovations\, M&A opportunities\, and more. \nThis event will feature keynote speakers\, panel discussions\, and a business networking cocktail on the iconic rooftop of POST Houston. \nProgram Highlights: \n\nGlobal Economic Outlook: What’s Next?\nSustainability & Nuclear Energy\nAerospace Innovation: Energy in Space\nM&A and Cross-Border Investment Opportunities\n\n✨ Don’t miss the chance to connect with industry leaders\, explore collaboration opportunities\, and gain insights into the future of energy and technology. \nRSVP: houston@go-on-group.com
URL:https://www.eacctx.com/2event/go-on-annual-meeting-houston-energy-week/
LOCATION:Pegasus Logistics\, 306 Airline Drive\, Suite 100\, Coppell\, TX\, 75019\, United States
CATEGORIES:events,Partner Events,upcoming
ORGANIZER;CN="EACC Texas":MAILTO:info@eacctx.com
END:VEVENT
BEGIN:VEVENT
DTSTART;TZID=America/Chicago:20250918T173000
DTEND;TZID=America/Chicago:20250918T200000
DTSTAMP:20260419T174500
CREATED:20250828T153654Z
LAST-MODIFIED:20250828T153654Z
UID:53098-1758216600-1758225600@www.eacctx.com
SUMMARY:Houston's Summer Business Networking
DESCRIPTION:Houston’s Summer Business Networking\n📅 Thu September 18\, 2025 \n🕠 5:30 – 8:00 PM \n📍 4306 Yoakum\, Suite 170\, Houston\, 77006 \nREGISTER HERE \n  \nHosted by GoodBiz.Law \nAfter a summer of travel\, relaxation\, and recharging\, it’s time to get back to business\, without losing the holiday spirit. Our Summer Business Networking\, hosted by GoodBiz.Law\, invites Houston’s international business community to reconnect\, exchange ideas\, and start the fall season on the right note. \n  \nEnjoy an evening of drinks\, light bites\, and meaningful connections with fellow professionals\, members\, and new faces. Whether you’re looking to strengthen existing relationships\, expand your network\, or simply get back into the rhythm of the season\, this event is the perfect setting. \nWho should attend \nHouston-based members and their colleagues/guests\, Professionals new to Houston looking to grow their network\, The wider international business community and partners\, Advisors and service providers working with globally minded businesses\, young professionals eager to connect and engage \n  \n✨ Business is back\, but the holiday spirit lingers. Come network\, recharge\, and set the tone for a productive season ahead. And don’t forget\, this is the perfect occasion to bring a guest or colleague to experience the community with you! \n 
URL:https://www.eacctx.com/2event/houstons-summer-business-networking/
LOCATION:GoodBiz.Law\, 4306 Yoakum\, Suite 170\, Houston\, 77006\, United States
CATEGORIES:events,upcoming
END:VEVENT
BEGIN:VEVENT
DTSTART;TZID=America/Chicago:20250925T173000
DTEND;TZID=America/Chicago:20250925T200000
DTSTAMP:20260419T174500
CREATED:20250915T134537Z
LAST-MODIFIED:20250915T134537Z
UID:53166-1758821400-1758830400@www.eacctx.com
SUMMARY:An Address by H.E. Goran Grlić Radman\, Minister of Foreign and European Affairs of the Republic of Croatia
DESCRIPTION:Hosted by Nelson Mullins \n📅 September 25\, 2025 \n🕕 5:30 PM Registration | 6:00 PM Program \n📍 NELSON MULLINS\, 1111 Bagby Street\, Suite 2100\, Houston TX\, 77002 \nJoin us on September 25 for a special evening with H.E. Mr. Gordan Grlić Radman\, PhD. Minister of Foreign and European Affairs of the Republic of Croatia\, accompanied by an official delegation\, on the occasion of their visit to Texas and the United States. This gathering will bring together Houston’s European Consular Corps and members of the European American Chamber of Commerce for an insightful program and networking opportunity. \nThe evening will also serve to welcome new European Consuls to Houston and to introduce everyone to the new EACC Board Chair. Guests will enjoy Croatian wines and hors d’oeuvres as part of this distinguished event. \nDon’t miss this opportunity to hear perspectives from Europe\, connect with distinguished representatives\, and strengthen transatlantic ties. \nWho should attend:  \nMembers of the European Consular Corps in Houston\, EACC members and partners interested in transatlantic business and policy\, Business leaders and professionals in energy\, trade\, and defense sectors\, Representatives of international chambers\, associations\, and cultural institutions
URL:https://www.eacctx.com/2event/an-address-by-h-e-goran-grlic-radman-minister-of-foreign-and-european-affairs-of-the-republic-of-croatia/
LOCATION:1111 Bagby Street\, Suite 2100\, Houston TX\, 77002
CATEGORIES:events,upcoming
ORGANIZER;CN="EACC Texas":MAILTO:info@eacctx.com
END:VEVENT
END:VCALENDAR