BEGIN:VCALENDAR
VERSION:2.0
PRODID:-//European American Chamber of Commerce Texas [EACCTX] | Your Partner for Transatlantic Business Resources - ECPv6.15.20//NONSGML v1.0//EN
CALSCALE:GREGORIAN
METHOD:PUBLISH
X-WR-CALNAME:European American Chamber of Commerce Texas [EACCTX] | Your Partner for Transatlantic Business Resources
X-ORIGINAL-URL:https://www.eacctx.com
X-WR-CALDESC:Events for European American Chamber of Commerce Texas [EACCTX] | Your Partner for Transatlantic Business Resources
REFRESH-INTERVAL;VALUE=DURATION:PT1H
X-Robots-Tag:noindex
X-PUBLISHED-TTL:PT1H
BEGIN:VTIMEZONE
TZID:America/New_York
BEGIN:DAYLIGHT
TZOFFSETFROM:-0500
TZOFFSETTO:-0400
TZNAME:EDT
DTSTART:20240310T070000
END:DAYLIGHT
BEGIN:STANDARD
TZOFFSETFROM:-0400
TZOFFSETTO:-0500
TZNAME:EST
DTSTART:20241103T060000
END:STANDARD
BEGIN:DAYLIGHT
TZOFFSETFROM:-0500
TZOFFSETTO:-0400
TZNAME:EDT
DTSTART:20250309T070000
END:DAYLIGHT
BEGIN:STANDARD
TZOFFSETFROM:-0400
TZOFFSETTO:-0500
TZNAME:EST
DTSTART:20251102T060000
END:STANDARD
BEGIN:DAYLIGHT
TZOFFSETFROM:-0500
TZOFFSETTO:-0400
TZNAME:EDT
DTSTART:20260308T070000
END:DAYLIGHT
BEGIN:STANDARD
TZOFFSETFROM:-0400
TZOFFSETTO:-0500
TZNAME:EST
DTSTART:20261101T060000
END:STANDARD
END:VTIMEZONE
BEGIN:VTIMEZONE
TZID:America/Chicago
BEGIN:DAYLIGHT
TZOFFSETFROM:-0600
TZOFFSETTO:-0500
TZNAME:CDT
DTSTART:20240310T080000
END:DAYLIGHT
BEGIN:STANDARD
TZOFFSETFROM:-0500
TZOFFSETTO:-0600
TZNAME:CST
DTSTART:20241103T070000
END:STANDARD
BEGIN:DAYLIGHT
TZOFFSETFROM:-0600
TZOFFSETTO:-0500
TZNAME:CDT
DTSTART:20250309T080000
END:DAYLIGHT
BEGIN:STANDARD
TZOFFSETFROM:-0500
TZOFFSETTO:-0600
TZNAME:CST
DTSTART:20251102T070000
END:STANDARD
BEGIN:DAYLIGHT
TZOFFSETFROM:-0600
TZOFFSETTO:-0500
TZNAME:CDT
DTSTART:20260308T080000
END:DAYLIGHT
BEGIN:STANDARD
TZOFFSETFROM:-0500
TZOFFSETTO:-0600
TZNAME:CST
DTSTART:20261101T070000
END:STANDARD
END:VTIMEZONE
BEGIN:VEVENT
DTSTART;TZID=America/New_York:20250501T070000
DTEND;TZID=America/New_York:20250501T083000
DTSTAMP:20260420T002416
CREATED:20250423T142116Z
LAST-MODIFIED:20250423T142116Z
UID:52915-1746082800-1746088200@www.eacctx.com
SUMMARY:Upcoming Webinar: Grow Your Business in North Texas: A Regional Presentation for Foreign Direct Investment
DESCRIPTION:  \n \nThe U.S. Commercial Service\, Dallas – Fort Worth in partnership with the North Texas District Export Council invites you to attend a North Texas-focused FDI Webinar: Grow Your Business in North Texas – A Regional Presentation for Foreign Direct Investment. \nEvent Date: May 1st\nEvent Time: 7:00AM – 8:30AM CST\nEvent cost: Free \nWHY YOU SHOULD JOIN:\nThis is a unique market briefing of the North Texas region. Economic Development leaders from cities across the region will convene in one location at one time to present a collection of assets and opportunities for international business expansion in North Texas. Hear about North Texas infrastructure\, including specific opportunities in Abilene\, Henderson\, Longview and Lubbock\, TX. \nJoin the webinar on May 1st to:\n– Review regional infrastructure and assets\n– Hear about the region’s skilled workforce and vibrant communities\n– Learn about investment benefits and potential support\n– Identify specific site options relevant to you\n– Meet various decision makers for networking\n– Gain insight for your business development and guidance for next steps \nREGISTER TODAY: https://lnkd.in/g8fuaWHs
URL:https://www.eacctx.com/2event/upcoming-webinar-grow-your-business-in-north-texas-a-regional-presentation-for-foreign-direct-investment/
LOCATION:Virtual
CATEGORIES:Partner Events
END:VEVENT
BEGIN:VEVENT
DTSTART;TZID=America/Chicago:20250508T180000
DTEND;TZID=America/Chicago:20250508T210000
DTSTAMP:20260420T002416
CREATED:20250224T152615Z
LAST-MODIFIED:20250717T163245Z
UID:52613-1746727200-1746738000@www.eacctx.com
SUMMARY:3rd Annual Experience EUROPE™ in DALLAS
DESCRIPTION:https://www.eacctx.com/wp-content/uploads/2025/02/Experience-Europe-2-1.mp4\n\n\n\n\n\n			\n		\n					\n					\n					\n					\n					\n					\n					\n					\n					\n					\n					\n					\n					\n					\n					\n					\n								\n		\n			\n\n\n\n\n\n\n\n\n\nVIP & Sponsor Reception – 6:00 PM – 7:00 PM\nGeneral FUN $75 –  7:00 PM to 9:00 PM\nEACC Texas Members $100 \nNon-Members  $125 \nThe VIP Reception is exclusively reserved for VIP ticket holders.\nVIP ticket holders have access the Sparkling Networking Reception and the main event! \nExperience EUROPE™ is back in Dallas\, in the Harwood District of Dallas. Prepare to immerse yourself in all that Europe has to offer. \n \n \n \n\nGet your Tickets HERE\n \nMark your calendars and prepare to embark on a journey like no other. Europe is calling\, and Texas is ready to answer!\nCheck out last year’s festivity for a sneak peek into what’s in store\nMark your calendars\, and set the clocks ready for departure!\n⚠️All Ticket holders must be 21 & over to attend Experience EUROPE. \n 
URL:https://www.eacctx.com/2event/3rd-annual-experience-europe-in-dallas/
LOCATION:Marie Gabrielle Restaurant and Gardens\, 2728 N Harwood St\, Dallas\, 75201\, United States
CATEGORIES:events,upcoming
END:VEVENT
END:VCALENDAR