BEGIN:VCALENDAR
VERSION:2.0
PRODID:-//European American Chamber of Commerce Texas [EACCTX] | Your Partner for Transatlantic Business Resources - ECPv6.15.20//NONSGML v1.0//EN
CALSCALE:GREGORIAN
METHOD:PUBLISH
X-ORIGINAL-URL:https://www.eacctx.com
X-WR-CALDESC:Events for European American Chamber of Commerce Texas [EACCTX] | Your Partner for Transatlantic Business Resources
REFRESH-INTERVAL;VALUE=DURATION:PT1H
X-Robots-Tag:noindex
X-PUBLISHED-TTL:PT1H
BEGIN:VTIMEZONE
TZID:Europe/Paris
BEGIN:DAYLIGHT
TZOFFSETFROM:+0100
TZOFFSETTO:+0200
TZNAME:CEST
DTSTART:20240331T010000
END:DAYLIGHT
BEGIN:STANDARD
TZOFFSETFROM:+0200
TZOFFSETTO:+0100
TZNAME:CET
DTSTART:20241027T010000
END:STANDARD
BEGIN:DAYLIGHT
TZOFFSETFROM:+0100
TZOFFSETTO:+0200
TZNAME:CEST
DTSTART:20250330T010000
END:DAYLIGHT
BEGIN:STANDARD
TZOFFSETFROM:+0200
TZOFFSETTO:+0100
TZNAME:CET
DTSTART:20251026T010000
END:STANDARD
BEGIN:DAYLIGHT
TZOFFSETFROM:+0100
TZOFFSETTO:+0200
TZNAME:CEST
DTSTART:20260329T010000
END:DAYLIGHT
BEGIN:STANDARD
TZOFFSETFROM:+0200
TZOFFSETTO:+0100
TZNAME:CET
DTSTART:20261025T010000
END:STANDARD
END:VTIMEZONE
BEGIN:VTIMEZONE
TZID:America/Chicago
BEGIN:DAYLIGHT
TZOFFSETFROM:-0600
TZOFFSETTO:-0500
TZNAME:CDT
DTSTART:20240310T080000
END:DAYLIGHT
BEGIN:STANDARD
TZOFFSETFROM:-0500
TZOFFSETTO:-0600
TZNAME:CST
DTSTART:20241103T070000
END:STANDARD
BEGIN:DAYLIGHT
TZOFFSETFROM:-0600
TZOFFSETTO:-0500
TZNAME:CDT
DTSTART:20250309T080000
END:DAYLIGHT
BEGIN:STANDARD
TZOFFSETFROM:-0500
TZOFFSETTO:-0600
TZNAME:CST
DTSTART:20251102T070000
END:STANDARD
BEGIN:DAYLIGHT
TZOFFSETFROM:-0600
TZOFFSETTO:-0500
TZNAME:CDT
DTSTART:20260308T080000
END:DAYLIGHT
BEGIN:STANDARD
TZOFFSETFROM:-0500
TZOFFSETTO:-0600
TZNAME:CST
DTSTART:20261101T070000
END:STANDARD
END:VTIMEZONE
BEGIN:VTIMEZONE
TZID:America/New_York
BEGIN:DAYLIGHT
TZOFFSETFROM:-0500
TZOFFSETTO:-0400
TZNAME:EDT
DTSTART:20240310T070000
END:DAYLIGHT
BEGIN:STANDARD
TZOFFSETFROM:-0400
TZOFFSETTO:-0500
TZNAME:EST
DTSTART:20241103T060000
END:STANDARD
BEGIN:DAYLIGHT
TZOFFSETFROM:-0500
TZOFFSETTO:-0400
TZNAME:EDT
DTSTART:20250309T070000
END:DAYLIGHT
BEGIN:STANDARD
TZOFFSETFROM:-0400
TZOFFSETTO:-0500
TZNAME:EST
DTSTART:20251102T060000
END:STANDARD
BEGIN:DAYLIGHT
TZOFFSETFROM:-0500
TZOFFSETTO:-0400
TZNAME:EDT
DTSTART:20260308T070000
END:DAYLIGHT
BEGIN:STANDARD
TZOFFSETFROM:-0400
TZOFFSETTO:-0500
TZNAME:EST
DTSTART:20261101T060000
END:STANDARD
END:VTIMEZONE
BEGIN:VTIMEZONE
TZID:Europe/Helsinki
BEGIN:DAYLIGHT
TZOFFSETFROM:+0200
TZOFFSETTO:+0300
TZNAME:EEST
DTSTART:20240331T010000
END:DAYLIGHT
BEGIN:STANDARD
TZOFFSETFROM:+0300
TZOFFSETTO:+0200
TZNAME:EET
DTSTART:20241027T010000
END:STANDARD
BEGIN:DAYLIGHT
TZOFFSETFROM:+0200
TZOFFSETTO:+0300
TZNAME:EEST
DTSTART:20250330T010000
END:DAYLIGHT
BEGIN:STANDARD
TZOFFSETFROM:+0300
TZOFFSETTO:+0200
TZNAME:EET
DTSTART:20251026T010000
END:STANDARD
BEGIN:DAYLIGHT
TZOFFSETFROM:+0200
TZOFFSETTO:+0300
TZNAME:EEST
DTSTART:20260329T010000
END:DAYLIGHT
BEGIN:STANDARD
TZOFFSETFROM:+0300
TZOFFSETTO:+0200
TZNAME:EET
DTSTART:20261025T010000
END:STANDARD
END:VTIMEZONE
BEGIN:VEVENT
DTSTART;TZID=Europe/Paris:20250406T113000
DTEND;TZID=Europe/Paris:20250406T190000
DTSTAMP:20260420T020705
CREATED:20250327T143321Z
LAST-MODIFIED:20250327T151440Z
UID:52819-1743939000-1743966000@www.eacctx.com
SUMMARY:Eataly Pizza Fest - Dallas
DESCRIPTION:On April 6th\, get ready for Eataly Pizza Fest – Dallas\, the largest\, all-inclusive\, citywide pizza festival bringing together more than 30 of DFW’s best pizza spots to celebrate one of the world’s favorite foods. \nYour all-inclusive tickets give you access to 30+ local pizza shops\, Italian wines\, local beers\, live music\, chef demonstrations\, hands-on pizza-making demonstrations\, and even a pizza spinning performance by the U.S Pizza Team. \nFor their inaugural Eataly Pizza Fest\, a portion of proceeds will be donated to New Friends\, New Life’s Liberty Street Garden. \nGet tickets here and use the EACC5 promo code for $5 off! \nParticipating pizzerie include: \n\nAndrew’s American Pizza\nCane Rosso\nCenzo’s Pizza and Deli\nDelucca Gaucho Pizza & Wine\nDoughbird\nEataly\nFireova\nFortunate Son\nGreenville Avenue Pizza Co.\nIl Forno (San Antonio)\nJet’s Pizza\nMimi’s Pizzeria\nNEONY Pizza Works\nParadize Pizzas\nPartenope Ristorante\nPazzeria by Pietro’s (Longview)\nPizzeria Testa\nPoco Fiasco\nPrego Pasta House\nRossopomodoro\nSalisbury’s Pizza\nSan Martin Bistro\nSauceBros\nSouth Polk Pizzeria\nStarship Bagel\nUrban Crust\nVestal’s Catering\n\n\n\n\n\nYour General Admission Ticket Gets You: \n\nAccess to Eataly Pizza Fest from 11:30AM – 2:30PM or 4:00PM-7:00PM\nUnlimited complimentary pizza from 30+ of the best Pizzerias in DFW\nUnlimited Italian wines and local beers (to enjoy responsibly)\nLive Music\nInteractive chef-led demonstrations\n\nYour VIP Ticket Gets You: \n\nEarly Access to Eataly Pizza Fest at 11:00AM or 3:30PM\nAccess to multiple complimentary cocktail bars (to enjoy responsibly)\nExclusive VIP lounge with seating\nItalian desserts provided by Eataly\n\n\n\n\n\nTo purchase a ticket\, please select your preferred time slot and ticket tier (General Admission or VIP). \nGeneral Admission: 11:30AM – 2:30PM or 4:00PM-7:00PM \nVIP: 11:00AM-2:30PM or 3:30PM-7:00PM \nYour time at Eataly Pizza Fest will be limited to your selected slot in order to allow as many people to enjoy the festival as possible without crowds and long lines. \nGeneral Admission Tickets: $65 \nVIP Tickets: $125 \nKids under 10: Free\, when accompanied by a paid ticketed adult (RSVP required. Limit 2 children per ticketed adult. Unregistered kids under 10 will not be allowed entry).
URL:https://www.eacctx.com/2event/eataly-pizza-fest-dallas/
LOCATION:Liberty Street Garden\, 510 Liberty St\, Dallas\, TX\, 75204\, United States
CATEGORIES:Partner Events
ORGANIZER;CN="Eataly":MAILTO:eda.guestrelations@eataly.com
END:VEVENT
BEGIN:VEVENT
DTSTART;TZID=America/Chicago:20250407T173000
DTEND;TZID=America/Chicago:20250407T200000
DTSTAMP:20260420T020705
CREATED:20250327T145117Z
LAST-MODIFIED:20250401T180530Z
UID:52797-1744047000-1744056000@www.eacctx.com
SUMMARY:✨UPCOMING LAUNCH EACC Transatlantic Trade Alliance: An Industry Taskforce with Programs
DESCRIPTION:Logistics\, Supply Chain\, Transportation\, Customs…TARIFFS and Business Risk \nThe EACC Texas announces the launch of a dedicated industry taskforce on trade… encompassing the interconnectedness of supply chain\, logistics\, customs\, tariffs\, transportation and risk. \nSome of the ETTA programs will be members only\, some will be open to the public. \nIf you are interested in knowing more\, join us on April 7th as we launch the first ETTA event at Schulz Trade Law PLLC\, or send a note to see how your company can participate. \nREGISTER HERE
URL:https://www.eacctx.com/2event/txtransatlantictradealliance/
LOCATION:8343 Douglas Ave\, 8343 Douglas Ave\, Dallas\, TX\, 75225
CATEGORIES:events,upcoming
END:VEVENT
BEGIN:VEVENT
DTSTART;TZID=America/New_York:20250409T120000
DTEND;TZID=America/New_York:20250409T133000
DTSTAMP:20260420T020705
CREATED:20250402T144330Z
LAST-MODIFIED:20250402T144702Z
UID:52856-1744200000-1744205400@www.eacctx.com
SUMMARY:Webinar Invitation - Finnish American Business Guild in Dallas\, TX
DESCRIPTION:On April 9\, Cerity Partners\, a wealth management firm with a specialized focus on cross-border personal financial planning whose expertise lies in navigating the unique financial landscapes that international professionals often encounter\, is hosting a webinar in partnership with the Finnish American Business Guild in Texas on the topic of Leaving the U.S.: Financial Planning Tips and Traps.  In the presentation\, they will focus on four key areas: \n\nImmigration and foreign visa programs\, including the “Golden Visa” and special tax holidays\nCross-border tax planning and foreign asset reporting back to the U.S.\nManagement of investment assets left behind in the U.S.\nEstate planning and wealth transfer\, given exposure to inheritance systems of multiple countries\n\nThis complimentary webinar is open to all. \n\nWhen: Wednesday\, April 9 at 12:00 PM CDT\nWhere: Zoom Meeting – Register Here\nMore information about the event: Webinar Information
URL:https://www.eacctx.com/2event/webinar-invitation-finnish-american-business-guild-in-dallas-tx/
CATEGORIES:Partner Events
END:VEVENT
BEGIN:VEVENT
DTSTART;TZID=Europe/Helsinki:20250424T140000
DTEND;TZID=Europe/Helsinki:20250424T150000
DTSTAMP:20260420T020705
CREATED:20250415T142110Z
LAST-MODIFIED:20250415T142242Z
UID:52884-1745503200-1745506800@www.eacctx.com
SUMMARY:Upcoming Webinar: Understanding the Carbon Border Adjustment Mechanism (CABM)
DESCRIPTION:Save the date for the upcoming webinar: “Understanding the Carbon Border Adjustment Mechanism (CBAM)” \n24 April | 14:00 CEST \nWhat does CBAM mean in practice—for EU importers\, international partners\, and the climate transition? Join the upcoming webinar to find out more about: \n\nCBAM and its key objectives\nThe latest simplification proposals adopted by the European Commission\nWhat’s next: scope extension and upcoming regulatory milestones\n\nLean more: https://europa.eu/!CjCnkd
URL:https://www.eacctx.com/2event/upcoming-webinar-understanding-the-carbon-border-adjustment-mechanism-cabm/
CATEGORIES:Partner Events
END:VEVENT
BEGIN:VEVENT
DTSTART;TZID=Europe/Paris:20250424T180000
DTEND;TZID=Europe/Paris:20250424T210000
DTSTAMP:20260420T020705
CREATED:20250314T193810Z
LAST-MODIFIED:20250314T193810Z
UID:52801-1745517600-1745528400@www.eacctx.com
SUMMARY:A Night in the City of Light!
DESCRIPTION:The World Affairs Council of Greater Houston invites you to join them for their International Gala\, where Houston’s global community comes together for an evening of diplomacy\, culture\, and connection. This highly anticipated event promises to be an unforgettable celebration of our city’s international ties and commitment to fostering global engagement. \nThis year’s French-inspired gala is a tribute to Valérie Baraban\, Consul General of France\, and Dean of the Consular Corps of Houston\, celebrating her remarkable leadership and enduring contributions to our city before her return to Paris. Under her guidance\, Houston’s international engagement has flourished\, strengthening ties between our region and the world. \nHonoring Valérie’s influence\, the gala will transform Houston into the ‘City of Lights\,’ featuring an elegant multi-course French culinary experience\, mesmerizing live music\, and skilled caricature artists creating personalized keepsakes. The event provides a rare opportunity to connect with Houston’s top diplomatic\, business\, and industry leaders\, all while supporting educational initiatives that cultivate international understanding for the next generation. \nLearn more here: https://wachouston.org/event/a-night-in-the-city-of-light-gala/
URL:https://www.eacctx.com/2event/a-night-in-the-city-of-light/
LOCATION:Four Seasons Hotel\, 1300 LAMAR ST\, Houston\, TX\, 77010\, United States
CATEGORIES:Partner Events
END:VEVENT
BEGIN:VEVENT
DTSTART;TZID=America/Chicago:20250430T163000
DTEND;TZID=America/Chicago:20250430T190000
DTSTAMP:20260420T020705
CREATED:20250415T185006Z
LAST-MODIFIED:20250415T192638Z
UID:52888-1746030600-1746039600@www.eacctx.com
SUMMARY:International Multi-Chamber Mixer
DESCRIPTION:Join Us on Wednesday\, April 30th for an Exclusive International Networking Event! \nThe Southlake Chamber of Commerce is excited to invite all EACC members to Southlake for this International Networking Event designed to connect global minds and foster meaningful relationships. \nWhether you’re looking to expand your professional network\, explore international opportunities\, or simply connect with like-minded individuals from around the world\, this is the event for you. \nDon’t miss this chance to be part of a truly international experience! \nClick here for the event page
URL:https://www.eacctx.com/2event/international-multi-chamber-mixer/
CATEGORIES:Partner Events,upcoming
END:VEVENT
END:VCALENDAR