BEGIN:VCALENDAR
VERSION:2.0
PRODID:-//European American Chamber of Commerce Texas [EACCTX] | Your Partner for Transatlantic Business Resources - ECPv6.15.20//NONSGML v1.0//EN
CALSCALE:GREGORIAN
METHOD:PUBLISH
X-ORIGINAL-URL:https://www.eacctx.com
X-WR-CALDESC:Events for European American Chamber of Commerce Texas [EACCTX] | Your Partner for Transatlantic Business Resources
REFRESH-INTERVAL;VALUE=DURATION:PT1H
X-Robots-Tag:noindex
X-PUBLISHED-TTL:PT1H
BEGIN:VTIMEZONE
TZID:America/Chicago
BEGIN:DAYLIGHT
TZOFFSETFROM:-0600
TZOFFSETTO:-0500
TZNAME:CDT
DTSTART:20240310T080000
END:DAYLIGHT
BEGIN:STANDARD
TZOFFSETFROM:-0500
TZOFFSETTO:-0600
TZNAME:CST
DTSTART:20241103T070000
END:STANDARD
BEGIN:DAYLIGHT
TZOFFSETFROM:-0600
TZOFFSETTO:-0500
TZNAME:CDT
DTSTART:20250309T080000
END:DAYLIGHT
BEGIN:STANDARD
TZOFFSETFROM:-0500
TZOFFSETTO:-0600
TZNAME:CST
DTSTART:20251102T070000
END:STANDARD
BEGIN:DAYLIGHT
TZOFFSETFROM:-0600
TZOFFSETTO:-0500
TZNAME:CDT
DTSTART:20260308T080000
END:DAYLIGHT
BEGIN:STANDARD
TZOFFSETFROM:-0500
TZOFFSETTO:-0600
TZNAME:CST
DTSTART:20261101T070000
END:STANDARD
END:VTIMEZONE
BEGIN:VTIMEZONE
TZID:America/Chicago
BEGIN:DAYLIGHT
TZOFFSETFROM:-0600
TZOFFSETTO:-0500
TZNAME:CDT
DTSTART:20240310T080000
END:DAYLIGHT
BEGIN:STANDARD
TZOFFSETFROM:-0500
TZOFFSETTO:-0600
TZNAME:CST
DTSTART:20241103T070000
END:STANDARD
BEGIN:DAYLIGHT
TZOFFSETFROM:-0600
TZOFFSETTO:-0500
TZNAME:CDT
DTSTART:20250309T080000
END:DAYLIGHT
BEGIN:STANDARD
TZOFFSETFROM:-0500
TZOFFSETTO:-0600
TZNAME:CST
DTSTART:20251102T070000
END:STANDARD
BEGIN:DAYLIGHT
TZOFFSETFROM:-0600
TZOFFSETTO:-0500
TZNAME:CDT
DTSTART:20260308T080000
END:DAYLIGHT
BEGIN:STANDARD
TZOFFSETFROM:-0500
TZOFFSETTO:-0600
TZNAME:CST
DTSTART:20261101T070000
END:STANDARD
END:VTIMEZONE
BEGIN:VTIMEZONE
TZID:Europe/Paris
BEGIN:DAYLIGHT
TZOFFSETFROM:+0100
TZOFFSETTO:+0200
TZNAME:CEST
DTSTART:20240331T010000
END:DAYLIGHT
BEGIN:STANDARD
TZOFFSETFROM:+0200
TZOFFSETTO:+0100
TZNAME:CET
DTSTART:20241027T010000
END:STANDARD
BEGIN:DAYLIGHT
TZOFFSETFROM:+0100
TZOFFSETTO:+0200
TZNAME:CEST
DTSTART:20250330T010000
END:DAYLIGHT
BEGIN:STANDARD
TZOFFSETFROM:+0200
TZOFFSETTO:+0100
TZNAME:CET
DTSTART:20251026T010000
END:STANDARD
BEGIN:DAYLIGHT
TZOFFSETFROM:+0100
TZOFFSETTO:+0200
TZNAME:CEST
DTSTART:20260329T010000
END:DAYLIGHT
BEGIN:STANDARD
TZOFFSETFROM:+0200
TZOFFSETTO:+0100
TZNAME:CET
DTSTART:20261025T010000
END:STANDARD
END:VTIMEZONE
BEGIN:VEVENT
DTSTART;TZID=America/Chicago:20250115T120000
DTEND;TZID=America/Chicago:20250115T133000
DTSTAMP:20260420T062359
CREATED:20241213T184724Z
LAST-MODIFIED:20250102T195542Z
UID:52338-1736942400-1736947800@www.eacctx.com
SUMMARY:New Year's Luncheon - PNC Plaza\, Houston
DESCRIPTION:  \nStart 2025 on a high note at our New Year Luncheon\, hosted by PNC at the iconic PNC Plaza on Post Oak Boulevard in Houston. This special event brings together the transatlantic business community to celebrate the opportunities and partnerships ahead. \nEnjoy a dynamic networking experience and connect with industry leaders during the luncheon. PNC’s expertise in Multinational Corporate Banking will be featured\, highlighting tailored solutions for businesses navigating cross-border opportunities. \nWe will also present key EACC Texas initiatives\, services\, and opportunities designed to support our members’ growth\, including the exciting prospects available through the EEN platform. The EACC US Consortium EEN Mentor and expert Turker Adakale from the Izmir Turkey Chamber\, will join us to explain and showcase the power of the network for EACC members and future members. \nThis is a chance to explore how businesses can leverage opportunities on both sides of the Atlantic and make the most of the resources at their disposal for a successful year ahead. \nLet’s make 2025 a year to remember together! \n  \nEvent Details: \n\nDate: January 15th\, 2025\nTime: 12:00 PM – 1:30 PM\nLocation: PNC Plaza\, 2200 Post Oak Blvd\, Houston\, TX 77056\n\nFREE TO ATTEND \n\nOpen to EACC Texas Member + 1 Guest\nEU Consular Corps and prospective members\, please contact info@eacctx.com\n\n  \nREGISTER HERE\n  \nWe would like to extend our sincere thanks to PNC for their active role in supporting and enhancing the business economy\, and for making this event possible. \n\n  \n \nPNC offers a wide range of services for all our customers\, from individuals and small businesses to corporations and government entities. No matter how simple or complicated your needs\, we’re sure to have the products\, knowledge and resources necessary for financial success. \n  \n  \nFor more information about PNC and their commitment to supporting business growth.
URL:https://www.eacctx.com/2event/new-years-luncheon-pnc-plaza-houston/
LOCATION:PNC Plaza\, 2200 Post Oak Blvd\, Houston\, TX\, 77056
CATEGORIES:events,upcoming
END:VEVENT
BEGIN:VEVENT
DTSTART;TZID=America/Chicago:20250116T173000
DTEND;TZID=America/Chicago:20250116T193000
DTSTAMP:20260420T062359
CREATED:20250103T175614Z
LAST-MODIFIED:20250110T212455Z
UID:52360-1737048600-1737055800@www.eacctx.com
SUMMARY:Sparkling New Year Reception - EACC Texas European Trade office\, Prism Center - DALLAS
DESCRIPTION:  \nJoin Us to Celebrate a Bright Start to 2025!\nKick off the New Year in Dallas with the EACC Texas at our New Year’s Sparkling Reception\, hosted in the heart of the Dallas International District and proudly sponsored by Point\, a valued member and strong supporter of EACC Texas. This special event is dedicated to celebrating our members and the exciting opportunities that 2025 holds for the Chamber and our vibrant network. \nThis special evening will feature a warm welcome to Turker Adakale\, Enterprise Europe Network (EEN) Mentor and Expert from the Izmir Turkey Chamber. Turker’s presence highlights the wealth of possibilities available through the EEN and its global network\, which continues to strengthen and expand opportunities for our members. \nREGISTER HERE\nEvent Details: \nDate: Thursday\, January 16 \nLocation: 5580 Peterson Lane\, Dallas\, TX \n\n5:30 PM: Registration and Networking\n6:00 PM: New Year’s Greetings & Welcome by EACC Texas\n\nIntroduction of EACC US Consortium EEN Mentor and Expert\, Turker Adakale\, from the Izmir Turkey Chamber. Learn about Turker’s role as an EEN Mentor and Expert\, and how the Enterprise Europe Network can benefit your business\n\n\n6:45 PM: Sparkling Reception\n\nAttendance: \n\nFree to Attend: EACC Texas Members + 1 Guest\nEU Consular Corps: Please contact info@eacctx.com for RSVP details\nNon-Members: $30 per person\n\nParking: Available in front of the Prism Center \nEnjoy a casual networking reception with sparkling drinks\, appetizers\, and the chance to build new connections\n  \nWho Should Attend: \n\nEACC Texas Members\nBoard Members\nPartners and Prospective Members\nAnyone interested in learning more about the Enterprise Europe Network and building international business connections\n\n  \nWe would like to extend our sincere thanks to Point for their active role in supporting EACC Texas initiatives\, and for making this event possible. \n  \n \nPoint is an independent\, full-service marketing communications agency that originally spun out of agency mainstay\, Tracy Locke. For thirty plus years\, Point have been fueling business growth for start-ups\, midsize-to-large corporations\, and Fortune 500 companies across the country. \nFor more information
URL:https://www.eacctx.com/2event/sparkling-new-year-reception-eacc-texas-european-trade-office-prism-center-dallas/
LOCATION:EACC Texas – Prism Center\, 5580 Peterson Lane\, Suite 175 \, Dallas\, Texas\, 75240
CATEGORIES:events,upcoming
END:VEVENT
BEGIN:VEVENT
DTSTART;TZID=America/Chicago:20250130T180000
DTEND;TZID=America/Chicago:20250131T200000
DTSTAMP:20260420T062359
CREATED:20250124T150212Z
LAST-MODIFIED:20250124T183656Z
UID:52555-1738260000-1738353600@www.eacctx.com
SUMMARY:SACC Dallas: Designing a Sustainable Future
DESCRIPTION:  \n\nDesigning a Sustainable Future\n\nJoin us for an engaging evening with GFF Design\, an award-winning Dallas-based multi-disciplinary design and architecture firm\, as we explore how Sweden’s holistic approach to urban planning and Texas’ innovative solutions can inform and inspire one another in addressing the growing need for sustainable development.\nSustainability is an ever-increasing topic within the architecture and design community and at the city planning level. GFF will discuss two initiatives that significantly influence architecture and development in the city of Dallas:  The AIA Framework for Design Excellence and the Dallas Comprehensive Environmental and Climate Action Plan (CECAP).Alongside this discussion we will review a range of past projects to highlight both successes and difficulties in implementing these measures in this market\, and tips for how to apply these measures to future projects. \n \nGFF Design – Firm Profile \nGFF is a distinguished award-winning multi-disciplinary design firm based in Dallas with a record of success that began with our founding in 1982. Today our staff of 107 offers architecture\, interior design\, and planning throughout the US. Asked to articulate a design philosophy\, we emphasize innovation\, sustainability and lasting value – an architecture well-suited for clients and appropriate for its time and context. We are passionate about creating positive change for both people and the planet. Our work can have a profound impact on individuals\, communities\, and our planet\, and we are committed to designing sustainable buildings and landscapes. By using environmentally-friendly materials\, incorporating passive and active sustainable design approaches\, we strive to design for sustainability and work closely with our clients to ensure that our projects improve quality of life for the people who use them.\nhttps://gff.com/ \n\n\nFees/Admission \n\nThere is no fee for this event\, but attendees must register as AAC Peak Parking must have your name on the list in order to let you into the parking garage. \nPARKING INSTRUCTIONS \n\n\nLocation\nGFF Design\n3030 Nowitzki Way\, Suite 400\nDallas\, Texas 75219\n\nRegister\n\n  \n\nHope you’ll join us!
URL:https://www.eacctx.com/2event/sacc-dallas-designing-a-sustainable-future/
LOCATION:GFF Design\, 3030 Nowitzki Way\, Suite 400\, Dallas\, TX\, 75219\, United States
CATEGORIES:Partner Events
ORGANIZER;CN="Swedish American Chamber of Commerce":MAILTO:lena.starostine@gff.com
END:VEVENT
BEGIN:VEVENT
DTSTART;TZID=Europe/Paris:20250131T090000
DTEND;TZID=Europe/Paris:20250131T153000
DTSTAMP:20260420T062359
CREATED:20250103T172433Z
LAST-MODIFIED:20250103T172433Z
UID:52371-1738314000-1738337400@www.eacctx.com
SUMMARY:SMU Dedman School of Law | SMU Science & Technology Retail Law\, Technology and Policy Symposium
DESCRIPTION:  \n \n  \nThe SMU Science & Technology Law Review will host its 2025 Annual Symposium\, “Retail Law\, Technology\, and Policy\,” on January 31\, 2025\, at the SMU Dedman School of Law. This event will bring together esteemed scholars\, practitioners\, and industry experts to explore the legal implications of emerging technologies and trends in the retail sector. Participants can expect engaging discussions on critical topics such as intellectual property\, privacy\, and artificial intelligence across four panels: \n\n1. IP and Brand Protection Considerations for Retailers\n2. Advertising\, Data Collection\, and Privacy in the Retail Industry\n3. Retail and AI: Risks\, Opportunities\, and Ethics\n4. Retail Reinvented: Business Trends\, Technology\, and Legal Challenges to Know in 2025\n\nDetails\nFriday\, January 31\, 2025\n9:00 AM – 3:30 PM CST \n\nSMU Dedman School of Law\, Karcher Auditorium and online via Zoom\n5.00 CLE credit (0.50 Ethics) will be available\nFree for SMU students & faculty\n$30 Early Bird registration fee through Monday January 13\, 2025\n$45 Regular registration fee\n\nREGISTER HERE\nSpeakers & Moderators\nPanel One: IP and Brand Protection Considerations for Retailers \nBrian L. Frye\, J. David Rosenberg College of Law\, University of Kentucky \nDaniel C.K. Chow\, Moritz College of Law\, Ohio State University \nDanielle Garno\, Holland & Knight LLP & Miami University School of Law \nAlana Matthews\, Alautus Clothing Company & SMU Dedman School of Law \n  \nPanel Two: Advertising\, Data Collection\, and Privacy in the Retail Industry \nKevin T. Frazier\, St. Thomas University College of Law \nDana Caproni\, Fossil Group\, Inc. \nKyle Dull\, Squire Patton Boggs \nKatie Mullen\, JCPenney & Alex Lee\, Inc. \nJay Johnson\, Charles Schwab & SMU Dedman School of Law \n  \nPanel Three: Retail and AI: Risks\, Opportunities\, and Ethics \nMike Schuster\, Terry College of Business\, University of Georgia \nRobert S. Hill\, Holland & Knight LLP \nBradley C. Weber\, Troutman Pepper Locke LLP \nChristian Beckner\, National Retail Federation \n  \nPanel Four: Retail Reinvented: Business Trends\, Technology\, and Legal Challenges to Know in 2025 \nLeslie Vaughn Mahre\, Holland & Knight \nHeather Bethancourt\, McDermott Will & Emery \nAli Mize\, Neiman Marcus Group \nRyan Parley\, JCPenney & SMU Dedman School of Law
URL:https://www.eacctx.com/2event/smu-dedman-school-of-law-smu-science-technology-retail-law-technology-and-policy-symposium/
LOCATION:SMU – Dallas
CATEGORIES:Partner Events
END:VEVENT
END:VCALENDAR