BEGIN:VCALENDAR
VERSION:2.0
PRODID:-//European American Chamber of Commerce Texas [EACCTX] | Your Partner for Transatlantic Business Resources - ECPv6.15.20//NONSGML v1.0//EN
CALSCALE:GREGORIAN
METHOD:PUBLISH
X-ORIGINAL-URL:https://www.eacctx.com
X-WR-CALDESC:Events for European American Chamber of Commerce Texas [EACCTX] | Your Partner for Transatlantic Business Resources
REFRESH-INTERVAL;VALUE=DURATION:PT1H
X-Robots-Tag:noindex
X-PUBLISHED-TTL:PT1H
BEGIN:VTIMEZONE
TZID:America/Chicago
BEGIN:DAYLIGHT
TZOFFSETFROM:-0600
TZOFFSETTO:-0500
TZNAME:CDT
DTSTART:20230312T080000
END:DAYLIGHT
BEGIN:STANDARD
TZOFFSETFROM:-0500
TZOFFSETTO:-0600
TZNAME:CST
DTSTART:20231105T070000
END:STANDARD
BEGIN:DAYLIGHT
TZOFFSETFROM:-0600
TZOFFSETTO:-0500
TZNAME:CDT
DTSTART:20240310T080000
END:DAYLIGHT
BEGIN:STANDARD
TZOFFSETFROM:-0500
TZOFFSETTO:-0600
TZNAME:CST
DTSTART:20241103T070000
END:STANDARD
BEGIN:DAYLIGHT
TZOFFSETFROM:-0600
TZOFFSETTO:-0500
TZNAME:CDT
DTSTART:20250309T080000
END:DAYLIGHT
BEGIN:STANDARD
TZOFFSETFROM:-0500
TZOFFSETTO:-0600
TZNAME:CST
DTSTART:20251102T070000
END:STANDARD
END:VTIMEZONE
BEGIN:VTIMEZONE
TZID:Europe/Paris
BEGIN:DAYLIGHT
TZOFFSETFROM:+0100
TZOFFSETTO:+0200
TZNAME:CEST
DTSTART:20230326T010000
END:DAYLIGHT
BEGIN:STANDARD
TZOFFSETFROM:+0200
TZOFFSETTO:+0100
TZNAME:CET
DTSTART:20231029T010000
END:STANDARD
BEGIN:DAYLIGHT
TZOFFSETFROM:+0100
TZOFFSETTO:+0200
TZNAME:CEST
DTSTART:20240331T010000
END:DAYLIGHT
BEGIN:STANDARD
TZOFFSETFROM:+0200
TZOFFSETTO:+0100
TZNAME:CET
DTSTART:20241027T010000
END:STANDARD
BEGIN:DAYLIGHT
TZOFFSETFROM:+0100
TZOFFSETTO:+0200
TZNAME:CEST
DTSTART:20250330T010000
END:DAYLIGHT
BEGIN:STANDARD
TZOFFSETFROM:+0200
TZOFFSETTO:+0100
TZNAME:CET
DTSTART:20251026T010000
END:STANDARD
END:VTIMEZONE
BEGIN:VEVENT
DTSTART;TZID=America/Chicago:20241204T083000
DTEND;TZID=America/Chicago:20241204T103000
DTSTAMP:20260420T074300
CREATED:20241111T174542Z
LAST-MODIFIED:20241120T155745Z
UID:52225-1733301000-1733308200@www.eacctx.com
SUMMARY:** POSTPONED** EACC Network Webinar | Transatlantic Expansion Barometer
DESCRIPTION:  \n**The event has been postponed to 2025**\n\n  \n\n \n  \nJoin us on December 4th for an in-depth presentation of the EACC-OCO Global Transatlantic Barometer findings\, insights made possible through consultations with companies and entrepreneurs on both sides of the Atlantic. \nThis survey offers a pulse on mid-size businesses’ expansion plans in both Europe and the United States\, providing valuable perspectives on critical challenges and opportunities. \nKey themes include: \n\nInformation barriers\nThe impact of the Inflation Reduction Act (IRA)\nShifting economic growth rates\n\nThis webinar co-hosted by EACC chapters across Europe and the U.S. will be accessible both online and in person.\n⚠️The in-person program is reserved for EACC members and select special guests. If you wish to attend or are interested in becoming a member of EACC Texas\, please reach outto discuss participation opportunities.\nREGISTER HERE\nEACC Texas invites members and special guests to join us in person for a viewing party at the EACC Texas European Trade office\, located in the Dallas International District. \nWe’ll begin with breakfast\, followed by the program screening. Afterward\, attendees are invited to engage in a discussion on the results and their implications for transatlantic business. \n\nEvent details: \n\n8:30 am| Registration\, Breakfast (for in-person attendees)\n9:00 am – 10:00 am | Program (In-Person Viewing Party & Online Access)\n10:00 am – 10:30 am | Discussion (In-Person)\n\nLocation: \n\nOnline: A link will be shared in the days leading up to the event.\nIn-person: EACC Texas European Trade office\, 5580 Peterson Lane\, Suite 175 Dallas\, TX 75240\n\n\n\n\n\n\n\nOur webinars are recorded and disseminated via our social media channels. If you don’t want to be visible\, deactivate your camera and microphone.
URL:https://www.eacctx.com/2event/eacc-network-webinar-transatlantic-expansion-barometer/
LOCATION:EACC Texas – Prism Center\, 5580 Peterson Lane\, Suite 175 \, Dallas\, Texas\, 75240
CATEGORIES:events,upcoming
END:VEVENT
BEGIN:VEVENT
DTSTART;TZID=Europe/Paris:20241206T100000
DTEND;TZID=Europe/Paris:20241206T113000
DTSTAMP:20260420T074300
CREATED:20241120T221339Z
LAST-MODIFIED:20241120T221339Z
UID:52270-1733479200-1733484600@www.eacctx.com
SUMMARY:Hungarian-to-Orbit - HUNOR | Discussion Hungary Journey Into Space
DESCRIPTION:  \n  \n  \nCONFIRM ATTENDANCE TO:\nzsolt.menesi@mfa.gov.hu
URL:https://www.eacctx.com/2event/hungarian-to-orbit-hunor-discussion-hungary-journey-into-space/
LOCATION:Bay Area Houston Economic Partnership\, 1150 Gemini St\, Houston\, Texas\, 77058
CATEGORIES:Partner Events
END:VEVENT
END:VCALENDAR