BEGIN:VCALENDAR
VERSION:2.0
PRODID:-//European American Chamber of Commerce Texas [EACCTX] | Your Partner for Transatlantic Business Resources - ECPv6.15.20//NONSGML v1.0//EN
CALSCALE:GREGORIAN
METHOD:PUBLISH
X-WR-CALNAME:European American Chamber of Commerce Texas [EACCTX] | Your Partner for Transatlantic Business Resources
X-ORIGINAL-URL:https://www.eacctx.com
X-WR-CALDESC:Events for European American Chamber of Commerce Texas [EACCTX] | Your Partner for Transatlantic Business Resources
REFRESH-INTERVAL;VALUE=DURATION:PT1H
X-Robots-Tag:noindex
X-PUBLISHED-TTL:PT1H
BEGIN:VTIMEZONE
TZID:Europe/Paris
BEGIN:DAYLIGHT
TZOFFSETFROM:+0100
TZOFFSETTO:+0200
TZNAME:CEST
DTSTART:20230326T010000
END:DAYLIGHT
BEGIN:STANDARD
TZOFFSETFROM:+0200
TZOFFSETTO:+0100
TZNAME:CET
DTSTART:20231029T010000
END:STANDARD
BEGIN:DAYLIGHT
TZOFFSETFROM:+0100
TZOFFSETTO:+0200
TZNAME:CEST
DTSTART:20240331T010000
END:DAYLIGHT
BEGIN:STANDARD
TZOFFSETFROM:+0200
TZOFFSETTO:+0100
TZNAME:CET
DTSTART:20241027T010000
END:STANDARD
BEGIN:DAYLIGHT
TZOFFSETFROM:+0100
TZOFFSETTO:+0200
TZNAME:CEST
DTSTART:20250330T010000
END:DAYLIGHT
BEGIN:STANDARD
TZOFFSETFROM:+0200
TZOFFSETTO:+0100
TZNAME:CET
DTSTART:20251026T010000
END:STANDARD
END:VTIMEZONE
BEGIN:VTIMEZONE
TZID:America/Chicago
BEGIN:DAYLIGHT
TZOFFSETFROM:-0600
TZOFFSETTO:-0500
TZNAME:CDT
DTSTART:20230312T080000
END:DAYLIGHT
BEGIN:STANDARD
TZOFFSETFROM:-0500
TZOFFSETTO:-0600
TZNAME:CST
DTSTART:20231105T070000
END:STANDARD
BEGIN:DAYLIGHT
TZOFFSETFROM:-0600
TZOFFSETTO:-0500
TZNAME:CDT
DTSTART:20240310T080000
END:DAYLIGHT
BEGIN:STANDARD
TZOFFSETFROM:-0500
TZOFFSETTO:-0600
TZNAME:CST
DTSTART:20241103T070000
END:STANDARD
BEGIN:DAYLIGHT
TZOFFSETFROM:-0600
TZOFFSETTO:-0500
TZNAME:CDT
DTSTART:20250309T080000
END:DAYLIGHT
BEGIN:STANDARD
TZOFFSETFROM:-0500
TZOFFSETTO:-0600
TZNAME:CST
DTSTART:20251102T070000
END:STANDARD
END:VTIMEZONE
BEGIN:VEVENT
DTSTART;TZID=Europe/Paris:20241114T180000
DTEND;TZID=Europe/Paris:20241114T203000
DTSTAMP:20260420T091043
CREATED:20241021T152050Z
LAST-MODIFIED:20241104T220648Z
UID:51755-1731607200-1731616200@www.eacctx.com
SUMMARY:Schulz Trade Law | Navigating Texas Commerce: M&A\, Sanctions\, Tariffs & Trade Challenge
DESCRIPTION:  \n\n  \nMark your calendars and join us for this upcoming event  “Navigating Texas Commerce: M&A\, Sanctions\, Tariffs & Trade Challenges” on November 14\, 2024\, from 6:00 – 8:30 PM at the Conference Center\, 8343 Douglas Avenue\, Dallas\, TX 75225. \nDistinguished panelists include Kelly McCorkle and Matt Savage with Moderator Mark Jenkins. Special thanks to co-sponsors Adam Tunks with the DFW MBA Alumni Association and Ben E. Keith Company. \n  \nEvent details \n\nThursday\, November 14\n6:00 pm – 8:30 pm\n\n  \nLocation \nConference Center \n8343 Douglas Avenue\, Dallas\, TX 75225 \nFree event  \nREGISTER HERE\nSpeaker Bios:\nKelly McCorkle\nSenior Trade Advisor\, Schulz Trade Law PLLC \n \nAs a senior trade analyst\, Kelly combines her wealth of industry knowledge and her broad scope of import/export experience to routinely provide clients with best practice solutions to tackle international trade challenges. \nLeveraging 15 years in trade compliance advisement\, Kelly uses her expertise to assist clients from a wide array of sectors\, including oil and gas\, aerospace\, electronics\, automotive\, and software to navigate the complex web of government regulations. Kelly is well versed in all aspects of the government trade regulations to include the International Traffic in Arms Regulations (ITAR)\, the Export Administration Regulations (EAR)\, the Foreign Trade Regulations (FTR)\, the Office of Foreign Assets Control (OFAC)\, the Foreign Corrupt Practices Act (FCPA) and Customs import regulations. \nFull bio \n——————————————————————————————————— \nMatt Savage\nTrade Analyst\, Schulz Trade Law PLLC\n \nMatt Savage is a Trade Analyst with over twenty years of experience in international trade compliance. He has done extensive work in both U.S. trade regulations for various freight forwarders\, customs brokers\, importers\, and exporters. As a seasoned trade professional\, he brings a depth of knowledge from industry that translates to practical client orientated solutions. \nUsing his unique experience\, Matt provides strategic solutions for trade compliance concerns. This often involves helping clients identify compliance gaps in areas like international supply chain\, procurement support and global logistics. He also works with a wide array of industries\, including oil and gas\, aerospace\, telecommunications\, and software. \nFull bio \n——————————————————————————————————— \nModerated by: \n\n\nMark Jenkins\nManaging Director\, Focus Management Group \n \n\n\n\n\n\nMark Jenkins is a Managing Director with FMG. He has over 30 years of experience in litigation support\, forensic accounting\, fraud examination\, and global investigations. He has developed and evaluated anti-bribery and corruption (“ABAC”) programs and compliance policies and procedures to prevent fraud\, corruption\, waste and abuse. \nFull Bio
URL:https://www.eacctx.com/2event/schulz-trade-law-navigating-texas-commerce-ma-sanctions-tariffs-trade-challenge/
LOCATION:8343 Douglas Ave\, 8343 Douglas Ave\, Dallas\, TX\, 75225
CATEGORIES:Partner Events
END:VEVENT
BEGIN:VEVENT
DTSTART;TZID=Europe/Paris:20241119T103000
DTEND;TZID=Europe/Paris:20241119T120000
DTSTAMP:20260420T091043
CREATED:20241107T154012Z
LAST-MODIFIED:20241107T154012Z
UID:52218-1732012200-1732017600@www.eacctx.com
SUMMARY:Schulz Trade Law | Update on Sanctions and Embargoes - WEBINAR
DESCRIPTION:  \n\n  \nWith the ever-evolving landscape of sanctions and embargoes\, staying informed is crucial. Join Michelle Schulz on November 19 for an insightful session titled “Update on Sanctions and Embargoes” as part of ICPA’s ongoing Webinar series. Michelle will share the latest updates on U.S. sanctions and embargoes\, using real-life examples to highlight practical implications. Ensure your compliance procedures are up to date and minimize your risk. \n  \nEvent details \n\nTuesday\, November 19\n10:30 am – 12:00 pm CST\n\nOnDemand replay good until January 19\, 2025 12:00 PM Central Time\n  \nLocation \nVirtual \nICPA Member Rate $35 / Non-Member Rate $75 \nPrint Certificate of Completion (Will not work until AFTER you attend the event!) \nREGISTER HERE\nSpeaker Bios:\nMichelle Schulz\nManaging Partner – International Trade and Customs Attorney\, Schulz Trade Law PLLC \n \nMichelle Schulz advises corporate clients on complex international trade and Customs compliance\, focusing on export/import disclosures\, investigations\, penalties\, encryption controls\, and more. \nWith over 22 years of experience\, she served two terms on the President’s Export Council Subcommittee on Export Administration\, advising the U.S. Department of Commerce and U.S. Trade Representative on Export Control Reform. She also spent 10 years as a senior advisor on the Industry Trade Advisory for Aerospace (ITAC-1). \nLicensed to practice before the Supreme Court of Texas and the U.S. Court of International Trade\, Michelle represents Fortune 500 companies across industries like oil and gas\, aerospace\, healthcare\, and automotive. She is well-versed in defense exports under ITAR\, dual-use exports under EAR\, and other U.S. trade regulations including FCPA\, FTZs\, and CFIUS. \nMichelle is known for her solution-focused approach\, negotiating effectively with enforcement agencies and collaborating with corporate teams to design robust trade compliance programs that mitigate risk. \nFull bio \n\n\n\n 
URL:https://www.eacctx.com/2event/schulz-trade-law-update-on-sanctions-and-embargoes-webinar/
LOCATION:Virtual
CATEGORIES:Partner Events
END:VEVENT
BEGIN:VEVENT
DTSTART;TZID=Europe/Paris:20241120T110000
DTEND;TZID=Europe/Paris:20241120T120000
DTSTAMP:20260420T091043
CREATED:20241107T155353Z
LAST-MODIFIED:20241112T230243Z
UID:52222-1732100400-1732104000@www.eacctx.com
SUMMARY:EACC New York | Quarterly EU Economic Update - The New EU Economic Statecraft – Promoting European Growth\, Competitiveness\, and Security in the 21st Century
DESCRIPTION:  \n \n  \nJoin us for an in-depth discussion of the economic outlook in Europe and the major challenges and opportunities facing the EU and US over the coming year. The focus topic of this webinar will be the European competitiveness in light of growth and security. \n  \nEvent details \n\nWednesday\, November 20\n11:00 am – 12:00 pm CST\n\n  \nLocation \nOnline \nREGISTER HERE\nSpeakers:\n• Ben Carliner\, Senior Economist\, DELEGATION OF THE EU TO THE U.S.\n• Nora Hesse\, Head of Section – Economic & Financial Affairs\, DELEGATION OF THE EU TO THE U.S.\n• Yvonne Bendinger-Rothschild\, Executive Director\, EACCNY [Moderator] \n  \n\n\n\nThis webinar was organized in partnership with:
URL:https://www.eacctx.com/2event/eaccny-quarterly-eu-economic-update-november/
LOCATION:Virtual
CATEGORIES:Partner Events
END:VEVENT
BEGIN:VEVENT
DTSTART;TZID=America/Chicago:20241121T090000
DTEND;TZID=America/Chicago:20241121T100000
DTSTAMP:20260420T091043
CREATED:20241031T213439Z
LAST-MODIFIED:20241101T162922Z
UID:52164-1732179600-1732183200@www.eacctx.com
SUMMARY:EEN | Doing business in the United States: what you need to know about the US employment & human resources
DESCRIPTION:Embracing Global Markets Webinar Series\nThe webinar series ‘Embracing Global Markets’ supports European small and medium-sized enterprises and start-ups to innovate and expand in Asia\, Africa and the Americas. The webinars are hosted by experts of various European Commission services and the ‘Enterprise Europe Network’\, the world’s largest business service provider. \nWho should attend? \nThe webinar aims at European small and medium-sized enterprises (SMEs)\, start-ups (ready to scale internationally)\, beneficiaries or holders of seals of excellence of the European Innovation Council\, European clusters and cluster managers\, business advisers of the Enterprise Europe Network and other European business support organizations\, including all stakeholders of the ‘Friends of EEN’ initiative. \nObjectives \nThis webinar will provide valuable insights for companies looking to navigate the complexities of employment and human resources in the U.S. Participants will learn about the legal landscape\, cultural nuances\, and practical strategies for successful operations. \nThis webinar will focus on the following key topics: \nNavigating the U.S. legal environment and employment regulations \n\nAn in-depth look at federal\, state\, and local laws governing employment practices\nKey regulations impacting hiring\, workplace rights\, employee benefits\, and labor relations\nUnderstanding compliance requirements to avoid legal pitfalls and ensure fair employment practices\n\nCompliance\, hiring\, and termination practices \n\nEssential elements of employment contracts and hiring agreements\, including best practices for drafting and negotiation\nNavigating employee benefits and compensation structures while maintaining compliance with labor laws\nBest practices for employee termination\, ensuring legal compliance and minimizing risks\nUnderstanding U.S. working culture and common challenges for expansion\n\nInsights into the American workplace culture\, values\, and expectations \n\nCommon obstacles faced by companies expanding to the U.S. and effective strategies to overcome them\, ensuring successful integration\nJoin us for an informative session that will equip you with the knowledge and tools to successfully manage employment and HR in the U.S.\n\nSet the date on your calendars\nand tune in live on Webex to interact with our expert speakers\,\nor catch the webinar live on YouTube!\nDon’t miss out on this valuable opportunity\nto gain insights and ask questions.\n  \n\n\nSpeakers\n\n\n\n\n \nCecilia Zapata-Harms \nManaging partner\, 3rdEyeBio\n \nCecilia Zapata-Harms is a founder\, entrepreneur\, and executive with over 30 years of experience in the life science\, biotechnology\, and healthcare industries. She has held leadership roles in strategy\, joint ventures\, startup development\, program administration\, and has extensive experience with mergers and acquisitions. \n————————————————————- \n\n\n \nAshley Prickett Cuttino \nPartner\, Ogletree Deakins \nAshley is a partner at Ogletree Deakins handling the complexities of multi-plaintiff\, labor and employment matters across multiple state and federal jurisdictions. She is also actively involved in raising the profile of women in the legal profession\, through work in her own firm and service to professional organisations. \n————————————————————- \n \nKatie Busbee \nAssociate\, Haynsworth Sinkler Boyd\n \nKatie Busbee is an associate in Haynsworth Sinkler Boyd’s Greenville office and focuses her practice on economic development and employment law matters. \n————————————————————- \n \nLisa Patti \nFounder\, C3Speech \nLisa M. Patti M.S.\, CCC-SLP is the founder of C3Speech. She has been working with international executives\, and founders for more than 15 years. Her coaching is rooted in the science of Speech Pathology and has evolved through hands-on experience in the worlds of startups\, scale ups and corporates. \n————————————————————- \n \nFernanda Sieverling  \nExecutive Director\, EACC Carolinas \nFernanda Sieverling\, a former European lawyer in Germany\, Portugal\, and Brazil\, now serves as the Executive Director of EACC-Carolinas. She thrives on connecting people in the global business community. Fluent in German\, English\, Portuguese\, and intermediate Spanish. \n————————————————————- \n \nThomas Steiert \nProject Adviser\, European Innovation Council and SMEs Executive Agency (EISMEA) \nThomas is an experienced adviser for business services in the Single Market Programme/SME Pillar/Internal Market and Support to Standardisation unit. \n————————————————————- \n \nChristos Skouras \nPolicy officer\, European Commission \nChristos is a Policy Officer in the Unit D2 Industrial Forum\, Alliances\, Clusters of the Directorate General for Internal Market\, Industry\, Entrepreneurship and SMEs (DG GROW). He plays a key role in the Enterprise Europe Network (EEN)\, overseeing sector and thematic groups across EU and non-EU countries\, while coordinating with Commission services and stakeholders. \n\n\n\n\n\n\n\n\n\n\n\n\n\nOur webinars are recorded and disseminated via our social media channels. If you don’t want to be visible\, deactivate your camera and microphone. For more information read our detailed data protection notice.
URL:https://www.eacctx.com/2event/een-doing-business-in-the-us-employment-human-resources/
CATEGORIES:events,upcoming
END:VEVENT
BEGIN:VEVENT
DTSTART;TZID=Europe/Paris:20241122T173000
DTEND;TZID=Europe/Paris:20241122T210000
DTSTAMP:20260420T091043
CREATED:20241111T162119Z
LAST-MODIFIED:20241111T162119Z
UID:52232-1732296600-1732309200@www.eacctx.com
SUMMARY:UT Dallas | International Center 40/10 Anniversary Gala
DESCRIPTION:Join the International Center in celebrating the enduring global impact of international education and cultural exchange at the UT Dallas International Center 40/10 Anniversary Gala on Nov. 22! This special event honors four decades of international students at UT Dallas and a decade of the International Center’s service to the University community. The program will feature remarks from UT Dallas leadership\, including Dr. Richard Benson\, president\, Dr. Inga H. Musselman\, vice president for academic affairs and provost and Dr. Juan González\, vice provost for global engagement and dean of graduate education. \n  \n  \nWe are proud to recognize John Olajide\, founder and CEO of Axxess and UT Dallas alumnus\, as our keynote speaker. The evening will also include a VIP & Sponsors Reception\, a screening of the 40/10 anniversary documentary and live entertainment featuring global drum ensembles. We look forward to bringing together distinguished leaders and supporters to reflect on the past\, present and future of the International Center. \n  \n  \n  \n  \n  \n  \nPURCHASE TICKETS / SPONSOR\n  \nEvent Schedule: \n\nVIP & Sponsors Reception: 5:30 to 7 p.m.\nDinner & Program: 7 to 9 p.m.\n\nLocation: \nDavidson-Gundy Alumni Center\n2501 Drive G\, Richardson\, TX 75080\nGoogle Map\nDirections \n  \nAbout the International Center\nAt UT Dallas\, we firmly believe that global engagement is one of the hallmarks of a great university. We are proud of our long history of international activity and committed to offering our students an education enriched by global perspectives\, cultures\, and languages. The UT Dallas International Center (IC) facilitates strong partnerships with universities and institutes worldwide to enhance global awareness among the UTD and surrounding communities. The IC utilizes its unique position within the University to promote international and global engagement and contributes to the development of graduates with a global awareness. \n  \nSilver Sponsors \nAxxess \nPraxis Solutions International \nUS India Chamber of Commerce DFW Foundation \n  \nBronze Sponsors \nDallas College \nTexas Instruments \nUT Dallas: \n\nHarry W. Bass Jr. School of Arts\, Humanities\, and Technology\nSchool of Behavioral and Brain Sciences\nErik Jonsson School of Engineering and Computer Science\nHobson Wildenthal Honors College\nNaveen Jindal School of Management\nOffice of Graduate Education\nOffice of the Provost
URL:https://www.eacctx.com/2event/ut-dallas-international-center-40-10-anniversary-gala/
LOCATION:Davidson-Gundy Alumni Center (DGA)\, 2501 Drive G\,\, Richardson\, TX 75080\, TX\, 75080
CATEGORIES:Partner Events
END:VEVENT
END:VCALENDAR