BEGIN:VCALENDAR
VERSION:2.0
PRODID:-//European American Chamber of Commerce Texas [EACCTX] | Your Partner for Transatlantic Business Resources - ECPv6.15.20//NONSGML v1.0//EN
CALSCALE:GREGORIAN
METHOD:PUBLISH
X-ORIGINAL-URL:https://www.eacctx.com
X-WR-CALDESC:Events for European American Chamber of Commerce Texas [EACCTX] | Your Partner for Transatlantic Business Resources
REFRESH-INTERVAL;VALUE=DURATION:PT1H
X-Robots-Tag:noindex
X-PUBLISHED-TTL:PT1H
BEGIN:VTIMEZONE
TZID:America/Chicago
BEGIN:DAYLIGHT
TZOFFSETFROM:-0600
TZOFFSETTO:-0500
TZNAME:CDT
DTSTART:20230312T080000
END:DAYLIGHT
BEGIN:STANDARD
TZOFFSETFROM:-0500
TZOFFSETTO:-0600
TZNAME:CST
DTSTART:20231105T070000
END:STANDARD
BEGIN:DAYLIGHT
TZOFFSETFROM:-0600
TZOFFSETTO:-0500
TZNAME:CDT
DTSTART:20240310T080000
END:DAYLIGHT
BEGIN:STANDARD
TZOFFSETFROM:-0500
TZOFFSETTO:-0600
TZNAME:CST
DTSTART:20241103T070000
END:STANDARD
BEGIN:DAYLIGHT
TZOFFSETFROM:-0600
TZOFFSETTO:-0500
TZNAME:CDT
DTSTART:20250309T080000
END:DAYLIGHT
BEGIN:STANDARD
TZOFFSETFROM:-0500
TZOFFSETTO:-0600
TZNAME:CST
DTSTART:20251102T070000
END:STANDARD
END:VTIMEZONE
BEGIN:VEVENT
DTSTART;TZID=America/Chicago:20240830T163000
DTEND;TZID=America/Chicago:20240830T183000
DTSTAMP:20260420T140958
CREATED:20240812T210126Z
LAST-MODIFIED:20240827T210218Z
UID:51342-1725035400-1725042600@www.eacctx.com
SUMMARY:Taming Big Tech - With Texas Deputy Attorney General James Lloyd & Cristina Caffarra
DESCRIPTION:  \nJoin us for an insightful discussion with two leading figures \nat the forefront of the global effort to regulate Big Tech’s dominance.\n  \n \n\n\nJames Lloyd is the Deputy Attorney General for Civil Litigation\, overseeing the Office’s eleven civil litigating divisions. He has also served as Chief of the Antitrust Division\, where he played a pivotal role in prosecuting landmark monopolization cases in digital markets. The Texas Attorney General’s Office has taken significant legal actions against major tech companies like Google and Meta\, targeting their monopolistic practices. These efforts are focused on safeguarding Texans’ online content and restoring a fair playing field on the web\, ensuring that everyone has a chance to succeed. \nInternationally renowned expert antitrust economist Cristina Caffarra\, who has been at the forefront of major European competition investigations\, will lead the discussion. Dubbed the “High Priestess of Competition” by Politico\, Cristina Caffarra has provided critical insights on regulating digital markets. Recently\, she appeared on Bloomberg Tech TV to discuss Google’s monopolistic practices and contributed her expertise at UNCTAD’s Intergovernmental Group of Experts on Competition Law and Policy in Geneva\, where she addressed “Enforcing Competition Law in Digital Markets and Ecosystems.” \nThey will discuss what’s at stake with the global multi-pronged effort against Big Tech\, and why fair digital markets matter for economic progress\, innovation and democracy. This program is essential for business leaders\, policymakers\, and anyone interested in the evolving landscape of digital markets. \nJoin us to understand the far-reaching implications of these landmark cases and regulations\, from Texas to Europe\, and what they mean for businesses\, consumers\, and governments worldwide. \nREGISTER HERE\n  \nEvent Details \n\n4:30 PM: Registration – Networking\n5:15 PM: Program\n6:00 PM: Reception with Complimentary Drinks\n\nHôtel Swexan 2575 McKinnon Street\, Dallas\, Texas 75201 \n⚠️Please allow extra time for downtown traffic.  \nEACC Texas Members \nThis exclusive event is free for EACC Texas members\, who may bring one guest; non-members are invited to consider sponsorship opportunities or explore the benefits of becoming a member. \n🚨– To be considered for a guest invitation\, please contact us –\n\nSponsorship Opportunity\nElevate your brand and gain exclusive visibility at this high-profile event by becoming a sponsor. Starting at $500\, sponsors will enjoy the following benefits: \n \nContact us for more information \nTexas Membership\nConsider becoming a member of EACC Texas\, and enjoy year-long benefits designed to help you connect\, grow\, and succeed. Membership offers exclusive access to a dynamic network of professionals\, priority invitations to our events\, and opportunities for collaboration and influence in the vibrant transatlantic business communities. \nMembership Application \n 
URL:https://www.eacctx.com/2event/taming-big-tech-with-james-lloyd-cristina-caffarra/
LOCATION:Hôtel Swexan\, 2575 McKinnon Street\, Dallas\, Texas\, Dallas\, Texas\, 75201
CATEGORIES:events,upcoming
END:VEVENT
END:VCALENDAR