BEGIN:VCALENDAR
VERSION:2.0
PRODID:-//European American Chamber of Commerce Texas [EACCTX] | Your Partner for Transatlantic Business Resources - ECPv6.15.20//NONSGML v1.0//EN
CALSCALE:GREGORIAN
METHOD:PUBLISH
X-WR-CALNAME:European American Chamber of Commerce Texas [EACCTX] | Your Partner for Transatlantic Business Resources
X-ORIGINAL-URL:https://www.eacctx.com
X-WR-CALDESC:Events for European American Chamber of Commerce Texas [EACCTX] | Your Partner for Transatlantic Business Resources
REFRESH-INTERVAL;VALUE=DURATION:PT1H
X-Robots-Tag:noindex
X-PUBLISHED-TTL:PT1H
BEGIN:VTIMEZONE
TZID:America/Chicago
BEGIN:DAYLIGHT
TZOFFSETFROM:-0600
TZOFFSETTO:-0500
TZNAME:CDT
DTSTART:20230312T080000
END:DAYLIGHT
BEGIN:STANDARD
TZOFFSETFROM:-0500
TZOFFSETTO:-0600
TZNAME:CST
DTSTART:20231105T070000
END:STANDARD
BEGIN:DAYLIGHT
TZOFFSETFROM:-0600
TZOFFSETTO:-0500
TZNAME:CDT
DTSTART:20240310T080000
END:DAYLIGHT
BEGIN:STANDARD
TZOFFSETFROM:-0500
TZOFFSETTO:-0600
TZNAME:CST
DTSTART:20241103T070000
END:STANDARD
BEGIN:DAYLIGHT
TZOFFSETFROM:-0600
TZOFFSETTO:-0500
TZNAME:CDT
DTSTART:20250309T080000
END:DAYLIGHT
BEGIN:STANDARD
TZOFFSETFROM:-0500
TZOFFSETTO:-0600
TZNAME:CST
DTSTART:20251102T070000
END:STANDARD
END:VTIMEZONE
BEGIN:VEVENT
DTSTART;TZID=America/Chicago:20240214T090000
DTEND;TZID=America/Chicago:20240214T100000
DTSTAMP:20260420T235959
CREATED:20240129T181834Z
LAST-MODIFIED:20240129T181834Z
UID:49763-1707901200-1707904800@www.eacctx.com
SUMMARY:WEBINAR - Sweden Joining NATO | SACC Texas - EACC Texas
DESCRIPTION:  \n\n  \nWe are thrilled to extend an exclusive invitation to you for a thought-provoking virtual event organized in collaboration with the Swedish American Chamber of Commerce in Texas. Join us as we delve into the potential impact of Sweden joining NATO\, featuring esteemed experts who will provide valuable insights and perspectives. \n  \nREGISTER HERE\nWe are honored to have Jörgen Warborn\, a distinguished member of the European Parliament\, as one of our keynote speakers. Serving in his ninth term (2019-2024)\, Mr. Warborn’s expertise in international affairs is unparalleled. His roles as a Member of the Committee on International Trade\, Substitute Member of the Committee on Transport and Tourism\, and the Committee on Budgets\, along with his position as EPP Group Coordinator in the Committee on International Trade\, make him a formidable authority in the field. \n  \nThis is a unique opportunity to gain valuable insights into the geopolitical implications of Sweden’s potential NATO membership. Jörgen Warborn’s extensive experience in international trade makes him a valuable resource for understanding the broader implications. \nMark your calendars and join us for an event that promises to be informative\, insightful\, and crucial for anyone interested in the future of international relations.
URL:https://www.eacctx.com/2event/webinar-sweden-joining-nato-sacc-texas-eacc-texas/
LOCATION:Virtual
CATEGORIES:events,upcoming
END:VEVENT
BEGIN:VEVENT
DTSTART;TZID=America/Chicago:20240222T090000
DTEND;TZID=America/Chicago:20240222T103000
DTSTAMP:20260420T235959
CREATED:20240212T202443Z
LAST-MODIFIED:20240212T202443Z
UID:50110-1708592400-1708597800@www.eacctx.com
SUMMARY:Webinar | Doing business in the United States: What you need to know about entering the US market
DESCRIPTION:  \n\nEACC Carolinas\, EACC New York and EACC Texas are joining forces to bring you monthly webinars focused on “Doing Business in the United States”.\nIn partnership with the Europe Enterprise Network webinar series “Embracing Global Markets\,” these sessions will offer invaluable insights to aid your decision-making process when entering the US market. \nThe webinars have been developed exclusively for the ‘Enterprise Europe Network’ by the EEN USA consortium\, comprised of EACC New York\, EACC Texas and EACC Carolinas. This series of programs will feature subject matter experts on a variety of topics relevant to companies expanding into the US market. \nThis first installment is brought to you by the European American Chamber of Commerce New York. \nFor more information\nWHO SHOULD ATTEND? \nThe webinar targets European small and medium-sized enterprises (SMEs)\, start-ups (ready to scale internationally)\, European clusters and cluster managers\, business advisers of the Enterprise Europe Network and other European business support organizations\, including all stakeholders of the ‘Friends of EEN’ initiative. \nWHAT WILL YOU LEARN? \nThe webinar provides an overview of the legal framework and regulations when opening a business in the United States including:\n• Understanding the tax systems and requirements\n• How to incorporate your business in the United States and the 5 most legal issues to consider before you get here\n• Employment agreements and related issues\n• Which type of visa is right for you and your team members \nThe webinar will also provide practical guidance on how to sell into the United States market:\n• Legal framework and key regulations when selling products in the U.S\n• Sales channels: retail or wholesale; partnering with an agent or distributor\n• Business and brand development\n• The secrets to success in the US \n  \nWELCOME & INTRODUCTION BY:\n• Natalia Martínez Páramo\, Head of Unit\, European Innovation Council and SMEs Executive Agency (EISMEA)\n• Crispin Waymouth\, Deputy Head of Unit – Industrial Forum\, Alliances\, Clusters\, EUROPEAN COMMISSION \n  \nSPEAKERS:\n• Manny Schoenhuber\, Associate\, JACKSON WALKER LLP\n• Ann Louise Brown Cauble\, Shareholder\, OGLETREE DEAKINS\n• Yoann Brugerie\, Founding Partner\, ORBISS\n• Yvonne Bendinger-Rothschild\, Executive Director\, European American Chamber of Commerce New York (EACCNY) Moderator \n  \nHOW TO PARTICIPATE: \nSTREAM the webinar LIVE or JOIN the session via WEBEX to interact with our experts!\n  \n  \nThe Enterprise Europe Network is the world’s largest support network for small and medium-sized enterprises (SMEs) with international ambitions. EEN supports European small and medium-sized enterprises and start-ups to innovate and expand in Asia\, Africa and the Americas. \nYou can learn more about the EEN’s ‘Embracing global markets’ webinar series here.
URL:https://www.eacctx.com/2event/webinar-doing-business-in-the-united-states-what-you-need-to-know-about-entering-the-us-market/
LOCATION:Virtual
CATEGORIES:events,upcoming
END:VEVENT
END:VCALENDAR