BEGIN:VCALENDAR
VERSION:2.0
PRODID:-//European American Chamber of Commerce Texas [EACCTX] | Your Partner for Transatlantic Business Resources - ECPv6.15.20//NONSGML v1.0//EN
CALSCALE:GREGORIAN
METHOD:PUBLISH
X-WR-CALNAME:European American Chamber of Commerce Texas [EACCTX] | Your Partner for Transatlantic Business Resources
X-ORIGINAL-URL:https://www.eacctx.com
X-WR-CALDESC:Events for European American Chamber of Commerce Texas [EACCTX] | Your Partner for Transatlantic Business Resources
REFRESH-INTERVAL;VALUE=DURATION:PT1H
X-Robots-Tag:noindex
X-PUBLISHED-TTL:PT1H
BEGIN:VTIMEZONE
TZID:America/Chicago
BEGIN:DAYLIGHT
TZOFFSETFROM:-0600
TZOFFSETTO:-0500
TZNAME:CDT
DTSTART:20230312T080000
END:DAYLIGHT
BEGIN:STANDARD
TZOFFSETFROM:-0500
TZOFFSETTO:-0600
TZNAME:CST
DTSTART:20231105T070000
END:STANDARD
BEGIN:DAYLIGHT
TZOFFSETFROM:-0600
TZOFFSETTO:-0500
TZNAME:CDT
DTSTART:20240310T080000
END:DAYLIGHT
BEGIN:STANDARD
TZOFFSETFROM:-0500
TZOFFSETTO:-0600
TZNAME:CST
DTSTART:20241103T070000
END:STANDARD
BEGIN:DAYLIGHT
TZOFFSETFROM:-0600
TZOFFSETTO:-0500
TZNAME:CDT
DTSTART:20250309T080000
END:DAYLIGHT
BEGIN:STANDARD
TZOFFSETFROM:-0500
TZOFFSETTO:-0600
TZNAME:CST
DTSTART:20251102T070000
END:STANDARD
END:VTIMEZONE
BEGIN:VEVENT
DTSTART;TZID=America/Chicago:20240122T120000
DTEND;TZID=America/Chicago:20240122T150000
DTSTAMP:20260421T013944
CREATED:20240105T231655Z
LAST-MODIFIED:20240216T213449Z
UID:49727-1705924800-1705935600@www.eacctx.com
SUMMARY:TEXAS FEELS SLOVENIA in Dallas
DESCRIPTION:Forging Bonds: Dallas Business Forum with the Slovenian Ambassador to the US and \nDelegation – Unleashing Transatlantic Opportunities. \non Monday\, January 22 \n12:00PM – 3:00PM\n\n  \n\n\n\n\n\n\n\n        \n            \n                                                \n\n                                        \n                        EACCTXSlovenia-40EACCTXSlovenia-34EACCTXSlovenia-41EACCTXSlovenia-57EACCTXSlovenia-76EACCTXSlovenia-103EACCTXSlovenia-136EACCTXSlovenia-149EACCTXSlovenia-226EACCTXSlovenia-241EACCTXSlovenia-227EACCTXSlovenia-228EACCTXSlovenia-249EACCTXSlovenia-237EACCTXSlovenia-230EACCTXSlovenia-259EACCTXSlovenia-235EACCTXSlovenia-243EACCTXSlovenia-246EACCTXSlovenia-239EACCTXSlovenia-232EACCTXSlovenia-234EACCTXSlovenia-253EACCTXSlovenia-250EACCTXSlovenia-251                    \n\n                                    \n            \n        \n        \n  \n  \n\nNetworking Luncheon | 12:00pm\n\nFoster meaningful connections during a luncheon with the Ambassador of Slovenia in the United States\, His Excellency Iztok Mirošič along with representatives from business\, state institutions\, and economic diplomacy in Slovenia. \nLearn how your business can become a gateway for Slovenian companies interested in expanding into the Texan market. \n\nInsightful Presentations | 12:45pm\n\nGain valuable insights into Slovenia’s thriving business environments: A land of champions in business and beyond! \n\nB2B Meetings | 1:30pm\n\nEngage with influential players and delegates from various sectors including healthcare\, technology\, finance\, and industry\, as well as representatives from state institutions and economic diplomacy in Slovenia. \nMake sure to register for an opportunity to meet with the members of the Slovenian delegation \nduring one-on-one B2B meetings\n  \n\n  \n\nMembers of the Slovenian Business Delegation:\n\nEmbassy of the Republic of Slovenia in Washington: \nH.E. Iztok Mirošič\, Ambassador of Slovenia to the U.S. \nBojan Škoda\, Minister Plenipotentiary \nBoštjan Peršin\, Minister Counsellor \nDarja Ferlež\, Minister Plenipotentiary \nMinistry of Economy\, Tourism and Sport: \nNejc Perhavec\, Undersecretary\, Internationalization\, Entrepreneurship and Technology Directorate\, Internationalization Division \nSpirit Slovenia:    \nRok Capl\, Acting Director \nDaša Avsec\, Regional Secretary \nSTO Tourism Board:  \nLucija Jager\, Project Manager (Business Communication Department) \nMaša Puklavec Polutnik  Global Communications Manager \nAmCham Slovenia:  \nAjša Vodnik\, CEO \nVida Dolenc Pogačnik\, COO & International Cooperation Director \nInstrumentation Technologies | Measuring instruments supplier \nSince 1998 the Company has grown from a garage company to a world leader in cutting-edge instrumentation for the accelerator beam diagnostics market\, as well as solutions for other technologically demanding fields. \nIntectiv | Electronics Manufacturer \n“Decades of experience\, know-how and development of a technologically advanced production line of highly complex (HDI – High-Density Interconnect) prototype printed circuit boards. In compliance with the highest current environmental and technological standards\, our products are becoming the blood vessels of modern technology products. The production range includes single-sided\, double-sided\, and multi-layer printed circuit boards (up to 24 layers)\, Flex and Rigid-Flex.” \nRePublis | Consulting \nRepublis Consulting is a Slovenian-based legal and business boutique consulting firm\, focusing on T.I.M.E. industries (Telecoms\, Internet\, Media\, Entertainment). They provides legal and business support to foreign investors in media\, entertainment\, gaming\, blockchain\, advertising\, internet\, and telecommunication sectors in Slovenia. \nROBOTINA  |Engineering \nRobotina’s vision is to be a leading provider of SMART CONNECTED solutions\, components and platforms\, which will contribute to a new model of connected society through technology and expertise. \nVernar Consulting | Consulting \nSince 1995\, we have been promoting the growth and development of companies through proven approaches. With reliable analytical tools\, we uncover the potential that lies in every company’s employees. \nVZMD | Stakeholders’ Association \nVZMD is a non-governmental organization that emerged spontaneously as an explicitly civil society movement\, especially in the face of an increasingly evident and pronounced need for networking and coordinated action among small shareholders. \nGuild Mortgage  |  Mortgage \nGuild Mortgage has become one of the nation’s leading independent ‭mortgage providers by following a ‭simple rule—doing what’s right for our customers. Since 1960\, we’ve grown ‭through every economic cycle. ‭Today\, no other mortgage lender ‭has our stability\, experience\, and ‭uncompromising focus on ‭customer service. \nAdriatic Finance | Financial Advisory \nCaretronic | Healthcare \nAt Caretronic\, we provide the highest quality nurse call systems and e-nursing solutions to healthcare organizations around the world. \nD2S energetske in poslovne rešitve  |  ESG \nD2S Energy & Business Solutions LLC creates a network of energy professionals with technical capabilities and expertise that are unsurpassed in the power industry. With the ever-changing environment facing utilities and businesses\, strategic planning and resource management are essential for continued success. \nEsgnovo | ESG \nWe’re building relationships and creating big\, sustainable energy projects\, helping us to maintain a livable climate. Our solar and wind electricity production and storage projects\, energy management and trading solutions\, and nuclear power plant expertise\, as well as the development of new technologies\, are excellent opportunities for technology and engineering producers and providers as well as researchers.
URL:https://www.eacctx.com/2event/texas-feels-slovenia-in-dallas/
LOCATION:DRC\, 500 N Akard Street\, Suite 2600\, Dallas\, TX\, 75201\, United States
CATEGORIES:events,upcoming
END:VEVENT
BEGIN:VEVENT
DTSTART;TZID=America/Chicago:20240123T163000
DTEND;TZID=America/Chicago:20240123T190000
DTSTAMP:20260421T013944
CREATED:20231207T165218Z
LAST-MODIFIED:20240103T190341Z
UID:49681-1706027400-1706036400@www.eacctx.com
SUMMARY:EuroTech Talks | The Industrial Metaverse for a Better Tomorrow\, Re-imagining Industry-Academic Relations with SIEMENS
DESCRIPTION:Discover new horizons and explore the untapped potential that lies ahead in the dynamic world of technology and industry. \nConnect with like-minded professionals and discover how Siemens is fostering a community of professionals prepared for the challenges of tomorrow. Learn from their experiences and insights to ensure you are ready for the evolving demands of the workforce. \nBe ahead of the game: Don’t just prepare for tomorrow; be ready for it today. Discover the unparalleled opportunity to foster early relationships and commitments with the workforce of tomorrow. \nSiemens is your guide to staying ahead in a rapidly changing landscape. \n  \nREGISTER HERE\n  \nJacques St-Laurent\, Academic Enablement & Workforce Development\, Siemens Digital Industries Software\, will share invaluable insights on how to position yourself for success. Be at the forefront of industry trends and be ready to tackle the challenges of tomorrow with confidence. \n  \nAgenda: \n4:30 PM: Registration \n5:00 PM: Beginning of the program \n6:00 PM: Networking \n  \nLocation: the ion – Houston \n4201 Main St\, Houston\, TX 77002 \nEACC Members: Free \nNon-Members: Free \nSave the date\, for an engaging dialogue that promises to spark ideas and inspire action. \nDon’t miss this opportunity to be part of a conversation that will \nshape the future of workforce development in the digital age.\n  \n\n  \nSpeaker Bio:\nJacques St-Laurent \nAcademic Enablement & Workforce Development lead at Siemens Digital Industries Software \n \nJacques brings over 38 years of industry expertise\, with the last 27 years as a senior business consultant at Siemens Digital Industries. He has a diverse background\, having contributed to industries such as Aerospace\, Automotive\, Electronics\, Industrial design\, Heavy Machinery\, Energy\, and Medical although his passion remains with Aerospace and flight. \nSuch a diversified portfolio has enabled him to truly understand current industry trends and a global urgency to adapt\, transform\, and embrace our journey into the future. \nCurrently\, Jacques focuses on assisting academic leaders in addressing industry-specific challenges by developing effective business strategies\, driving transformative initiatives\, and implementing progressive curricular practices for student employability by bridging the gap between academic institutions and real-world industry needs. \nFor more information \n  \n 
URL:https://www.eacctx.com/2event/the-industrial-metaverse-for-a-better-tomorrow-re-imagining-industry-academic-relations-with-siemens-2/
LOCATION:the ion\, 4201 Main St\,\, HOUSTON\, TX\, 77002\, United States
CATEGORIES:events,upcoming
END:VEVENT
BEGIN:VEVENT
DTSTART;TZID=America/Chicago:20240124T150000
DTEND;TZID=America/Chicago:20240124T180000
DTSTAMP:20260421T013944
CREATED:20240105T232715Z
LAST-MODIFIED:20240111T184939Z
UID:49736-1706108400-1706119200@www.eacctx.com
SUMMARY:TEXAS FEELS SLOVENIA in Austin
DESCRIPTION:Unlock opportunities and network with the Slovenian business delegation \nin Austin at our Business Forum \non Wednesday\, January 24 \n3:00PM – 6:00PM\n Don’t miss your chance to connect and thrive!\n\n  \n\nInsightful Discussions and Presentations | 3:00pm\n\nGain valuable insights into Slovenia’s thriving business environments: A land of champions in business and beyond! \nEmbassy of the Republic of Slovenia in Washington DC Bojan Škoda\, Minister Plenipotentiary \nMinistry of the Economy\, Tourism and Sport Nejc Perhavec\, Undersecretary \nSpirit Slovenia Daša Avsec\, Regional Secretary \nAmCham Slovenia Ajša Vodnik\, CEO \, Chair AmChams in Europe \nAustin Business Ecosystem – with Roland Peña\, Senior Vice President\, Global Technology & Innovation\, Opportunity Austin \nTech Ranch Austin Kevin Koym\, Founder & CEO \n\nB2B Meetings | 4:00pm\n\nEngage with influential players and delegates from various sectors including healthcare\, technology\, finance\, and industry\, as well as representatives from state institutions and economic diplomacy in Slovenia. \nLearn how your business can become a gateway for Slovenian companies interested in expanding into the Texan market. \n\nSocial Mixer | 5:15pm\n\nFoster meaningful connections during a social mixer with the representatives from business\, state institutions\, and economic diplomacy in Slovenia. \nSocial Hour with complimentary drinks and hors d’oeuvres \nMake sure to register for an opportunity to meet with the members of the Slovenian delegation \nduring one-on-one B2B meetings\n  \nREGISTER HERE\n  \n\nMembers of the Slovenian Business Delegation:\n\nEmbassy of the Republic of Slovenia in Washington: \nBojan Škoda\, Minister Plenipotentiary \nMinistry of Economy\, Tourism and Sport: \nNejc Perhavec\, Undersecretary\, Internationalization\, Entrepreneurship and Technology Directorate\, Internationalization Division \nSpirit Slovenia:    \nDaša Avsec\, Regional Secretary \nSTO Tourism Board:  \nLucija Jager\, Project Manager (Business Communication Department) \nMaša Puklavec Polutnik  Global Communications Manager \nAmCham Slovenia:  \nAjša Vodnik\, CEO \nVida Dolenc Pogačnik\, COO & International Cooperation Director \nInstrumentation Technologies | Measuring instruments supplier \nSince 1998 the Company has grown from a garage company to a world leader in cutting-edge instrumentation for the accelerator beam diagnostics market\, as well as solutions for other technologically demanding fields. \nIntectiv | Electronics Manufacturer \n“Decades of experience\, know-how and development of a technologically advanced production line of highly complex (HDI – High-Density Interconnect) prototype printed circuit boards. In compliance with the highest current environmental and technological standards\, our products are becoming the blood vessels of modern technology products. The production range includes single-sided\, double-sided\, and multi-layer printed circuit boards (up to 24 layers)\, Flex and Rigid-Flex.” \nRePublis | Consulting \nRepublis Consulting is a Slovenian-based legal and business boutique consulting firm\, focusing on T.I.M.E. industries (Telecoms\, Internet\, Media\, Entertainment). They provides legal and business support to foreign investors in media\, entertainment\, gaming\, blockchain\, advertising\, internet\, and telecommunication sectors in Slovenia. \nROBOTINA  |Engineering \nRobotina’s vision is to be a leading provider of SMART CONNECTED solutions\, components and platforms\, which will contribute to a new model of connected society through technology and expertise. \nVernar Consulting | Consulting \nSince 1995\, we have been promoting the growth and development of companies through proven approaches. With reliable analytical tools\, we uncover the potential that lies in every company’s employees. \nVZMD | Stakeholders’ Association \nVZMD is a non-governmental organization that emerged spontaneously as an explicitly civil society movement\, especially in the face of an increasingly evident and pronounced need for networking and coordinated action among small shareholders. \nGuild Mortgage  |  Mortgage \nGuild Mortgage has become one of the nation’s leading independent ‭mortgage providers by following a ‭simple rule—doing what’s right for our customers. Since 1960\, we’ve grown ‭through every economic cycle. ‭Today\, no other mortgage lender ‭has our stability\, experience\, and ‭uncompromising focus on ‭customer service. \nAdriatic Finance | Financial Advisory \nCaretronic | Healthcare \nAt Caretronic\, we provide the highest quality nurse call systems and e-nursing solutions to healthcare organizations around the world. \nD2S energetske in poslovne rešitve  |  ESG \nD2S Energy & Business Solutions LLC creates a network of energy professionals with technical capabilities and expertise that are unsurpassed in the power industry. With the ever-changing environment facing utilities and businesses\, strategic planning and resource management are essential for continued success. \nEsgnovo | ESG \nWe’re building relationships and creating big\, sustainable energy projects\, helping us to maintain a livable climate. Our solar and wind electricity production and storage projects\, energy management and trading solutions\, and nuclear power plant expertise\, as well as the development of new technologies\, are excellent opportunities for technology and engineering producers and providers as well as researchers.
URL:https://www.eacctx.com/2event/texas-feels-slovenia-in-austin/
LOCATION:Texas Association of Business\, 316 W 12th Street\, Suite 200\, Austin\, Texas\, 78701
CATEGORIES:events,upcoming
END:VEVENT
END:VCALENDAR