BEGIN:VCALENDAR
VERSION:2.0
PRODID:-//European American Chamber of Commerce Texas [EACCTX] | Your Partner for Transatlantic Business Resources - ECPv6.15.20//NONSGML v1.0//EN
CALSCALE:GREGORIAN
METHOD:PUBLISH
X-WR-CALNAME:European American Chamber of Commerce Texas [EACCTX] | Your Partner for Transatlantic Business Resources
X-ORIGINAL-URL:https://www.eacctx.com
X-WR-CALDESC:Events for European American Chamber of Commerce Texas [EACCTX] | Your Partner for Transatlantic Business Resources
REFRESH-INTERVAL;VALUE=DURATION:PT1H
X-Robots-Tag:noindex
X-PUBLISHED-TTL:PT1H
BEGIN:VTIMEZONE
TZID:America/Chicago
BEGIN:DAYLIGHT
TZOFFSETFROM:-0600
TZOFFSETTO:-0500
TZNAME:CDT
DTSTART:20220313T080000
END:DAYLIGHT
BEGIN:STANDARD
TZOFFSETFROM:-0500
TZOFFSETTO:-0600
TZNAME:CST
DTSTART:20221106T070000
END:STANDARD
BEGIN:DAYLIGHT
TZOFFSETFROM:-0600
TZOFFSETTO:-0500
TZNAME:CDT
DTSTART:20230312T080000
END:DAYLIGHT
BEGIN:STANDARD
TZOFFSETFROM:-0500
TZOFFSETTO:-0600
TZNAME:CST
DTSTART:20231105T070000
END:STANDARD
BEGIN:DAYLIGHT
TZOFFSETFROM:-0600
TZOFFSETTO:-0500
TZNAME:CDT
DTSTART:20240310T080000
END:DAYLIGHT
BEGIN:STANDARD
TZOFFSETFROM:-0500
TZOFFSETTO:-0600
TZNAME:CST
DTSTART:20241103T070000
END:STANDARD
END:VTIMEZONE
BEGIN:VTIMEZONE
TZID:America/New_York
BEGIN:DAYLIGHT
TZOFFSETFROM:-0500
TZOFFSETTO:-0400
TZNAME:EDT
DTSTART:20220313T070000
END:DAYLIGHT
BEGIN:STANDARD
TZOFFSETFROM:-0400
TZOFFSETTO:-0500
TZNAME:EST
DTSTART:20221106T060000
END:STANDARD
BEGIN:DAYLIGHT
TZOFFSETFROM:-0500
TZOFFSETTO:-0400
TZNAME:EDT
DTSTART:20230312T070000
END:DAYLIGHT
BEGIN:STANDARD
TZOFFSETFROM:-0400
TZOFFSETTO:-0500
TZNAME:EST
DTSTART:20231105T060000
END:STANDARD
BEGIN:DAYLIGHT
TZOFFSETFROM:-0500
TZOFFSETTO:-0400
TZNAME:EDT
DTSTART:20240310T070000
END:DAYLIGHT
BEGIN:STANDARD
TZOFFSETFROM:-0400
TZOFFSETTO:-0500
TZNAME:EST
DTSTART:20241103T060000
END:STANDARD
END:VTIMEZONE
BEGIN:VEVENT
DTSTART;TZID=America/Chicago:20231003T083000
DTEND;TZID=America/Chicago:20231003T093000
DTSTAMP:20260421T060615
CREATED:20230803T145827Z
LAST-MODIFIED:20230911T152606Z
UID:48683-1696321800-1696325400@www.eacctx.com
SUMMARY:EACC Netherlands - Texas | Webinar - Scenarios in the energy markets and the impact on our interconnected world
DESCRIPTION:  \n  \nWe are excited to announce our upcoming webinar\,\norganized in collaboration with our sister chapter in the Netherlands.\nJoin us for this engaging event\, with the exceptional participation of esteemed organizations\,\nincluding the Baker Institute for Public Policy\, LanzaTech\, NATO\, and Shell\, and hosted by Loyens & Loeff.\n  \n \n  \nJoin us for our upcoming webinar on energy security\, where we will explore the intricate interplay between global challenges and the vast opportunities that shape our future. \nIn this ever-evolving landscape\, the significance of security cannot be overstated. It touches upon all aspects of our well-being\, including economic stability\, energy resilience\, cybersecurity\, food and water resources\, and border security. \n \nWe invite you to engage in compelling discussions with our panel of experts\, each offering unique perspectives on how we can set a path for continued global progress while effectively addressing the pressing energy security challenges of our time. \n\nWhat is NATO’s perspective on a world undergoing profound security changes?\nWhat forces are shaping the production and consumption of energy\, and how does this impact our energy security?\nWhat adaptations are global energy markets making in response to shifting political dynamics?\nWhat implications do these security shifts hold for the Transatlantic relationship?\n\n\nREGISTER HERE\nDon’t miss this opportunity to gain valuable insights into the future of energy security and its far-reaching implications for our world. \nJoin us and be part of this important conversation! \n  \nPlease note that the direct link to access the webinar will be sent directly to each attendee via email. \n\n  \nSpeakers Bio:\n  \n  \nGabriel Collins \nBaker Botts Fellow in Energy & Environmental Regulatory Affairs\, Rice University’s Baker Institute for Public Policy \nGabriel Collins is the Baker Botts Fellow in Energy & Environmental Regulatory Affairs at Rice University’s Baker Institute. He was previously an associate attorney at Baker Hostetler\, LLP\, and is the co-founder of the China SignPost™ (洞察中国) analysis portal. Collins has worked in the Department of Defense as a China analyst and as a private sector global commodity researcher\, authoring more than 100 commodity analysis reports\, both for private clients and for publication. \nCollins’ research portfolio is global. His work currently focuses on legal\, environmental and economic issues relating to water — including the food-water-energy nexus — as well as unconventional oil and gas development\, and the intersection between global commodity markets and a range of environmental\, legal and national security issues. His analysis draws from a broad swath of geospatial and other data streams and often incorporates insights from sources in Chinese\, Russian and Spanish. \nCollins received his B.A. from Princeton University and a J.D. from the University of Michigan Law School. He is licensed to practice law in Texas. \n\n  \n  \nDr Mallika Ishwaran \nSenior Economist and Policy Advisor\, Shell International \nMallika is Shell’s Chief Economist. She advises on macroeconomic issues\, economic trends\, and related policy matters to shape Shell’s long-term scenario outlooks. She leads strategic engagements on energy transitions with national and city governments across the world\, notably a multi-year collaboration with the Chinese government. Mallika also advises on Shell’s strategic policy and advocacy approach to support the company’s energy transition strategy. She sits on a range of external advisory boards. \nPrior to joining Shell\, she was Deputy Director at the Department for Environment\, Food and Rural Affairs responsible for evidence and analysis across the environment\, food\, and green economy portfolio. She has held senior positions across the UK government\, including at the Cabinet Office as Head of Policy Analysis for the 2009 G20 London Summit. Before that\, Mallika worked in senior economics and policy roles in the USA. \nMallika holds Ph.D. and M.S degrees from Carnegie Mellon University\, and a B.A. from St. Stephen’s College\, Delhi University. \n\n  \n  \nDavid Van Weel  \nAssistant Secretary General for Emerging Security Challenges\, NATO \n\n\n\n\n\n\n\n\n\n\n\nDavid van Weel holds the role of NATO’s Assistant Secretary General for Emerging Security Challenges\, advising the Secretary General on such challenges and their implications for Alliance security. He also oversees the Emerging Security Challenges Division\, which coordinates the Alliance’s response to new threats like cyber and hybrid risks\, terrorism\, disruptive technologies\, energy security\, and data policy. This division manages the Science for Peace and Security Programme\, fostering collaboration between NATO and partner nations through research and innovation. \nPrior to joining NATO\, van Weel was the Foreign Policy and Defense Advisor for the Prime Minister of The Netherlands\, following an extensive career in the Dutch Ministry of Defence\, where he held key positions including Director for International Affairs and Operations/Policy Director. He began his career in the Royal Netherlands Navy and has a diverse background encompassing naval service\, exchange roles\, and various policy positions. \n\n\n\n\n\n\n\n\n\n\n\n\n\n\n\n\nModerator:\n\n\nAura Cuellar\nExecutive Vice President of Growth and Strategic Projects\, LanzaTech \nFrom environmental engineer to senior business leader\, Aura Cuellar is determined to lead the energy industry on a path to profitable decarbonization. As LanzaTech’s Executive Vice President of Growth and Strategic Projects\, Aura brings to her role extensive experience in manufacturing and a successful track record in global strategy development and implementation. Her time living and working in Europe\, Africa\, Asia and North and South America has shaped her inclusive worldview and deep appreciation for regional approaches to address climate change and deliver growth. \nBefore LanzaTech\, Aura led Shell’s U.S. Energy Transition as VP\, overseeing a $500 million annual project portfolio. Across her 24+ years at Shell\, she advanced through global executive roles\, including Head of Projects and Turnarounds in The Netherlands. With a foundation in manufacturing\, she excels in cultivating integrated teams for impactful commercial results\, driven by cultural transformation\, innovation\, and social equity. \nAdditionally\, she serves as the Honorary Consul to the Kingdom of The Netherlands in Houston\, contributing to shared challenges like climate adaptation and sustainable mobility. Hailing from Colombia\, Aura holds degrees from Seattle University and Western Washington University\, complemented by executive education at INSEAD and Harvard’s Women on Boards Program.
URL:https://www.eacctx.com/2event/eacc-netherlands-texas-webinar-scenarios-in-the-energy-markets-and-the-impact-on-our-interconnected-world/
CATEGORIES:events,upcoming
ORGANIZER;CN="EACC Texas":MAILTO:info@eacctx.com
END:VEVENT
BEGIN:VEVENT
DTSTART;TZID=America/New_York:20231006T090000
DTEND;TZID=America/New_York:20231006T140000
DTSTAMP:20260421T060615
CREATED:20230914T141000Z
LAST-MODIFIED:20230914T141000Z
UID:48839-1696582800-1696600800@www.eacctx.com
SUMMARY:YTexas Summit 2023 | AT&T Stadium - ARLINGTON
DESCRIPTION:Join us at YTexas Summit 2023\, \nwhere EACC Texas will be part of the movers and shakers gathering to build a stronger and more connected Texas!\n \n  \n  \nRegister to attend here\n\nFor more information
URL:https://www.eacctx.com/2event/ytexas-summit-2023-att-stadium-arlington/
LOCATION:AT&T Stadium\, 1 AT&T Way\, Arlington\, TX\, 76011
CATEGORIES:Partner Events
END:VEVENT
BEGIN:VEVENT
DTSTART;TZID=America/Chicago:20231011T173000
DTEND;TZID=America/Chicago:20231011T193000
DTSTAMP:20260421T060615
CREATED:20230920T205949Z
LAST-MODIFIED:20231006T050724Z
UID:48862-1697045400-1697052600@www.eacctx.com
SUMMARY:EuroTech Talks | The Industrial Metaverse for a Better Tomorrow\, Re-imagining Industry-Academic Relations with SIEMENS
DESCRIPTION:  \n \nAcross diverse industries\, enterprises are embracing digitalization to enhance safety\, sustainability\, and operational efficiency\, recognizing it as a true agent of transformation. \nIndustry 4.0 technologies\, including IoT\, Artificial Intelligence (AI)\, extreme automation\, and digital twins\, offer undeniable advantages and value to countless businesses. The readiness of these technologies\, combined with the acceleration brought by the recent pandemic\, has driven digitalization across diverse sectors. \nHowever\, embracing this digital revolution requires a cultural shift\, operational realignment\, and workforce preparation. Today’s industries grapple with the challenge of sourcing the right talent to lead this transformation\, from computer scientists and data scientists to developers and engineers. \nThe demand for highly skilled technical specialists has surged\, yet educational institutions often graduate students without the precise skills required for the evolving landscapes of manufacturing\, design\, and engineering. \nIn this context\, collaboration with academia has never been more crucial. \nJoin our expert speaker Jacques St-Laurent\, Academic Enablement & Workforce Development at Siemens Digital Industries Software for a thought-provoking discussion in exploring how “The Industrial Metaverse” can reshape the future of industry-academic relations\, offering innovative solutions to the challenges faced by industries today. Answer the call for action as we collectively forge a path toward a better tomorrow\, driven by collaboration\, innovation\, and the transformative power of digitalization. \n  \nREGISTER HERE\n  \nAgenda: \n5:30 PM – 6:00 PM: Registration \n6:00 PM: Beginning of the program \n\nHistory of Industrial Advancements into Industry 4.0\n\n\nImportance of the Industrial Metaverse towards Ind 5.0\n\n\nIndustrial demand vs. Academic deliverables\n\n\nRe-imagining the academic world for the future\n\n\nCall to action\n\n\nQ&A\n\n7:00 PM: Networking \nLocation: To be announced soon \n  \n\n  \nSpeaker Bio:\nJacques St-Laurent \nAcademic Enablement & Workforce Development lead at Siemens Digital Industries Software \n \nJacques brings over 38 years of industry expertise\, with the last 27 years as a senior business consultant at Siemens Digital Industries. He has a diverse background\, having contributed to industries such as Aerospace\, Automotive\, Electronics\, Industrial design\, Heavy Machinery\, Energy\, and Medical although his passion remains with Aerospace and flight. \nSuch a diversified portfolio has enabled him to truly understand current industry trends and a global urgency to adapt\, transform\, and embrace our journey into the future. \nCurrently\, Jacques focuses on assisting academic leaders in addressing industry-specific challenges by developing effective business strategies\, driving transformative initiatives\, and implementing progressive curricular practices for student employability by bridging the gap between academic institutions and real-world industry needs. \nFor more information \n  \n 
URL:https://www.eacctx.com/2event/eurotech-talks-the-industrial-metaverse-for-a-better-tomorrow-re-imagining-industry-academic-relations-with-siemens/
CATEGORIES:events,upcoming
END:VEVENT
BEGIN:VEVENT
DTSTART;TZID=America/Chicago:20231012T090000
DTEND;TZID=America/Chicago:20231012T100000
DTSTAMP:20260421T060615
CREATED:20230928T225454Z
LAST-MODIFIED:20231009T175935Z
UID:48907-1697101200-1697104800@www.eacctx.com
SUMMARY:Transatlantic Tech|Showcase - Discover New Business Solutions with DevPark
DESCRIPTION:👉Join Andrzej Fenzel\, CEO of DevPark\, and Bartosz Kamiński\, CTO of DevPark – the visionaries behind UniTree – as they unveil their revolutionary unit testing management system. Explore cutting-edge solutions that are set to transform software testing. Say goodbye to coding complexity! \n \nUniTree simplifies test management with a user-friendly interface adaptable for various test types. It streamlines application testing\, making it accessible to clients\, expediting development\, and ensuring satisfaction. \n  \n👉Introducing AICA: Your Future Multilingual Concierge\, designed to revolutionize customer interactions and elevate their overall experience. \n \n  \nWith AICA\, DevPark breaks down the barriers between AI and your customers\, introducing a flexible and intelligent tool to seamlessly manage your data and enhance customer experiences. \nAlready in action across shopping malls throughout Poland\, AICA stands as the perfect solution to meet your customers’ needs. \nWhether in malls\, airports\, hotels\, convention centers\, or amusement parks\, AICA is just one QR code away from transforming and elevating your customer experience to new heights. \nDon’t miss your chance to test AICA during our program! \nDiscover the future of customer service experience with AICA! \n  \nJoin our live presentation and secure your slot for a virtual B2B meeting with DevPark following the event.\nMore Information about UniTree\nMore Information about AICA\nMore Information about DevPark\nDon’t forget to reach out to us if you’re interested in meeting with the DevPark team after the program. We can arrange a virtual B2B meeting session to discuss UniTree or AICA’s integration with your business and explore potential partnerships. (These sessions are scheduled for 15 minutes each)  \n  \nLocation\nOnline\nFREE TO ATTEND
URL:https://www.eacctx.com/2event/transatlantic-tech-showcase-discover-new-business-solutions-with-devpark/
CATEGORIES:events,upcoming
END:VEVENT
BEGIN:VEVENT
DTSTART;VALUE=DATE:20231013
DTEND;VALUE=DATE:20231016
DTSTAMP:20260421T060615
CREATED:20230731T170240Z
LAST-MODIFIED:20230731T171109Z
UID:48652-1697155200-1697414399@www.eacctx.com
SUMMARY:Southlake Chamber of Commerce | Oktoberfest
DESCRIPTION:  \n\n\n\n\nThis year will mark 21 years of the Oktoberfest celebration hosted by Southlake’s Chamber of Commerce! \nOver 100\,000 people visit throughout the weekend festival! Attendance is completely free — there are no admissions or parking fees. There will\, however\, be a wide range of food\, beverages\, and booth items available for sale! \nCome take a stroll in Southlake’s beautiful Town Square while looking at the unique\, handcrafted arts and crafts booths. Great food and live entertainment are also at your fingertips during this fun-filled event. \n\n\n\n\n\n\n\n\nThe kids will have a great time in the excitement-packed children’s area!\nDon’t forget to sign up your dog to participate in the popular wiener dog race! \nWe can’t forget to mention that we will be having a number of great bands that you won’t want to miss! Join us at this year’s Oktoberfest\, where a good time is awaiting all! \n\n\n\n\n\n\nFree Entertainment All Weekend\nFamily Fun Zone\nGreat German Food & Beer\n\n \n\n\n  \n\n\n\n\n\nFor more information
URL:https://www.eacctx.com/2event/southlake-chamber-of-commerce-oktoberfest/
LOCATION:Southlake Town Square\, 285 Grand Ave\,\, Southlake\, 76092
CATEGORIES:Partner Events
END:VEVENT
BEGIN:VEVENT
DTSTART;TZID=America/New_York:20231016T100000
DTEND;TZID=America/New_York:20231016T143000
DTSTAMP:20260421T060615
CREATED:20231006T050631Z
LAST-MODIFIED:20231006T050631Z
UID:48937-1697450400-1697466600@www.eacctx.com
SUMMARY:The SMU Mission Foods Texas-Mexico Center | 7th Annual Integration Symposium
DESCRIPTION:7TH ANNUAL INTEGRATION SYMPOSIUM \nThe SMU Mission Foods Texas-Mexico Center would like to invite you to its 7th Annual Integration Symposium. \n  \nDate: Thursday\, October 19\, 2023 \n  \nTime: 10:00 a.m. – 2:30 p.m. \n  \nLocation: HT Ballroom\, Ground Floor\, Hughes-Trigg Student Center\, \n3140 Dyer St.\, Dallas\, TX 75205 \n  \nParking: \nBinkley Garage\, 3105 Binkley Ave.\, Dallas\, TX 75205 \n(between Airline Rd. & Dyer St.) \nThe symposium is free and open to the public. Registration is required. \n  \nPlease click the following link and choose the panels you will be attending: \nhttps://booking.smu.edu/event/11345321 \n  \n \nRegister to attend here
URL:https://www.eacctx.com/2event/the-smu-mission-foods-texas-mexico-center-7th-annual-integration-symposium/
CATEGORIES:Partner Events
END:VEVENT
BEGIN:VEVENT
DTSTART;VALUE=DATE:20231019
DTEND;VALUE=DATE:20231022
DTSTAMP:20260421T060615
CREATED:20231013T060101Z
LAST-MODIFIED:20231013T060101Z
UID:48955-1697673600-1697932799@www.eacctx.com
SUMMARY:Mercuri Urval & Jackson Walker | Breaking Borders: Navigating the Complexities of Doing Business in the U.S.
DESCRIPTION:  \n  \n\n\n  \n\n\n\n\n\nJoin us for the second webinar in our “Breaking Borders: Navigating the Complexities of Doing Business in the U.S.” series where we will explore the Inflation Reduction Act (IRA) and the Benefits and Incentives for companies investing in the U.S. \nHighlights of the Webinar will focus on: \n\nWhat is the IRA and how can European companies and their U.S. subsidiaries benefit?\nWhat are some of the most relevant incentives that foreign investors should explore related to investments in the U.S. under the IRA?\nMany of the tax incentives under the IRA can be multiplied if a company meets certain wage and apprenticeship requirements. How are these requirements defined in the IRA and other relevant guidance?\nHow are the various tax incentives under the IRA claimed / how can they be monetized?\n\nWhether you are a company that is considering expanding to the U.S. or already have a presence\, this webinar is designed to provide valuable insights and practical tips to help you succeed in the U.S. business landscape. \nOur expert hosts will delve into the challenges and pitfalls of doing business in the U.S.\, including legal considerations\, regulatory compliance\, cultural nuances\, and more. They will share their extensive experience and expertise to provide a comprehensive understanding of what it takes to be successful in the U.S. \nJoin us on October 19th at 9 am CST.\nTopic:  IRA (Inflation Reduction Act) – Benefits and Incentives for Companies Investing in the U.S.\nOur hosts\, Manny Schoenhuber\, Attorney at Jackson Walker and Darcie Murray\, Senior Vice President & Head of the Americas at MU will be joined by Lauren Edson\, Partner at Rödl & Partner for this second webinar in our Breaking Borders series. \nDon’t miss out on this opportunity to gain valuable knowledge and insights from industry experts. Join us for our second webinar in the “Breaking Borders” series and delve into this highly interesting topic. \nRegister now to secure your spot!\nWebinar Hosts\nManny Schoenhuber\, Attorney at Jackson Walker\n\nManny Schoenhuber is a German-born and Texas-residing attorney who specializes in assisting European investors\, companies\, and their subsidiaries in the United States. With a focus on market entry\, contract negotiations and drafting\, litigation\, and dispute resolution\, Manny is dedicated to helping his European clients successfully grow their businesses in the United States. With his U.S. education and European roots\, Manny understands the cultural nuances and legal complexities between Europe and the United States\, making him a trusted advisor to his clients. Having worked with companies and investors from various European countries\, Manny brings a wealth of experience and expertise to guide his clients through the U.S. legal landscape and ensure their success in the American market. \n  \n  \n  \n  \nDarcie Murray\, Senior Vice President & Head of the Americas at MU\n\nBased in Houston\, Darcie Murray serves as Senior Vice President & Head of the Americas for Mercuri Urval. Darcie conducts C-suite and senior executive-level engagements and advises clients on disciplined hiring and human capital issues. Her experience spans across multiple sectors including Professional Advisory Services\, Industrial\, Financial Services & Life Sciences and Healthcare and she has a passion for Diversity\, Equity & Inclusion. \nPrior to working at MU\, Darcie was the Senior Managing Partner for a boutique executive search and leadership advisory firm.  Before stepping into that role\, she spent 14 years with a mid-level international executive firm as an equity partner\, COO & Head of North America. She began her executive search career whilst living in Prague\, and spent more than a decade in Europe\, which provided her with deep exposure and invaluable insights into cultures and business needs across more than 50 countries globally. Darcie considers herself a true global citizen and enjoys sharing those perspectives with her clients. \n\n\nGuest\nLauren Edson\, Partner at Rödl & Partner\n\nLauren Edson is a CPA based in Chicago. As a tax partner at Rödl & Partner\, Lauren specializes in assisting European-owned U.S. subsidiaries with their ongoing domestic tax compliance needs. She has expertise in Federal and state income\, franchise\, and sales tax issues\, as well as knowledge of various tax incentives available to foreign-owned businesses in the U.S. Having studied abroad in Germany\, as well as worked with Rödl nearly her entire career\, Lauren has a strong appreciation for and understanding of German culture and the unique challenges facing the German Mittelstand market.
URL:https://www.eacctx.com/2event/mercuri-urval-jackson-walker-breaking-borders-navigating-the-complexities-of-doing-business-in-the-u-s/
CATEGORIES:Partner Events
END:VEVENT
END:VCALENDAR