BEGIN:VCALENDAR
VERSION:2.0
PRODID:-//European American Chamber of Commerce Texas [EACCTX] | Your Partner for Transatlantic Business Resources - ECPv6.15.20//NONSGML v1.0//EN
CALSCALE:GREGORIAN
METHOD:PUBLISH
X-ORIGINAL-URL:https://www.eacctx.com
X-WR-CALDESC:Events for European American Chamber of Commerce Texas [EACCTX] | Your Partner for Transatlantic Business Resources
REFRESH-INTERVAL;VALUE=DURATION:PT1H
X-Robots-Tag:noindex
X-PUBLISHED-TTL:PT1H
BEGIN:VTIMEZONE
TZID:America/New_York
BEGIN:DAYLIGHT
TZOFFSETFROM:-0500
TZOFFSETTO:-0400
TZNAME:EDT
DTSTART:20220313T070000
END:DAYLIGHT
BEGIN:STANDARD
TZOFFSETFROM:-0400
TZOFFSETTO:-0500
TZNAME:EST
DTSTART:20221106T060000
END:STANDARD
BEGIN:DAYLIGHT
TZOFFSETFROM:-0500
TZOFFSETTO:-0400
TZNAME:EDT
DTSTART:20230312T070000
END:DAYLIGHT
BEGIN:STANDARD
TZOFFSETFROM:-0400
TZOFFSETTO:-0500
TZNAME:EST
DTSTART:20231105T060000
END:STANDARD
BEGIN:DAYLIGHT
TZOFFSETFROM:-0500
TZOFFSETTO:-0400
TZNAME:EDT
DTSTART:20240310T070000
END:DAYLIGHT
BEGIN:STANDARD
TZOFFSETFROM:-0400
TZOFFSETTO:-0500
TZNAME:EST
DTSTART:20241103T060000
END:STANDARD
END:VTIMEZONE
BEGIN:VTIMEZONE
TZID:America/Chicago
BEGIN:DAYLIGHT
TZOFFSETFROM:-0600
TZOFFSETTO:-0500
TZNAME:CDT
DTSTART:20220313T080000
END:DAYLIGHT
BEGIN:STANDARD
TZOFFSETFROM:-0500
TZOFFSETTO:-0600
TZNAME:CST
DTSTART:20221106T070000
END:STANDARD
BEGIN:DAYLIGHT
TZOFFSETFROM:-0600
TZOFFSETTO:-0500
TZNAME:CDT
DTSTART:20230312T080000
END:DAYLIGHT
BEGIN:STANDARD
TZOFFSETFROM:-0500
TZOFFSETTO:-0600
TZNAME:CST
DTSTART:20231105T070000
END:STANDARD
BEGIN:DAYLIGHT
TZOFFSETFROM:-0600
TZOFFSETTO:-0500
TZNAME:CDT
DTSTART:20240310T080000
END:DAYLIGHT
BEGIN:STANDARD
TZOFFSETFROM:-0500
TZOFFSETTO:-0600
TZNAME:CST
DTSTART:20241103T070000
END:STANDARD
END:VTIMEZONE
BEGIN:VEVENT
DTSTART;TZID=America/New_York:20230712T090000
DTEND;TZID=America/New_York:20230712T100000
DTSTAMP:20260421T101610
CREATED:20230705T145652Z
LAST-MODIFIED:20230705T145758Z
UID:48551-1689152400-1689156000@www.eacctx.com
SUMMARY:EACC NY - Webinar | Self-writing Software: Who Coded the String First? - Copyright Concerns with Software Created by AI
DESCRIPTION:  \nWith all the hype around the opportunities and challenges presented by Artificial Intelligence\, more and more focus is being paid on where the content that AI regurgitates actually comes from. There have been a growing number of complaints about companies that are ‘’training” their AI systems using data that does not belong to them. The concerns were expressed by a broad range of professionals\, including writers\, artists\, composers\, etc. After researchers built a system to write computer programs\, picking up strings of code from an untold number of programs posted to the internet\, another group of professionals joined the protesters\, software writers.\nCourts are trying to establish how intellectual property laws should be applied in cases of self-writing software\, and several cases have already been filed. To protect themselves from these risks\, software companies that use generative AI need to ensure that they are in compliance with the law and take steps to mitigate potential risks\, such as ensuring they use training data free from unlicensed content or they pay for the licenses – a goal that is not easy to accomplish if your AI goes fishing in the vast data pools of the internet. \nOur panel will discuss the many open questions about self-writing software and copyrights. Join us and hear about what the challenges and possible solutions are to avoid breaching the intellectual property laws in Europe and the U.S. \nIssues to be discussed: \n• Awareness of Limitations\n> Need for human oversight – will it decrease or increase with ‘smarter’ AI?\n>Bad (or malicious) code – how to detect it and who will check? \n• Regulation/Ethics\n>Who can /should regulate? Governments and/or trade organizations?\n> Bias: Who ultimately controls the selection algorithm of what to pick and where to pick from? \n• Technology and Its Limitations\n> Certifying code\, who and how?\n> Quality tests\n> Dataset related questions \n• Intellectual Property-Related Issues\n> Do we need to rethink IP?\n> How to track offenders (whom to prosecute if code is ‘stolen’? \nSPEAKERS:\n• Jeffrey W. Gluck\, Partner\, PANITCH SCHWARZE\n• Louis-Pierre Gravelle\, Vice President – Practice Management Committee\, FICPI (International Federation of Intellectual Property Attorneys)\n• Victor Gonzalez Pacheco\, Adjunct Professor\, IE UNIVERSITY\n• Derek Slater\, Founder\, PROTEUS STRATEGIES\nModerator is to be announced soon.\n \nTIME:\n10:00 – 11:00 AM ET | 16:00h – 17:00h CET \nREGISTRATION FEE:\nEACC Members: Free\nEACC non-Members: Free \n\nREGISTER HERE
URL:https://www.eacctx.com/2event/eacc-ny-webinar-self-writing-software-who-coded-the-string-first-copyright-concerns-with-software-created-by-ai/
CATEGORIES:Partner Events
END:VEVENT
BEGIN:VEVENT
DTSTART;TZID=America/Chicago:20230713T183000
DTEND;TZID=America/Chicago:20230713T210000
DTSTAMP:20260421T101610
CREATED:20230620T151941Z
LAST-MODIFIED:20230706T205409Z
UID:48512-1689273000-1689282000@www.eacctx.com
SUMMARY:Celebrate France's National Day with EACC Texas & the Alliance Française de Dallas
DESCRIPTION:Dear Members and Friends\, \nWe are pleased to extend our warmest invitation for our annual Bastille Day celebration on July 13th! \nJoin us as we commemorate France’s national day for the 33rd consecutive year at Lavendou Bistro Provencal\, an EACC Texas member\, a renowned and beloved French restaurant in Dallas. \nThis delightful event promises an unforgettable evening filled with French culture and gastronomy. Immerse yourself in the ambiance of Lavendou Bistro Provencal while indulging in exquisite French cuisine and raising a glass to honor this significant day. \nThursday\, July 13th  \nLavendou Bistro Provencal\, Dallas \nCocktails: 6:30 PM   Dinner:  7::30 PM \nEACC Texas / AF Members: $90 per person  \nNon-members and guests; $110 per person  \nIncludes dinner\, wines & gratuity \nREGISTER HERE\nPlease\, RSVP by Monday\, July 11th. Space is limited\, so we encourage you to respond promptly to guarantee your seat. \n \nAdditionally\, we are offering a special opportunity for event sponsorship at $500 \nwhich includes prominent recognition of your logo featured on our invites and menus!  \nContact us for more information  \n We look forward to welcoming you on July 13th as we come together to celebrate Bastille Day with delectable cuisine\, French Joie de vivre\, and the joyous company of fellow Francophiles and friends. \nVive la France!
URL:https://www.eacctx.com/2event/celebrate-frances-national-day-with-eacc-texas-the-alliance-francaise-de-dallas/
LOCATION:Lavendou Bistro Provençal\, 19009 Preston Road\, Suite 200\, Dallas\, TX\, 75252\, United States
CATEGORIES:events,upcoming
ORGANIZER;CN="EACC Texas":MAILTO:info@eacctx.com
END:VEVENT
BEGIN:VEVENT
DTSTART;TZID=America/New_York:20230714T190000
DTEND;TZID=America/New_York:20230714T210000
DTSTAMP:20260421T101610
CREATED:20230712T171224Z
LAST-MODIFIED:20230712T172117Z
UID:48579-1689361200-1689368400@www.eacctx.com
SUMMARY:Fort Worth Sister Cities International (FWSCI) | LA FÊTE DE LA BASTILLE AT THE KIMBELL
DESCRIPTION:  \nJoin the Nîmes Committee on July 14 to celebrate Bastille Day\, the celebration of the unity of the French people\, at the Kimbell Art Museum.\nExperience the Kimbell after hours\, learn about French art from expert docents\, and participate in a scavenger hunt throughout the permanent collection.\nA selection of beverages and snacks available for purchase.\n\nREGISTER HERE
URL:https://www.eacctx.com/2event/fort-worth-sister-cities-international-fwsci-la-fete-de-la-bastille-at-the-kimbell/
LOCATION:Kimbell Art Museum\, 3333 Camp Bowie Boulevard\, Fort Worth\, TX\, 76107
CATEGORIES:Partner Events
END:VEVENT
BEGIN:VEVENT
DTSTART;TZID=America/Chicago:20230725T180000
DTEND;TZID=America/Chicago:20230725T200000
DTSTAMP:20260421T101610
CREATED:20230710T212641Z
LAST-MODIFIED:20230710T212652Z
UID:48568-1690308000-1690315200@www.eacctx.com
SUMMARY:Houston Transatlantic Business Mixer | Gray Reed
DESCRIPTION:Are you ready to unlock new business opportunities and expand your network? \nJoin us in Houston on July 25th\, at Gray Reed for our exclusive Transatlantic Business Mixer. \n \n\nEngage with industry leaders\, entrepreneurs who are passionate about transatlantic business. Whether you’re looking to explore new markets\, seek investment opportunities\, or simply expand your professional network\, this event is the perfect platform to make meaningful connections. Don’t miss this chance to be part of a vibrant and influential community that is shaping the future of transatlantic business.\n  \n  \n  \nTuesday\, July 25th\n\n1300 Post Oak Boulevard Suite 2000 Houston TX 77056 \n6:00PM – 8:00PM Networking Cocktail & Hors D’oeuvres\nEACC Texas Members: Free\nNon-members and guests: Free \nREGISTER HERE\n  \nMark your calendar for July 25th and join us at Gray Reed.\nTogether\, let’s unlock your business potential!\n 
URL:https://www.eacctx.com/2event/houston-transatlantic-business-mixer-gray-reed/
LOCATION:Gray Reed\, 1300 Post Oak Boulevard Suite 2000\, Houston\, 77056
CATEGORIES:events,upcoming
ORGANIZER;CN="EACC Texas":MAILTO:info@eacctx.com
END:VEVENT
END:VCALENDAR