BEGIN:VCALENDAR
VERSION:2.0
PRODID:-//European American Chamber of Commerce Texas [EACCTX] | Your Partner for Transatlantic Business Resources - ECPv6.15.20//NONSGML v1.0//EN
CALSCALE:GREGORIAN
METHOD:PUBLISH
X-ORIGINAL-URL:https://www.eacctx.com
X-WR-CALDESC:Events for European American Chamber of Commerce Texas [EACCTX] | Your Partner for Transatlantic Business Resources
REFRESH-INTERVAL;VALUE=DURATION:PT1H
X-Robots-Tag:noindex
X-PUBLISHED-TTL:PT1H
BEGIN:VTIMEZONE
TZID:America/Chicago
BEGIN:DAYLIGHT
TZOFFSETFROM:-0600
TZOFFSETTO:-0500
TZNAME:CDT
DTSTART:20220313T080000
END:DAYLIGHT
BEGIN:STANDARD
TZOFFSETFROM:-0500
TZOFFSETTO:-0600
TZNAME:CST
DTSTART:20221106T070000
END:STANDARD
BEGIN:DAYLIGHT
TZOFFSETFROM:-0600
TZOFFSETTO:-0500
TZNAME:CDT
DTSTART:20230312T080000
END:DAYLIGHT
BEGIN:STANDARD
TZOFFSETFROM:-0500
TZOFFSETTO:-0600
TZNAME:CST
DTSTART:20231105T070000
END:STANDARD
BEGIN:DAYLIGHT
TZOFFSETFROM:-0600
TZOFFSETTO:-0500
TZNAME:CDT
DTSTART:20240310T080000
END:DAYLIGHT
BEGIN:STANDARD
TZOFFSETFROM:-0500
TZOFFSETTO:-0600
TZNAME:CST
DTSTART:20241103T070000
END:STANDARD
END:VTIMEZONE
BEGIN:VTIMEZONE
TZID:America/New_York
BEGIN:DAYLIGHT
TZOFFSETFROM:-0500
TZOFFSETTO:-0400
TZNAME:EDT
DTSTART:20220313T070000
END:DAYLIGHT
BEGIN:STANDARD
TZOFFSETFROM:-0400
TZOFFSETTO:-0500
TZNAME:EST
DTSTART:20221106T060000
END:STANDARD
BEGIN:DAYLIGHT
TZOFFSETFROM:-0500
TZOFFSETTO:-0400
TZNAME:EDT
DTSTART:20230312T070000
END:DAYLIGHT
BEGIN:STANDARD
TZOFFSETFROM:-0400
TZOFFSETTO:-0500
TZNAME:EST
DTSTART:20231105T060000
END:STANDARD
BEGIN:DAYLIGHT
TZOFFSETFROM:-0500
TZOFFSETTO:-0400
TZNAME:EDT
DTSTART:20240310T070000
END:DAYLIGHT
BEGIN:STANDARD
TZOFFSETFROM:-0400
TZOFFSETTO:-0500
TZNAME:EST
DTSTART:20241103T060000
END:STANDARD
END:VTIMEZONE
BEGIN:VEVENT
DTSTART;TZID=America/Chicago:20230509T180000
DTEND;TZID=America/Chicago:20230509T200000
DTSTAMP:20260421T131211
CREATED:20230425T183632Z
LAST-MODIFIED:20230425T184332Z
UID:47768-1683655200-1683662400@www.eacctx.com
SUMMARY:Europe Day - Houston
DESCRIPTION:  \nThe European American Chamber of Commerce Texas \nand the Honorary Consulate of Sweden in Houston \nare delighted to invite you to celebrate\nEurope Day\nTuesday\, May 9th\nat IKEA Houston\n6:00 PM – 8:00 PM\n\nOn this day\, 73 years ago\, French Foreign Minister Robert Schuman put forward the idea for what would eventually become the European Union. His vision became a reality with the signature of the Treaty of the European Union in Maastricht. Schuman’s animating principle was that closer cooperation and creative thinking could bring lasting peace in Europe and around the world. That same spirit continues to inspire cooperation\, both within the EU and across the Atlantic Ocean.\n\nThe U.S.-EU partnership has grown deeper and stronger in the decades since\, expanding to encompass the full range of regional and global challenges that we face together\, but also as we build the opportunities of the future.\n\n\nFree to attend / Registration required\nWine & light Hors d’oeuvres are included.\nREGISTER HERE\n \n 
URL:https://www.eacctx.com/2event/europe-day-houston/
LOCATION:Ikea Houston\, 7810 Katy Freeway\, HOUSTON\, TX\, 77024\, United States
CATEGORIES:events,upcoming
ORGANIZER;CN="EACC Texas":MAILTO:info@eacctx.com
END:VEVENT
BEGIN:VEVENT
DTSTART;TZID=America/Chicago:20230512T190000
DTEND;TZID=America/Chicago:20230512T213000
DTSTAMP:20260421T131211
CREATED:20230201T192617Z
LAST-MODIFIED:20230501T140045Z
UID:47063-1683918000-1683927000@www.eacctx.com
SUMMARY:Experience EUROPE - at the Galleria Dallas
DESCRIPTION:https://www.eacctx.com/wp-content/uploads/2023/04/Experience-Europe-2.mp4\n \n  \nIs pleased to announce the first major European Culinary & Cultural event\nin Dallas/Fort Worth:\n\nExperience EUROPE\n\n\n\n\nExperience EUROPE™\, in celebration of Europe Day\,\nwill be held May 12th  at the Galleria Dallas\nand will salute the European country’s distinct wines\, gourmet traditions\, culture & industry\nwhich make up the incredible mosaic that is Europe.\n\n \n  \n \n  \n  \n  \n  \n  \n  \n \n  \n  \n   \n  \n  \n  \n  \n  \n  \n  \n  \n  \n  \n  \n  \n  \n \n  \n  \n 
URL:https://www.eacctx.com/2event/experience-europe-may-12-the-galleria-dallas/
LOCATION:The Galleria Dallas\, 13350 Dallas Pkwy\,\, Dallas\, TX\, 75240\, United States
CATEGORIES:events,upcoming
ORGANIZER;CN="EACC Texas":MAILTO:info@eacctx.com
END:VEVENT
BEGIN:VEVENT
DTSTART;TZID=America/New_York:20230518T180000
DTEND;TZID=America/New_York:20230518T210000
DTSTAMP:20260421T131211
CREATED:20230420T185627Z
LAST-MODIFIED:20230420T193327Z
UID:47703-1684432800-1684443600@www.eacctx.com
SUMMARY:SACC Houston: Cross-Chamber Networking
DESCRIPTION:  \nREGISTER HERE\n  \n\nCOPENHAGEN  \n981 S Mason Rd\, Katy\, TX 77450 \nFor more information\, please contact victoria.andersen@sacctx.com
URL:https://www.eacctx.com/2event/sacc-houston-cross-chamber-networking/
LOCATION:Copenhagen European kitchen & Bakery\, 981 S Mason Rd.\, Katy\, TX\, 77450\, United States
CATEGORIES:Partner Events
END:VEVENT
BEGIN:VEVENT
DTSTART;TZID=America/Chicago:20230522T120000
DTEND;TZID=America/Chicago:20230522T130000
DTSTAMP:20260421T131211
CREATED:20230428T175722Z
LAST-MODIFIED:20230519T215342Z
UID:47806-1684756800-1684760400@www.eacctx.com
SUMMARY:EACC NY: Webinar | Quarterly EU Economic Update - Sailing Through Calmer Seas?
DESCRIPTION:  \n \n  \nThe European Union has weathered the impact of Russia’s invasion of Ukraine much better than expected. The commodity price shock of 2022 is now a thing of the past\, as Europe has pivoted away from Russian imports of oil and natural gas with amazing speed. Not only has the EU avoided energy shortages\, but gas prices have now fallen below pre-war levels. This resilience has allowed the EU to shrug off fears of a recession and continue its economic expansion. \nGrowth in 2023 is likely to be stronger than expected just a few months ago. Historically strong labor markets\, improving consumer confidence\, and solid corporate profits are all working to keep the expansion on track\, even in the face of continuing headwinds from the war. Though inflation remains too high\, it is now coming down and should continue to ease in the months ahead. The EU is making massive investments in the green and digital transitions\, which will secure Europe’s energy independence\, support growth and innovation\, and promote a cleaner\, healthier environment. \nJoin us for an in-depth analysis of the European economy and the newly released Spring 2023 Economic Forecast. Our panel will discuss the recent economic data and public policy developments through mid-May and weigh the prospects for European and global growth against a range of potential risk factors.  \nSPEAKERS:\n• Ben Carliner\, Senior Economist\, EU DELEGATION to the UNITED STATES\n• Balazs Parkanyi\, Counsellor for Economic and Financial Affairs\, EU DELEGATION to the UNITED STATES\n• Maddalena Perretti\, Advisor\, ECB’s PERMANENT REPRESENTATION to the UNITED STATES\n• Yvonne Bendinger-Rothschild\, Executive Director\, EACCNY [Moderator] \n \nLOCATION: Online\n\nTIME:\n12:00 PM – 1:00 PM CT\nREGISTRATION FEE:\nEACCTX Members: Free\nEACCTX non-Members: Free\n\nREGISTER HERE\n\nThis event has been organized in partnership with the EU DELEGATION TO THE UNITED STATES
URL:https://www.eacctx.com/2event/eacc-ny-webinar-quarterly-eu-economic-update-sailing-through-calmer-seas/
CATEGORIES:Partner Events
END:VEVENT
BEGIN:VEVENT
DTSTART;TZID=America/New_York:20230531T183000
DTEND;TZID=America/New_York:20230531T203000
DTSTAMP:20260421T131211
CREATED:20230515T155306Z
LAST-MODIFIED:20230515T155306Z
UID:47857-1685557800-1685565000@www.eacctx.com
SUMMARY:HC of Sweden Dallas & SACC Dallas: DreamHack FIRESIDE CHAT + WINE & CHEESE RECEPTION
DESCRIPTION:in Cooperation with\n\n\n\n\n\n\n\n\n\n\n\n\n\n\n\nThe event is free\, but there is limited space so please register to attend.\nThere will be cheese boards and a cash wine bar.\n REGISTER NOW\n(Registration is required) \nDownload the event flyer here.\n\n\n\n\n\n\n  \nREGISTER HERE\n  \n\nTimes Ten Too\,\n 6324 Prospect Ave.\, Dallas\, TX 75214
URL:https://www.eacctx.com/2event/sacc-tx-cross-dreamhack-dallas/
LOCATION:Times Ten Too\, 6324 Prospect Ave\, Dallas\, TX\, 75214\, United States
CATEGORIES:Partner Events
END:VEVENT
END:VCALENDAR