BEGIN:VCALENDAR
VERSION:2.0
PRODID:-//European American Chamber of Commerce Texas [EACCTX] | Your Partner for Transatlantic Business Resources - ECPv6.15.20//NONSGML v1.0//EN
CALSCALE:GREGORIAN
METHOD:PUBLISH
X-WR-CALNAME:European American Chamber of Commerce Texas [EACCTX] | Your Partner for Transatlantic Business Resources
X-ORIGINAL-URL:https://www.eacctx.com
X-WR-CALDESC:Events for European American Chamber of Commerce Texas [EACCTX] | Your Partner for Transatlantic Business Resources
REFRESH-INTERVAL;VALUE=DURATION:PT1H
X-Robots-Tag:noindex
X-PUBLISHED-TTL:PT1H
BEGIN:VTIMEZONE
TZID:America/Chicago
BEGIN:DAYLIGHT
TZOFFSETFROM:-0600
TZOFFSETTO:-0500
TZNAME:CDT
DTSTART:20220313T080000
END:DAYLIGHT
BEGIN:STANDARD
TZOFFSETFROM:-0500
TZOFFSETTO:-0600
TZNAME:CST
DTSTART:20221106T070000
END:STANDARD
BEGIN:DAYLIGHT
TZOFFSETFROM:-0600
TZOFFSETTO:-0500
TZNAME:CDT
DTSTART:20230312T080000
END:DAYLIGHT
BEGIN:STANDARD
TZOFFSETFROM:-0500
TZOFFSETTO:-0600
TZNAME:CST
DTSTART:20231105T070000
END:STANDARD
BEGIN:DAYLIGHT
TZOFFSETFROM:-0600
TZOFFSETTO:-0500
TZNAME:CDT
DTSTART:20240310T080000
END:DAYLIGHT
BEGIN:STANDARD
TZOFFSETFROM:-0500
TZOFFSETTO:-0600
TZNAME:CST
DTSTART:20241103T070000
END:STANDARD
END:VTIMEZONE
BEGIN:VTIMEZONE
TZID:America/New_York
BEGIN:DAYLIGHT
TZOFFSETFROM:-0500
TZOFFSETTO:-0400
TZNAME:EDT
DTSTART:20220313T070000
END:DAYLIGHT
BEGIN:STANDARD
TZOFFSETFROM:-0400
TZOFFSETTO:-0500
TZNAME:EST
DTSTART:20221106T060000
END:STANDARD
BEGIN:DAYLIGHT
TZOFFSETFROM:-0500
TZOFFSETTO:-0400
TZNAME:EDT
DTSTART:20230312T070000
END:DAYLIGHT
BEGIN:STANDARD
TZOFFSETFROM:-0400
TZOFFSETTO:-0500
TZNAME:EST
DTSTART:20231105T060000
END:STANDARD
BEGIN:DAYLIGHT
TZOFFSETFROM:-0500
TZOFFSETTO:-0400
TZNAME:EDT
DTSTART:20240310T070000
END:DAYLIGHT
BEGIN:STANDARD
TZOFFSETFROM:-0400
TZOFFSETTO:-0500
TZNAME:EST
DTSTART:20241103T060000
END:STANDARD
END:VTIMEZONE
BEGIN:VEVENT
DTSTART;TZID=America/Chicago:20230111T180000
DTEND;TZID=America/Chicago:20230111T200000
DTSTAMP:20260421T193924
CREATED:20221213T192557Z
LAST-MODIFIED:20221213T194722Z
UID:47014-1673460000-1673467200@www.eacctx.com
SUMMARY:EACC TEXAS - European American New Year's Celebration - Houston
DESCRIPTION:Register Here
URL:https://www.eacctx.com/2event/eacctx-new-year-celebration-houston/
LOCATION:Jackson Walker\, 1401 McKinney St #1900\, HOUSTON\, TX\, 77010\, United States
CATEGORIES:events,upcoming
ORGANIZER;CN="EACC Texas":MAILTO:info@eacctx.com
END:VEVENT
BEGIN:VEVENT
DTSTART;TZID=America/Chicago:20230117T180000
DTEND;TZID=America/Chicago:20230117T200000
DTSTAMP:20260421T193925
CREATED:20221213T194607Z
LAST-MODIFIED:20230112T194912Z
UID:47024-1673978400-1673985600@www.eacctx.com
SUMMARY:EACC TEXAS - European American New Year's Celebration - Frisco
DESCRIPTION:Join the European American Chamber of Commerce Texas and Globalization Partners\, \nas we share a toast with the North Texan and European Business Community\, to network and celebrate the New Year. \n\nRegister Here\n\nAbout Globalization Partners: \nG-P helps growing companies unlock their full potential by making it possible to build highly skilled global teams in days instead of months. Through our #1 SaaS-based Global Employment Platform™\, we help find\, hire\, onboard\, pay\, and manage team members\, quickly and compliantly\, to expand growth opportunities for everyone\, everywhere – without the hassle of setting up local subsidiaries or branch offices. It’s the everywhere workforce\, working together. G-P\, Global Made Possible. \nVisit Website  \nDirection: \n3001 DALLAS PARKWAY\, FRISCO\, TX 75034 \n 
URL:https://www.eacctx.com/2event/european-american-new-years-celebration-dallas/
LOCATION:Hall Park – Hall Sip Wine Lounge\, 3001 DALLAS PARKWAY\, Frisco\, 75034
CATEGORIES:events,upcoming
ORGANIZER;CN="EACC Texas":MAILTO:info@eacctx.com
END:VEVENT
BEGIN:VEVENT
DTSTART;TZID=America/New_York:20230125T100000
DTEND;TZID=America/New_York:20230125T110000
DTSTAMP:20260421T193925
CREATED:20230112T222903Z
LAST-MODIFIED:20230119T190829Z
UID:47070-1674640800-1674644400@www.eacctx.com
SUMMARY:EACC NY: Webinar | New Scrutiny of Transatlantic M&A Deals: How Recent Regulations Effect pre-M&A Procedures & Requirements
DESCRIPTION:  \n \nEACC NY: Webinar | New Scrutiny of Transatlantic M&A Deals: How Recent Regulations Effect pre-M&A Procedures & Requirements\n \n  \n\nThe COVID-19 pandemic has severely impacted the global economy and the financial markets\, exacerbating systemic risk management issues companies are facing. Companies are presented with a new regulatory environment and grapple with the fact that the pandemic has amplified the scrutiny of social and governance-related risks\, which may have enormous consequences when it comes to the acquisition of foreign-based companies and oversight of foreign subsidiaries. \nIn addition to that 2022 marks the 10th anniversary of the unanimous endorsement of the UN Guiding Principles on Business and Human Rights by the United Nations Human Rights Council which made significant progress connecting business with the enforcement of human rights. \nIn this context\, case law has been developed in the field of human rights corporate accountability; and a broad stakeholder community\, including consumers and investors\, have driven expectations by putting pressure on companies to comply with regulations and to publicly report on their commitment and achievements. \nThese developments lead to a new level of due diligence before merging with or acquiring a company. Our panel will discuss the new compliance landscape and its effect on M&A deals with a special focus on new transatlantic developments. \n\nOur experts will discuss:\n• Updates in U.S. Anti-Corruption Law (FCPA) and its EU equivalent\n• Possible sanctions for FCPA violations\n• What you need to know about OFAC – who must comply and possible penalties\, incl. typical transactions\, exceptions and common pitfalls\n• Overview of the U.S. Forced Labor Statute & its EU equivalent; including enforcement actions and collaboration between transatlantic task forces \nYou will also learn:\n• How to build effective compliance frameworks and commitments to keep track of suppliers/intermediaries and agents\n• Responsibility of the board of directors to develop systems for actionable global governance\, identify and manage risks\n• Successor liability and corruption risks associated with M&A transactions\n• Recent rulings\, enforcement actions and Practice Tip Takeaways \nSPEAKERS:\n• Stephanie Anderson\, Partner and Managing Director\,  ALIXPARTNERS\n• Bernard Cazeneuve\, Partner\, AUGUST DEBOUZY (Former Prime Minister of France)\n• Jordi de Llano\, Partner\, TROUTMAN PEPPER\n• James Rosener\, Managing Partner\, TROUTMAN PEPPER\, President of EACCNY [Moderator]\nREGISTRATION FEE:\nEACCNY Members: Free\nEACCNY non-Members: Free \n\nLocation:\nOnline\n\nTIME:\n10:00 AM – 11:00 AM CT\nREGISTRATION FEE:\nEACCTX Members: Free\nEACCTX non-Members: Free\n\n  \nREGISTER HERE\n  \n\n 
URL:https://www.eacctx.com/2event/eacc-ny-webinar-new-scrutiny-of-transatlantic-ma-deals-how-recent-regulations-effect-pre-ma-procedures-requirements/
CATEGORIES:Partner Events
END:VEVENT
END:VCALENDAR