BEGIN:VCALENDAR
VERSION:2.0
PRODID:-//European American Chamber of Commerce Texas [EACCTX] | Your Partner for Transatlantic Business Resources - ECPv6.15.20//NONSGML v1.0//EN
CALSCALE:GREGORIAN
METHOD:PUBLISH
X-ORIGINAL-URL:https://www.eacctx.com
X-WR-CALDESC:Events for European American Chamber of Commerce Texas [EACCTX] | Your Partner for Transatlantic Business Resources
REFRESH-INTERVAL;VALUE=DURATION:PT1H
X-Robots-Tag:noindex
X-PUBLISHED-TTL:PT1H
BEGIN:VTIMEZONE
TZID:America/Chicago
BEGIN:DAYLIGHT
TZOFFSETFROM:-0600
TZOFFSETTO:-0500
TZNAME:CDT
DTSTART:20210314T080000
END:DAYLIGHT
BEGIN:STANDARD
TZOFFSETFROM:-0500
TZOFFSETTO:-0600
TZNAME:CST
DTSTART:20211107T070000
END:STANDARD
BEGIN:DAYLIGHT
TZOFFSETFROM:-0600
TZOFFSETTO:-0500
TZNAME:CDT
DTSTART:20220313T080000
END:DAYLIGHT
BEGIN:STANDARD
TZOFFSETFROM:-0500
TZOFFSETTO:-0600
TZNAME:CST
DTSTART:20221106T070000
END:STANDARD
BEGIN:DAYLIGHT
TZOFFSETFROM:-0600
TZOFFSETTO:-0500
TZNAME:CDT
DTSTART:20230312T080000
END:DAYLIGHT
BEGIN:STANDARD
TZOFFSETFROM:-0500
TZOFFSETTO:-0600
TZNAME:CST
DTSTART:20231105T070000
END:STANDARD
END:VTIMEZONE
BEGIN:VTIMEZONE
TZID:Europe/Paris
BEGIN:DAYLIGHT
TZOFFSETFROM:+0100
TZOFFSETTO:+0200
TZNAME:CEST
DTSTART:20210328T010000
END:DAYLIGHT
BEGIN:STANDARD
TZOFFSETFROM:+0200
TZOFFSETTO:+0100
TZNAME:CET
DTSTART:20211031T010000
END:STANDARD
BEGIN:DAYLIGHT
TZOFFSETFROM:+0100
TZOFFSETTO:+0200
TZNAME:CEST
DTSTART:20220327T010000
END:DAYLIGHT
BEGIN:STANDARD
TZOFFSETFROM:+0200
TZOFFSETTO:+0100
TZNAME:CET
DTSTART:20221030T010000
END:STANDARD
BEGIN:DAYLIGHT
TZOFFSETFROM:+0100
TZOFFSETTO:+0200
TZNAME:CEST
DTSTART:20230326T010000
END:DAYLIGHT
BEGIN:STANDARD
TZOFFSETFROM:+0200
TZOFFSETTO:+0100
TZNAME:CET
DTSTART:20231029T010000
END:STANDARD
END:VTIMEZONE
BEGIN:VEVENT
DTSTART;TZID=America/Chicago:20221102T173000
DTEND;TZID=America/Chicago:20221102T193000
DTSTAMP:20260421T225600
CREATED:20221011T134505Z
LAST-MODIFIED:20221018T135211Z
UID:46443-1667410200-1667417400@www.eacctx.com
SUMMARY:EuroTech Talks - Connected Resources for Industry 4.0
DESCRIPTION:Connected Resources for Industry 4.0\nIoT devices use the internet to communicate\, collect\, and exchange information about our online activities. Every day\, they generate 1 billion GB of data. By 2025\, there’s projected to be 42 billion IoT-connected devices globally moving from a 1 to1\, 1 to many\, to any transaction mode.   \nLearn more about how connected resources are delivering benefits across industries and will help unlock new revenues\, develop new skills while building a safer world. \nRegister Here\nSPEAKERS\n \n\nTodd Nate\, Head of Private Wireless\, North America\, Nokia     \n\nTodd is responsible for the vision\, strategy\, and execution of Nokia’s North America Enterprise Private Wireless Sales.  He has 25 years of OT experience enabling industrials to step-change their operational productivity/efficiency and business model flexibility which as given him unique insights into the trends and dependencies of successful digital journeys.  His experience spans the energy\, mining\, manufacturing & logistics and public sector value chains. Todd earned his Bachelor of Science in Business at Indiana University and his MBA from Ball State University.   \n\nChris Hanebeck\, Founder and CEO at Truckl     \n\nChris Hanebeck is a seasoned professional\, innovator and technologist focused on supply chain management. His experience in management consulting\, technology startups and senior operating roles spans over three decades and includes successful private-equity led turnarounds. Chris currently serves as CEO of Truckl\, a software company that makes the management and monitoring of freight incredibly easy.  \nChris sits on several advisory boards for supply chain\, robotics\, communication\, and financial service startups and is an advisor on supply chain\, global trade and blockchain to the World Economic Forum. Prior to Truckl\, he led major business architecture initiatives for MasterCard\, managed a team of global innovation consultants at IBM and served as COO of the first cryptographic startup for IoT devices among other posts. He holds several patents\, regularly speaks at major conferences\, and teaches supply chain at the University of North Texas. \n\nOmar Ghazzaoui\, Co-founder and CEO at OTTOGEE\, VOS Systems     \n\nIn 2019\, Omar co-founded OTTOGEE\, an advanced technology\, IoT and AI start-up. Our mission is to increase worker safety and security\, reduce costs\, and lead digital transformation for heavy industries. In 2019\, the company was funded and backed by Techstars\, the world’s largest accelerator programs. \nOmar is widely experienced in international heavy industries digital transformation having spent more than 15 years of experience between the Middle East\, Europe and the United States. Before founding OTTOGEE\, Omar was leading Caterpillar’s digital and defense strategy as a senior manager Corporate Strategy based in Caterpillar’s headquarters in Illinois with a focus on the emerging markets. Before joining Caterpillar\, he was a senior consultant at the Boston Consultant Group where he advised Middle Eastern governments on topics of Defense and Smart Cities. Omar’s international exposure started as a project manager for iconic construction projects in Europe\, Middle East and Central Asia\, including the Dubai Mall (world’s largest mall at the time) and the Kashagan oil-field (world’s second largest oil-field construction project) while working with Greece-based Consolidated Contractors Company (comprised of the largest 15 construction companies on ENR). \nOmar holds an MBA from INSEAD France and bachelor’s in Civil and Environmental Engineering from the American University of Beirut. \nMODERATOR\n\nClaire Burgaud\, Director\, Partners & Ecosystems Marketing\, Nokia    \n\nClaire Burgaud is Manager of Partners & Ecosystems Marketing at Nokia with more than 25 years of experience in management & IT consulting\, business development\, and sales & marketing for leading companies across diverse B2B industries. With ample engineering and marketing expertise\, she thrives in fast-paced environments that leverage new technologies\, co-creation\, innovation\, and diversity.  \nShe is currently based in Dallas\, Texas\, and spends her free time volunteering for the Dallas International School as PTO board member\, the European American Chamber of Commerce Texas and the Ecole Centrale Paris in France.
URL:https://www.eacctx.com/2event/eurotech-talks-november-2nd-ios/
LOCATION:Richardson IQ\, 1302 E Collins Blvd.\, Richardson\, TX\, 75081\, United States
CATEGORIES:events,upcoming
ORGANIZER;CN="EACC Texas":MAILTO:info@eacctx.com
END:VEVENT
BEGIN:VEVENT
DTSTART;TZID=Europe/Paris:20221115T090000
DTEND;TZID=Europe/Paris:20221115T103000
DTSTAMP:20260421T225600
CREATED:20221017T153113Z
LAST-MODIFIED:20221026T160839Z
UID:46561-1668502800-1668508200@www.eacctx.com
SUMMARY:EACC PARIS: Discussion on the basic information that French companies need when considering a US presence.
DESCRIPTION:  \nJoin the EACC Paris for a discussion on the basic information that French companies need when considering a US presence. \n« Les étapes pour une implantation pérenne aux USA »\n\nTaille du marché\, dynamisme économique\, production à des couts faibles\, main d’œuvre qualifiées… les Etats-Unis représentent un marché plus qu’attractif pour de nombreuses entreprises. \nQuelles sont les étapes clés\, quelles sont les choses à éviter\, sur quoi vous baser pour choisir votre lieu d’implantation et ensuite réussir votre implémentation ? \nDu démarrage en France jusqu’à l’implantation aux Etats-Unis\, des experts et des entreprises témoignent sur les enjeux et partagent leurs conseils pratiques sur des spécificités à connaître avant de s’y implanter pour s’assurer une expansion pérenne. \n\n\nPROGRAMME \n\n\n8:30 – Petit-déjeuner \n9:00-10:00 – Panel (en Français & Anglais) \n10:00-10:15 Questions / réponses \n\n\n\n\n\n\nPANELISTES \n\n\n\nRobert J Donovan Jr.\, First Secretary for Commercial Affairs\, US Embassy in France \, Senior Manager\, Jobs Ohio \n\n|bio| \n\n\nAlina Hatastasanu\, Senior Manager\, Jobs Ohio \n|bio| \n\nSophie Tricaud\, Vice President\, Corporate affairs & Sustainability\, Member of the Board\, Forsee Power. \n|bio| \n\nLaurent Sansoucy\, Director at OCO Global \n|bio| \n\n\n\n\n\n\n\n\n\nInvitation personnelle\, Inscription obligatoire. Pour plus d’information\, contactez Catherine Zdziechowski  \nInscription\n\n\n\n\n\n  \nLOCATION \n\nCercle de l’Union Interalliée*\n33 Rue du Faubourg Saint-Honoré\, 75008 Paris \n*Les messieurs sont invités à porter la veste et la cravate\, merci par avance de leur aimable compréhension. \n\n\n  \n\n\n\nEvent Kindly hosted by
URL:https://www.eacctx.com/2event/eacc-paris-discussion-on-the-basic-information-that-french-companies-need-when-considering-a-us-presence/
LOCATION:Cercle de l’Union Interalliée\, 33 Rue du Faubourg Saint-Honoré\, Paris\, 75008\, France
CATEGORIES:Partner Events
END:VEVENT
BEGIN:VEVENT
DTSTART;TZID=America/Chicago:20221115T120000
DTEND;TZID=America/Chicago:20221115T130000
DTSTAMP:20260421T225600
CREATED:20221031T150042Z
LAST-MODIFIED:20221110T161014Z
UID:46611-1668513600-1668517200@www.eacctx.com
SUMMARY:EACC NY: Webinar | Quarterly EU Economic Update - How Much Closer Will Europe Come Together to Stay Warm This Winter?
DESCRIPTION:  \n\nThe Russian invasion of Ukraine\, as the world was just beginning to emerge from COVID\, has been a huge shock to the global economy and no region of the world has borne the brunt of this shock as much as Europe. The war has led millions of refugees to seek safety in the EU\, caused household food and energy bills to soar\, and threatened the competitiveness of entire industrial sectors as the costs of basic inputs have mounted. \nYet the shock of the attack on Ukraine has reinforced the lessons learned from the pandemic namely that coordinated\, collective action is the only effective response\, and Europe is stronger & more effective when it acts in unison. The war has thus been a galvanizing force that is bringing the EU closer together. \nIt is now clear that the green energy transition is not simply a matter of combating climate change\, but that making Europe independent from Russian fossil fuel imports is a strategic necessity. The EU and its Member States are already executing a host of policy measures\, some initiated during the Covid 19 Pandemic\, that will mobilize hundreds of billions of euros in new energy investments\, contain energy prices and bring inflation back under control\, and support freedom and democracy in Ukraine. \n  \nWith winter fast approaching\, these efforts have already begun to bear fruit.\n• Natural gas reserves are over 90% full\, and Russian imports have fallen from 40% last year to under 10%.\n• Construction of new energy infrastructure is beginning\, households and businesses are receiving support to ease the pain of high energy bills.\n• The Ukrainian people are getting aid that will allow them to continue their stand against Russian aggression. \nBut these early successes have not resolved all of the challenges that lie ahead. The economic outlook is complex: the EU faces the prospect of a recession in 2023\, many member states may face fiscal constraints as they seek to provide for needed investments and social spending\, and risks are\, to say the least\, tilted to the downside. \n  \nIn this fluid and challenging geo-political environment\, be sure to join us for a discussion of the EU Commission’s latest economic forecast and learn more about:\n• How the EU is simultaneously attempting to cushion Europe from the economic shocks it is facing\, including how Member States are implementing significant structural reforms to counteract these economic challenges.\n• How Europe is investing in new and innovative renewable energy technologies that could put European firms at the leading edge of green innovations.\n• The west’s resolve and resilience as it combats authoritarian threats to liberal democracy and the rule of law. \n\n \n\nSPEAKERS:\n• Ben Carliner\, Senior Economist\, EU DELEGATION TO THE UNITED STATES\n• Balazs Parkanyi\, Counsellor for Economic and Financial Affairs\, EU DELEGATION TO THE UNITED STATES\n• Debora Revoltella\, Director – Economics Department\, EUROPEAN INVESTMENT BANK\n• Yvonne Bendinger-Rothschild\, Executive Director\, EACCNY [Moderator]\n \n  \nTIME:\n12:00 – 1:00 PM CT \nREGISTRATION FEE:\nEACCTX Members: Free\nEACCTX non-Members: Free\n \n  \nREGISTER HERE\n\n  \nLocation: Online
URL:https://www.eacctx.com/2event/eacc-ny-webinar-quarterly-eu-economic-update-how-much-closer-will-europe-come-together-to-stay-warm-this-winter/
CATEGORIES:Partner Events
END:VEVENT
BEGIN:VEVENT
DTSTART;TZID=America/Chicago:20221130T100000
DTEND;TZID=America/Chicago:20221130T110000
DTSTAMP:20260421T225600
CREATED:20221031T154512Z
LAST-MODIFIED:20221110T155947Z
UID:46616-1669802400-1669806000@www.eacctx.com
SUMMARY:EACC NY: Webinar | The EU-US Relationship Beyond the US Midterm Elections
DESCRIPTION:EACC NY: Webinar | The EU-US Relationship Beyond the US Midterm Elections\n\n\nIssues on the table include:\n\n\n\n\nNATO: US leadership current Involvement in Ukraine\nCollaboration with the EU on technology and innovation\,the future of the EU/US Trade & Technology Council\nEnvironment: Support for a Green Transition on both sides of the Atlantic\, incl. joint efforts too upgrade ailing Infrastructure\nUnited Nations: Collaboration on the global stage incl. in the UN Security Council\nTrade/Tarrifs and WTO Reforms\nCollaboration on Sanctions\nCoordinated Monetary policy to address Inflation\nTaxation/Business: Global Minimum Tax and other reforms planned in the U.S. and across Europe\n\n \n\nLocation:\nOnline\n\nTIME:\n10:00 AM – 11:00 AM CT\nREGISTRATION FEE:\nEACCTX Members: Free\nEACCTX non-Members: Free\n\n  \nREGISTER HERE\n\n 
URL:https://www.eacctx.com/2event/https-eaccny-com-events-event_id1152/
CATEGORIES:Partner Events
END:VEVENT
BEGIN:VEVENT
DTSTART;TZID=America/Chicago:20221130T100000
DTEND;TZID=America/Chicago:20221130T110000
DTSTAMP:20260421T225600
CREATED:20221102T214906Z
LAST-MODIFIED:20221102T214906Z
UID:46650-1669802400-1669806000@www.eacctx.com
SUMMARY:BABC Texas: Webinar | ESTATE PLANNING: U.S. ESTATE CONSIDERATIONS FOR NON-CITIZENS
DESCRIPTION:                                 \n\n\n\n\n\nLET’S TALK ESTATE PLANNING: U.S. ESTATE CONSIDERATIONS FOR NON-CITIZENS\n\nAre you a non-U.S. citizen working and living in the United States? Have you wondered whether you need a will\, trust or other documents while here? Join Jackson Walker for a discussion about estate issues that citizens of the U.K. and other countries face when they decide to reside in the U.S.\, either temporarily or long-term. Learn how to create an estate plan that will not only reduce future taxes and costs but also minimize the risk of disputes between beneficiaries.\n\nWe’ll address such questions as: \n\nWhat is estate planning and is it necessary for non-U.S. citizens?\nShould I consider executing a U.S. will or trust\, even if I only plan to be here for a limited period of time?  Does Texas require me to leave my assets in a certain way?\nWhat happens if I pass away unexpectedly and I don’t have a will?\nIf I were to die in the U.S. as a non-citizen\, where will my estate be administered?\nIn the event of my death\, what arrangements can/should be made for my children if they are minors?\nWhat if I become incapacitated while living in the U.S.?\nDoes the U.S. have an estate tax or inheritance tax at death?\nWhat are the differences between estate taxation of U.S. citizens and non-citizens?\nWhat are the differences between estate taxation of U.S. residents and non-residents?\nIf I plan to live in the U.S. indefinitely but remain a non-citizen\, what considerations do I need to make in my estate plan?\nIs there a way to avoid having my estate subject to U.S. estate taxes?\n\nRegister here and a Zoom link will be sent ahead of the event. \n  \nFind out more Scott A. Schepps and Sarah Patel Pacheco \n  \n\n\n\n\n\n\nVenue\nVirtual\n\n\nStarts\nTue Nov 15 2022\, 12:00pm CST\n\n\nEnds\nTue Nov 15 2022\, 01:00pm CST\n\n\n\n\n  \nREGISTER HERE
URL:https://www.eacctx.com/2event/babc-texas-webinar-estate-planning-u-s-estate-considerations-for-non-citizens/
CATEGORIES:Partner Events
END:VEVENT
END:VCALENDAR