BEGIN:VCALENDAR
VERSION:2.0
PRODID:-//European American Chamber of Commerce Texas [EACCTX] | Your Partner for Transatlantic Business Resources - ECPv6.15.20//NONSGML v1.0//EN
CALSCALE:GREGORIAN
METHOD:PUBLISH
X-ORIGINAL-URL:https://www.eacctx.com
X-WR-CALDESC:Events for European American Chamber of Commerce Texas [EACCTX] | Your Partner for Transatlantic Business Resources
REFRESH-INTERVAL;VALUE=DURATION:PT1H
X-Robots-Tag:noindex
X-PUBLISHED-TTL:PT1H
BEGIN:VTIMEZONE
TZID:America/New_York
BEGIN:DAYLIGHT
TZOFFSETFROM:-0500
TZOFFSETTO:-0400
TZNAME:EDT
DTSTART:20210314T070000
END:DAYLIGHT
BEGIN:STANDARD
TZOFFSETFROM:-0400
TZOFFSETTO:-0500
TZNAME:EST
DTSTART:20211107T060000
END:STANDARD
BEGIN:DAYLIGHT
TZOFFSETFROM:-0500
TZOFFSETTO:-0400
TZNAME:EDT
DTSTART:20220313T070000
END:DAYLIGHT
BEGIN:STANDARD
TZOFFSETFROM:-0400
TZOFFSETTO:-0500
TZNAME:EST
DTSTART:20221106T060000
END:STANDARD
BEGIN:DAYLIGHT
TZOFFSETFROM:-0500
TZOFFSETTO:-0400
TZNAME:EDT
DTSTART:20230312T070000
END:DAYLIGHT
BEGIN:STANDARD
TZOFFSETFROM:-0400
TZOFFSETTO:-0500
TZNAME:EST
DTSTART:20231105T060000
END:STANDARD
END:VTIMEZONE
BEGIN:VTIMEZONE
TZID:America/Chicago
BEGIN:DAYLIGHT
TZOFFSETFROM:-0600
TZOFFSETTO:-0500
TZNAME:CDT
DTSTART:20210314T080000
END:DAYLIGHT
BEGIN:STANDARD
TZOFFSETFROM:-0500
TZOFFSETTO:-0600
TZNAME:CST
DTSTART:20211107T070000
END:STANDARD
BEGIN:DAYLIGHT
TZOFFSETFROM:-0600
TZOFFSETTO:-0500
TZNAME:CDT
DTSTART:20220313T080000
END:DAYLIGHT
BEGIN:STANDARD
TZOFFSETFROM:-0500
TZOFFSETTO:-0600
TZNAME:CST
DTSTART:20221106T070000
END:STANDARD
BEGIN:DAYLIGHT
TZOFFSETFROM:-0600
TZOFFSETTO:-0500
TZNAME:CDT
DTSTART:20230312T080000
END:DAYLIGHT
BEGIN:STANDARD
TZOFFSETFROM:-0500
TZOFFSETTO:-0600
TZNAME:CST
DTSTART:20231105T070000
END:STANDARD
END:VTIMEZONE
BEGIN:VEVENT
DTSTART;TZID=America/New_York:20221011T083000
DTEND;TZID=America/New_York:20221011T103000
DTSTAMP:20260422T002031
CREATED:20221005T143238Z
LAST-MODIFIED:20221005T152430Z
UID:46504-1665477000-1665484200@www.eacctx.com
SUMMARY:EACC NY: The Future of Transatlantic Finance with EU Commissioner McGuinness: The EU-U.S. Cooperation on Digital & Sustainable Finance
DESCRIPTION:Join us for a conversation with Mairead McGuinness\, EU Commissioner in charge of Financial Stability\, Financial Services\, and Capital Markets Union. \nCommissioner McGuinness will explain her priorities regarding sustainable finance including the EU’s plans to finance the transition to a more sustainable economy. We will talk about how the EU addresses climate related risks and the impact of the current energy price hike on climate goals. \nWe will discuss the latest European financial markets developments and Commissioner McGuinness will share an update on the ongoing EU-US financial regulatory cooperation to address the key challenges in the global financial markets. \nShe will highlight the role of financial innovation in creating a competitive financial sector and the need of a global approach to regulating crypto-assets. The EU Commissioner will also offer a state of play on the EU Capital Markets Union and discuss the EU and US coordination on the financial sanctions regime deployed against Russia. \nOther topics will include:\n• European Commission’s priorities on Sustainable Finance\n>> How the EU plans to finance the transition to a more sustainable economy?\n• Climate related risks in the financial sector\n>> Including the impact of the current energy price hike on climate goals\n• European financial markets developments\n• Update on the ongoing EU-US financial regulatory cooperation\n>> Including key challenges in the global financial markets\n• The role of financial innovation in creating a competitive financial sector\n• The need for a global approach to regulating crypto assets\n• State of play on the EU Capital Markets Union\n• EU and US coordination on the financial sanctions regime deployed against Russia \nGUEST OF HONOUR:\n• Mairead McGuinness\, EU Commissioner – Financial Services\, Financial Stability and Capital Markets Union\, EUROPEAN COMMISSION\nIn conversation with Lauren Silva Laughlin\, US Editor\, REUTERS BREAKINGVIEWS \nTIME:\n8:30 – 9:00 AM ET Check in | 9:00 – 10:00 AM ET Program | 10:00 – 10:30 AM ET Networking \nREGISTRATION FEE:\nEACCNY Members: Free\nEACCNY non-Members: Free \nCOVID PROTOCOL:\nProof of Covid-19 Vaccination & Booster required to Attend \nThis event is organized in collaboration with the New York Stock Exchange and the Consulate of Ireland in New York. \n\n  \nLocation:\nNew York Stock Exchange\n2 Broad Street\nNew York\, NY 10005 \n  \nPricing:  \nEACC-Members: Free\nNon-Members: $ 20.00 \n*Membership will be verified by registrant’s email domain. \nParking at the Museum Center will be $ 6.00 \n  \nRegister Here
URL:https://www.eacctx.com/2event/eacc-ny-the-future-of-transatlantic-finance-with-eu-commissioner-mcguinness-the-eu-u-s-cooperation-on-digital-sustainable-finance/
LOCATION:New York Stock Exchange\, 2 Broad Street\, New York\, NY\, 10005\, United States
CATEGORIES:Partner Events
END:VEVENT
BEGIN:VEVENT
DTSTART;TZID=America/New_York:20221013T170000
DTEND;TZID=America/New_York:20221013T190000
DTSTAMP:20260422T002031
CREATED:20220823T205954Z
LAST-MODIFIED:20220927T175010Z
UID:46246-1665680400-1665687600@www.eacctx.com
SUMMARY:EACC Carolinas: European Supply Chain Directive and Statutes: How to prepare your business to meet the new regulatory requirements
DESCRIPTION:Updates on The EU\, German and other European Countries’ Supply Chain Directive and Statutes \nThe proposed European Supply Chain Directive and various statutes in EU countries are designed to monitor and enforce a system to prevent violations of environmental\, global warming and human rights statutes. These require EU companies to audit their products and services providers along the entire global supply chain\, including all direct and indirect business relationships. Many US companies will become directly or indirectly subject to scrutiny\, compliance and burdens from this Directive and its implementation as well as current statutes. \nAccordingly\, if a U.S. subsidiary or established business partner of goods or services is part of or deals with a covered company it must assure that all its products and ingredients/components are in compliance.  The issues are significant for everyone connected with or trading with the EU. There will be substantial civil penalties\, administrative sanctions and clearly imposed direct cost burdens. \nOutlining the latest developments of the EU Supply Chain Directive and key elements of the EU\, German\, French\, Netherlands and UK laws\, this presentation will address how to prepare for the new regulatory requirements: \n\nObligations\, Directors’ Duties\, Civil Liability And Sanctions.\nWho Does The EU Supply Chain Law Apply To?\nHow Will The Directive Impact Small And Mid-Sized Companies?\nHow Can You Assess Your Supply Chain For A Preliminary Analysis Of Operations?\nAre There High-Priority Sector Lists And How To Address Them?\n\nAt an applied level\, the legislative focus on ESG in supply chains means that companies must have a detailed illustration of their existing supplier arrangements. Businesses that are well primed now will have the best prospect of successfully implementing global agreements to comply with these complex\, expansive\, and potentially conflicting supply chain due-diligence laws. \n  \nPricing: Free ticket \nREGISTER HERE
URL:https://www.eacctx.com/2event/eacc-carolinas-european-supply-chain-directive-and-statutes-how-to-prepare-your-business-to-meet-the-new-regulatory-requirements/
LOCATION:575 Millennium Blvd\, Greenville\, SC\, 575 Millennium Blvd\, Greenville\, South Carolina
CATEGORIES:Partner Events
END:VEVENT
BEGIN:VEVENT
DTSTART;TZID=America/New_York:20221019T080000
DTEND;TZID=America/New_York:20221019T093000
DTSTAMP:20260422T002031
CREATED:20220823T210045Z
LAST-MODIFIED:20220823T210045Z
UID:46274-1666166400-1666171800@www.eacctx.com
SUMMARY:EACC Cincinnati: EACC Coffee & Commerce - "Made in Cincinnati" at the Museum Center
DESCRIPTION:Join the EACC Cincinnati for the breakfast series “Coffee & Commerce\,” a monthly opportunity for members and non-members to gather and network and listen to speakers on interesting topics around our Tri-State area. \nIn October we will take you to the stories of “Made in Cincinnati.” Enjoy coffee at the “Landing” and discover how Cincinnati has been a leading city for inventions and manufacturing for a long time. Meet the city’s inventors and laborers\, the products they developed and the markets they transformed. From Porkopolis to the Queen of the West to tomorrow’s modern tech hub\, discover how innovation is\, and always has been\, in Cincinnati’s DNA. \nWhitney Owen  will give an overview of its new permanent exhibit “Made in Cincinnati” the Museum Center has created to show the history and impact of invention and manufacturing on our region.  Together we will discuss how exhibits like this can expose visitors to the promise of careers in manufacturing and support workforce development efforts. \n  \nPricing:  \nEACC-Members: Free\nNon-Members: $ 20.00 \n*Membership will be verified by registrant’s email domain. \nParking at the Museum Center will be $ 6.00
URL:https://www.eacctx.com/2event/eacc-cincinnati-eacc-coffee-commerce-made-in-cincinnati-at-the-museum-center/
LOCATION:Cincinatti Museum Center\, 1301 Western Avenue\, Cincinatti\, OH\, 45203
CATEGORIES:Partner Events
END:VEVENT
BEGIN:VEVENT
DTSTART;TZID=America/Chicago:20221019T100000
DTEND;TZID=America/Chicago:20221019T110000
DTSTAMP:20260422T002031
CREATED:20220923T185112Z
LAST-MODIFIED:20221003T152103Z
UID:46392-1666173600-1666177200@www.eacctx.com
SUMMARY:WEBINAR: Transatlantic Trends in European and Texas Startup Ecosystems
DESCRIPTION:The EACC Texas and Startup Genome present: \nTransatlantic Trends in European and Texas Startup Ecosystems \nJoin us for this webinar on October 19th @ 10am (CDT)\nREGISTER HERE\n\nAbout Startup Genome\nStartup Genome is the world-leading policy advisory and research organization for public and private organizations committed to accelerating the success of their startup ecosystem.\nStartup Genome has advised more than 125 clients across six continents in 45+ countries to date. Our impact is rooted in over a decade of independent research with data on three million companies across 280 cities. Working side-by-side with 300 partner organizations\, our frameworks and methodologies have become instrumental in building foundations for startups and startup ecosystems to grow.\nGlobal Startup Ecosystem Report 2022 by Startup Genome (link)\nSpeakers\n \n  \nDavid Overton – Partner\, Opus Faveo Innovation Development Austin\, TX\nDavid Overton has extensive experience in strategic planning\, competitor analysis and customer research for a wide range of organizations. After completing his studies\, David joined McKinsey & Company as a management consultant\, where he focused on strategy\, growth and profit improvement projects. He then worked in executive roles for several leading retailers\, including May Department Stores\, Sears\, and JCPenney\, most recently as Vice President for Customer and Strategic Insights. \nDavid has served on several boards\, and he currently serves on the board of Mercy Ships\, a leading international NGO focused on health and human development. David holds a degree in Accounting from Texas Tech University and a Masters of Management degree from the Sloan School of Management at MIT. \n\n\nSimon Mak – Director\, Caruth Institute for Entrepreneurship\, Southern Methodist University\, Dallas\, TX\nDr. Simon Mak (@profsmak) is Executive Director of the Caruth Institute for Entrepreneurship and Professor of Practice in the Department of Strategy\, Entrepreneurship\, and Business Economics at the SMU Cox School of Business. He directs the Caruth Institute staff and its many community service programs\, such as the Dallas 100 Entrepreneur Awards\, the Southwest Venture Forum\, the Starting A Business certificate course\, and the Startup Camp for Teens. In addition\, Dr. Mak leads the academic entrepreneurship programs at Cox by overseeing the BBA Specialization in Entrepreneurship and the MBA/graduate program in entrepreneurship\, managing a team of over a dozen adjunct professors in teaching over 20 entrepreneurship courses. Dr. Mak also works with the Lyle School of Engineering on the MS in Engineering Entrepreneurship degree program. \nDr. Mak is one of the leaders at SMU in researching blockchain and created an MBA class called Blockchain Entrepreneurship where he taught about CryptoKitties as one of the first NFT (Non-Fungible Token) startup business models.  He has traveled to London\, Berlin\, Malta\, Kuala Lumpur\, Singapore\, Israel\, Beijing\, and Shanghai researching blockchain startups. He has formed a company Genesis Blockchain Academy\, LLC that is supported by the SMU Incubator. \nDr. Mak also researches esports entrepreneurship and just completed a project with a graduate assistant researching startup business models in esports. He is the faculty advisor for the SMU Esports Club and co-director of the newly created SMU Esports Business Management Certificate. He has traveled to London\, Stockholm and Israel researching esports startups. His newest research interest is in space entrepreneurship. \nDr. Mak specializes in ideation (having created an BBA course called Identifying Entrepreneurial Opportunities)\, emerging business models and strategies\, corporate entrepreneurship (having created an MBA course called Corporate Entrepreneurship:Intrapreneuring)\, and global entrepreneurship (having created an MBA course called Global Explorations in Entrepreneurship and brought his students to Berlin\, Zurich\, Israel\, and Kuala Lumpur to study their local entrepreneurship ecosystems). Dr. Mak also teaches strategic thinking in the SMU Cox Executive Education program called Transformational Leadership.   \nPrior to joining SMU\, Dr. Mak worked as an engineer for Fortune 50 companies Raytheon and Digital Equipment Corporation\, and then was an early employee of venture-backed software startup Mercury Interactive in Silicon Valley as a field applications engineer and then was the Texas Regional Sales Manager after the company’s IPO. He was involved in his own healthcare dot.com startup and presented to top-tier venture capital firms in Silicon Valley\, and then was the vice president of sales and marketing for a startup Asian business magazine\, and most recently he was vice president of marketing and business development for a small\, Dallas-based private-equity backed Linux software company and led the sales expansion into the Japanese market and the eventual company sale to a large Japanese systems integration company. \nDr. Mak earned his BS in Mechanical Engineering from MIT\, an MBA in Finance from the SMU Cox School of Business\, and a Ph.D. in Applied Science (Systems Engineering focus) from the SMU Lyle School of Engineering\, where his PhD dissertation was entitled: Improving Investment Performance of Venture Financing Utilizing Bayesian Fundamentals. Dr. Mak is also the recipient of the SMU Cox Teaching Innovation award\, SMU Distinguished Community Service Award\, the SMU Rotunda Outstanding Professor Award\, and the Global Educator of the Year by the Dallas Global Chamber of Commerce. Dr. Mak is also the faculty advisor to the SMU Undergraduate Entrepreneurship Club\, the MBA Entrepreneurship Club\, the SMU Intervarsity Fellowship\, is on the SMU Incubator Advisory Committee\, and also helps judge the annual Big Ideas undergraduate business plan competition. \nIn January 2021\, Dr. Mak helped launch the USASBE (United States Association for Small Business and Entrepreneurship) Special Interest Group (SIG) on Tech Entrepreneurship and serves as the inaugural chair. \nIn January 2021\, Dr. Mak was appointed to the Dallas Mayor’s Task on Innovation and Entrepreneurship where he chairs the Big Fat Hairy Audacious Idea Committee. \n\n\nEbetuel (Beto) Pallares – Partner\, Joseph Advisory\, Betopallares.vc\, El Paso\, TX\nEbetuel (Beto) Pallares was born in Cd. Juarez\, Chihuahua\, Mexico and raised in El Paso\, TX.  He began his career as a management consultant focused primarily on the telecom industry. He’s also been a start-up entrepreneur\, a telecom executive\, and restaurateur\, a nonprofit director\, a venture capitalist\, and a professor. Beto’s investment expertise is in seed and early stage venture investments\, as well as venture fund creation. He currently advises a family office on fund commitments and direct investments into private operating companies\, and is the general partner/fund manager of two funds. Beto enjoys being involved in entrepreneurial transformation\, particularly in the Borderplex region where he incorporates best-in-class mentorship\, tech tools and resources for start-up founders and aspiring investors. He teaches entrepreneurship and strategic management at New Mexico State University where he holds the Bill and Sharron Sheriff Endowed Chair in Entrepreneurship.  Beto is a Kauffman Fellow and a Presidio Fellow and over the years has served on the board of over two dozen private companies.  He also serves on the board of Exagen\, Inc. (NASDAQ: XGN).  Beto holds a Ph.D. in International Business Strategy from the University of Texas at El Paso\, in addition to an MBA. He received a B.A. in economics from Brandeis University.  Beto frequently lectures internationally on topics ranging from tech ecosystem development and start-up mentorship.\n\n\nJuliana Garaizar – Head of Houston Incubator\, VP of Innovation for Greentown Labs\, Houston\, TX\nJuliana is the Head of Houston Incubator and VP of Innovation for Greentown Labs. A Board Member of the Angel Capital Association\, Juliana is a Lead Investor of the Portfolia Rising America Fund that invests in BIPOC and LGTBQ founders\, as well as the Portfolia Consumer and Rising Tide Funds. She is also an Advisory Board Member of the Houston Diversity Fund\, the Investors of Color network\, the Latinx Startup Alliance and Impulse4women. A Kauffman Fellow experienced in Bridging the Gender Gap in investing\, she is part of the City of Houston’s Women Commission. Juliana was the Texas Medical Center Venture Fund Director and the Managing Director of the Houston Angel Network. She was the Manager of the in the French Riviera’s Sophia Business Angels network and Antipolis Innovation Campus and Project Manager of several International Projects funded by the European Commission. Previously\, Juliana worked for 5 years in Singapore: first as an International Trade Consultant for the Trade Commission of Spain in a broad range of industry sectors and then as a Project Manager for the Asia Technology Office of Citigroup\, leading projects at the international level. Juliana obtained an MBA at the London Business School and Haas School of Business in Berkeley\, specializing in Entrepreneurship.\n\n  \nStephen Kuester – Head of Ecosystem Strategy\, Startup Genome\, London\nStephan works with clients in government and private industry consortia all around the world\, advising on the creation and the acceleration of tech and innovation clusters. Prior to his role at Startup Genome\, Stephan headed up the International Consulting practice at UK ecosystem agency Tech Nation (aka Tech City UK) in London and served as Managing Director of digital Switzerland. \nPrevious to his work in the digital ecosystems space\, Stephan worked as an executive director for professional services firms Arthur Andersen and Ernst & Young. Stephan holds an MSc in Economics and studied at the University of Bonn\, Germany and the London School of Economics (LSE). \n  \nLearn more about Texas Startup Ecosystems\nTexas Startup Manifesto 2.0 by Josh Baer (link)\nDallas Innovates – Dallas makes list of top ranked ecosystems for second straight year (link)\nLearn more about European Startup Ecosystems\nStartup Genome – Europe’s Booming Startup Ecosystems (link)\n 
URL:https://www.eacctx.com/2event/webinar-transatlantic-trends-in-european-and-texas-startup-ecosystems/
LOCATION:Zoom Webinar
CATEGORIES:events,upcoming
ORGANIZER;CN="EACC Texas":MAILTO:info@eacctx.com
END:VEVENT
BEGIN:VEVENT
DTSTART;TZID=America/Chicago:20221026T173000
DTEND;TZID=America/Chicago:20221026T193000
DTSTAMP:20260422T002031
CREATED:20220916T180638Z
LAST-MODIFIED:20221020T214204Z
UID:46327-1666805400-1666812600@www.eacctx.com
SUMMARY:Networking Austin - Transatlantic Immigration Update at Foster LLP
DESCRIPTION:REGISTER HERE\n  \nSpeaker Bio\nDorothee B. Mitchell is a senior partner of the leading global immigration law firm Foster LLC. A native of Germany\, she is licensed to practice law both in the United States and in Germany (Rechtsanwältin). Ms. Mitchell is considered an expert in immigration matters having worked exclusively in immigration law for nearly 20 years. Her experience includes serving the needs of corporate clients of many industries including prominent German corporate and individual clients with transfers to the United States. Ms. Mitchell also represents client with German citizenship matters. She is a frequent public speaker on immigration matters. In addition to her law practice\, Ms. Mitchell is the first Honorary Consul of the Federal Republic of Germany in Austin.\n\n  \n  \nRobert Hull was appointed as the Consul General of Ireland to the southern central United States in January 2022. Based in Austin\, Texas\, he leads Ireland’s team covering Arkansas\, Kansas\, Louisiana\, Misouri\, Oklahoma and Texas.Robert joined the Department of Foreign Affairs in 2008 and has served in the Embassy of Ireland in Tanzania\, the Permanent Mission of Ireland to the Organisation for Security and Cooperation in Europe (OSCE)\, and in Ireland’s Representative Office in Timor-Leste. He was also seconded for three years from 2013-2016 to the European External Action Service\, serving in the Delegation of the European Union to the Multilateral Organisations in Vienna. Prior to taking up his post in Austin\, Robert served in the Department’s Political and Reconciliation Section\, in the Ireland\, UK and Americas Division. His role focused on engagement work in Northern Ireland. He has also previously held positions in the Department’s Political Division and Press Office. Robert is from Belfast\, and holds a Master of Arts (Hons.) in International Studies and Diplomacy from the School of Oriental and Africa Studies\, University of London and a Bachelor of Arts (Hons.) in History from the University of Durham. 
URL:https://www.eacctx.com/2event/transatlantic-immigration-update-austin-at-foster-llp/
LOCATION:Foster LLP\, 912 S. Capital of Texas Highway\, Suite 450\, Austin\, TX\, United States
CATEGORIES:events,upcoming
ORGANIZER;CN="European American Chamber of Commerce Texas":MAILTO:info@eacctx.com
END:VEVENT
END:VCALENDAR