BEGIN:VCALENDAR
VERSION:2.0
PRODID:-//European American Chamber of Commerce Texas [EACCTX] | Your Partner for Transatlantic Business Resources - ECPv6.15.20//NONSGML v1.0//EN
CALSCALE:GREGORIAN
METHOD:PUBLISH
X-WR-CALNAME:European American Chamber of Commerce Texas [EACCTX] | Your Partner for Transatlantic Business Resources
X-ORIGINAL-URL:https://www.eacctx.com
X-WR-CALDESC:Events for European American Chamber of Commerce Texas [EACCTX] | Your Partner for Transatlantic Business Resources
REFRESH-INTERVAL;VALUE=DURATION:PT1H
X-Robots-Tag:noindex
X-PUBLISHED-TTL:PT1H
BEGIN:VTIMEZONE
TZID:America/New_York
BEGIN:DAYLIGHT
TZOFFSETFROM:-0500
TZOFFSETTO:-0400
TZNAME:EDT
DTSTART:20210314T070000
END:DAYLIGHT
BEGIN:STANDARD
TZOFFSETFROM:-0400
TZOFFSETTO:-0500
TZNAME:EST
DTSTART:20211107T060000
END:STANDARD
BEGIN:DAYLIGHT
TZOFFSETFROM:-0500
TZOFFSETTO:-0400
TZNAME:EDT
DTSTART:20220313T070000
END:DAYLIGHT
BEGIN:STANDARD
TZOFFSETFROM:-0400
TZOFFSETTO:-0500
TZNAME:EST
DTSTART:20221106T060000
END:STANDARD
BEGIN:DAYLIGHT
TZOFFSETFROM:-0500
TZOFFSETTO:-0400
TZNAME:EDT
DTSTART:20230312T070000
END:DAYLIGHT
BEGIN:STANDARD
TZOFFSETFROM:-0400
TZOFFSETTO:-0500
TZNAME:EST
DTSTART:20231105T060000
END:STANDARD
END:VTIMEZONE
BEGIN:VTIMEZONE
TZID:America/Chicago
BEGIN:DAYLIGHT
TZOFFSETFROM:-0600
TZOFFSETTO:-0500
TZNAME:CDT
DTSTART:20210314T080000
END:DAYLIGHT
BEGIN:STANDARD
TZOFFSETFROM:-0500
TZOFFSETTO:-0600
TZNAME:CST
DTSTART:20211107T070000
END:STANDARD
BEGIN:DAYLIGHT
TZOFFSETFROM:-0600
TZOFFSETTO:-0500
TZNAME:CDT
DTSTART:20220313T080000
END:DAYLIGHT
BEGIN:STANDARD
TZOFFSETFROM:-0500
TZOFFSETTO:-0600
TZNAME:CST
DTSTART:20221106T070000
END:STANDARD
BEGIN:DAYLIGHT
TZOFFSETFROM:-0600
TZOFFSETTO:-0500
TZNAME:CDT
DTSTART:20230312T080000
END:DAYLIGHT
BEGIN:STANDARD
TZOFFSETFROM:-0500
TZOFFSETTO:-0600
TZNAME:CST
DTSTART:20231105T070000
END:STANDARD
END:VTIMEZONE
BEGIN:VEVENT
DTSTART;TZID=America/New_York:20220707T090000
DTEND;TZID=America/New_York:20220707T110000
DTSTAMP:20260422T045850
CREATED:20220629T144733Z
LAST-MODIFIED:20220629T144733Z
UID:46115-1657184400-1657191600@www.eacctx.com
SUMMARY:Webinar: Intellectual Property and SMEs in the Digital Economy
DESCRIPTION:  \nJoin EACC Texas member Carter DeLuca Farrell LLP in the upcoming TTC webinar on Intellectual Property and SMEs in the Digital Economy. \nThursday July 7\, from 9am – 11am EDT \nThe programme will feature speakers from the European Commission and the U.S. Government who will present and discuss subjects having significant importance for SMEs and being of major priority for policymakers on both sides of the Atlantic.  Private sector representatives and SMEs will also share best practices about protecting intellectual property when pursuing international business opportunities. Additional topics will include the importance of intellectual property to attract investment as well as resources to help small businesses take the next step in protecting their intellectual property. \nRegister here \n \n 
URL:https://www.eacctx.com/2event/webinar-intellectual-property-and-smes-in-the-digital-economy/
CATEGORIES:Partner Events
END:VEVENT
BEGIN:VEVENT
DTSTART;TZID=America/Chicago:20220714T100000
DTEND;TZID=America/Chicago:20220714T110000
DTSTAMP:20260422T045850
CREATED:20220627T200141Z
LAST-MODIFIED:20220627T200752Z
UID:46100-1657792800-1657796400@www.eacctx.com
SUMMARY:Webinar: Reining in on Sanctions Evasion - Managing the Complexity of an Ever-evolving Sanctions Regimen
DESCRIPTION:REGISTER HERE\nSanctions only work when they can be effectively enforced. Especially global Sanctions regimen are hard to track and with that even harder to enforce. On the other hand\, with evolving sanctions like the ones against Russia many companies and financial institutions find it hard to ensure that their business activities are compliant. Fines for non-compliance are high and the reputational risk sometime even higher. \nJoin us at this discussion\, where our panelists will update us on both EU and US sanction developments and outline the most common and effective techniques to prevent and detect sanctions evasion. You will also learn about the biggest challenges companies\, advisors\, financial institutions and policy makers face to develop systems and new ways to collaborate to stay on top of the latest sanction developments.
URL:https://www.eacctx.com/2event/webinar-reining-in-on-sanctions-evasion-managing-the-complexity-of-an-ever-evolving-sanctions-regimen/
CATEGORIES:Partner Events
END:VEVENT
BEGIN:VEVENT
DTSTART;TZID=America/Chicago:20220714T183000
DTEND;TZID=America/Chicago:20220714T213000
DTSTAMP:20260422T045850
CREATED:20220608T201103Z
LAST-MODIFIED:20220706T165812Z
UID:46031-1657823400-1657834200@www.eacctx.com
SUMMARY:Celebrate La Fête Nationale de France 2022 Dinner at Lavendou in Dallas!
DESCRIPTION:CELEBRATE LA FETE NATIONALE DE FRANCE AT LAVENDOU BISTRO IN DALLAS! \nStorm Lavendou Bistro Provençal with the Alliance Française and the EACC Texas\nto celebrate the National Day of France!\n\n\nEnjoy a delicious French dinner\, great wine\, and the celebratory atmosphere of friends as we gather to sing La Maseillaise for the 32th year…or more\n Who’s counting?!\n\nThursday\, July 14\, 2022 \nRegistration & Reception 6:30 PM | Dinner 7:30 PM \nLimited Seating Available | Reservations Required \nEACCTX members: $90 per person \nNon-members: $110 per person  \nIncludes dinner\, wine & gratuity \n\nLavendou Bistro Provençal \n19009 Preston Road\, Suite 200 (at Lloyd Road) | Dallas\, TX 75252 \nREGISTER HERE\n\n \n  \n \n\n\n\nLe Menu \nLa Soupe Froide aux Concombres \nChilled Cucumber Soup \n******* \nLa Salade Frisée au Roquefort et Lardons \nFrisée Salad with Roquefort Cheese\, Bacon & Pecans \n******* \nJarret d’Agneau Petits Lègumes et Couscous \nBraised Lamb Shank with Vegetables and Couscous \n\nFish/Poisson option will be available \n\n******* \nNapoléon aux Fruits de Saison \nMixed Berries served in a Pastry Shell with Raspberry Coulis and Chantilly \n******** \nThursday\, July 14\, 2022 \nRed\, White and Sparkling wines\, tax and tip included. \n\n\n\n 
URL:https://www.eacctx.com/2event/bastille-day-dinner-at-lavendou-in-dallas-2/
LOCATION:Lavendou Bistro Provençal\, 19009 Preston Road\, Suite 200\, Dallas\, TX\, 75252\, United States
CATEGORIES:events,upcoming
ORGANIZER;CN="EACC Texas":MAILTO:info@eacctx.com
END:VEVENT
BEGIN:VEVENT
DTSTART;TZID=America/Chicago:20220720T130000
DTEND;TZID=America/Chicago:20220720T150000
DTSTAMP:20260422T045850
CREATED:20220713T221011Z
LAST-MODIFIED:20220713T221011Z
UID:46134-1658322000-1658329200@www.eacctx.com
SUMMARY:Webinar: Top tips to eliminating the hidden costs of your forklift operations
DESCRIPTION:EACC Texas Board Member Quebec Delegation in Houston invites you to attend a webinar on July 20th discussing the top tips to eliminating the hidden costs of forklift operations. \nForklift operations can be a huge cost center for businesses. Many material-handling teams are facing pressure to find new solutions to curb costs\, all while maintaining peak productivity. \nRelying on legacy technology simply doesn’t work anymore. \nREGISTER HERE to attend the webinar on Wednesday\, July 20th at 2pm EDT (1pm CDT) \n 
URL:https://www.eacctx.com/2event/webinar-top-tips-to-eliminating-the-hidden-costs-of-your-forklift-operations/
CATEGORIES:Partner Events
END:VEVENT
END:VCALENDAR