BEGIN:VCALENDAR
VERSION:2.0
PRODID:-//European American Chamber of Commerce Texas [EACCTX] | Your Partner for Transatlantic Business Resources - ECPv6.15.20//NONSGML v1.0//EN
CALSCALE:GREGORIAN
METHOD:PUBLISH
X-WR-CALNAME:European American Chamber of Commerce Texas [EACCTX] | Your Partner for Transatlantic Business Resources
X-ORIGINAL-URL:https://www.eacctx.com
X-WR-CALDESC:Events for European American Chamber of Commerce Texas [EACCTX] | Your Partner for Transatlantic Business Resources
REFRESH-INTERVAL;VALUE=DURATION:PT1H
X-Robots-Tag:noindex
X-PUBLISHED-TTL:PT1H
BEGIN:VTIMEZONE
TZID:America/Chicago
BEGIN:DAYLIGHT
TZOFFSETFROM:-0600
TZOFFSETTO:-0500
TZNAME:CDT
DTSTART:20210314T080000
END:DAYLIGHT
BEGIN:STANDARD
TZOFFSETFROM:-0500
TZOFFSETTO:-0600
TZNAME:CST
DTSTART:20211107T070000
END:STANDARD
BEGIN:DAYLIGHT
TZOFFSETFROM:-0600
TZOFFSETTO:-0500
TZNAME:CDT
DTSTART:20220313T080000
END:DAYLIGHT
BEGIN:STANDARD
TZOFFSETFROM:-0500
TZOFFSETTO:-0600
TZNAME:CST
DTSTART:20221106T070000
END:STANDARD
BEGIN:DAYLIGHT
TZOFFSETFROM:-0600
TZOFFSETTO:-0500
TZNAME:CDT
DTSTART:20230312T080000
END:DAYLIGHT
BEGIN:STANDARD
TZOFFSETFROM:-0500
TZOFFSETTO:-0600
TZNAME:CST
DTSTART:20231105T070000
END:STANDARD
END:VTIMEZONE
BEGIN:VEVENT
DTSTART;TZID=America/Chicago:20220309T163000
DTEND;TZID=America/Chicago:20220309T180000
DTSTAMP:20260422T111212
CREATED:20220301T165732Z
LAST-MODIFIED:20220304T205053Z
UID:45474-1646843400-1646848800@www.eacctx.com
SUMMARY:Quebec Reception at Heli-Expo Dallas 2022
DESCRIPTION:TAKE A BREAK\nat the \nQUEBEC RECEPTION \nWednesday\, March 9th\, 2022 \nOmni Hotel\, 2nd Floor\, Cedars Room \n555 South Lamar Street\, Dallas \n  \nREGISTER HERE \n  \nAfter two days at Heli-Expo\, it’s time to relax with your friends at the Québec Delegation Houston\, other Canadian firms and their guests for networking\, drinks and light hors d’oeuvres. \nInvite a prospect\, customer or partner and pop by before dinner. \n  \nHosted by the Québec Delegation Houston in partnership with the European American Chamber of Commerce. \nYour Host: Mme. Xin Gao\, Québec Delegate to Texas \nLocation: The Cedars Room at the Omni Hotel – connected by sky bridge to Dallas Convention Center \nTo facilitate planning\, please kindly register by 6pm Monday\, March 7th. \nPlease register yourself and your guests here \n  \nFor questions\, please contact: \nScott Flukinger\, Commercial Attaché \nQuébec Delegation Houston \nCell 832-839-7360 \nscott.flukinger@mri.gouv.qc.ca \n  \n  \nPRENEZ UNE PAUSE\nà la \nRÉCEPTION DU QUÉBEC \nMercredi 9 mars 2022 \nHôtel Omni\, 2e étage\, Cedars Room \n555\, South Lamar Street\, Dallas \n  \nINSCRIVEZ-VOUS ICI \n  \nAprès deux jours à Heli-Expo\, il sera temps de se détendre avec vos amis de la Délégation du Québec à \nHouston\, d’autres firmes canadiennes et leurs invités pour du réseautage\, des boissons et des hors-d’œuvre légers. \nInvitez un prospect\, un client ou un partenaire et passez nous voir avant le souper. \n  \nOrganisé par la Délégation du Québec à Houston en partenariat avec la Chambre de commerce européenne américaine \nVotre hôte: Mme. Xin Gao\, Déléguée du Québec à Houston \nEmplacement : La salle Cedars de l’Omni Hotel\, reliée par un pont piétonnier au Centre de conférences de Dallas \n  \nPour faciliter la planification\, merci de bien vouloir vous inscrire avant 18h le lundi 7 mars. \nVeuillez vous inscrire ainsi que vos invités en cliquant ici. \nPour toute question\, veuillez contacter : \nScott Flukinger\, Attaché commercial \nDélégation du Québec à Houston \nCellulaire 832-839-7360 \nscott.flukinger@mri.gouv.qc.ca
URL:https://www.eacctx.com/2event/quebec-reception-at-heli-expo-dallas-2022/
LOCATION:Omni Hotel\, 555\, South Lamar Street\, Dallas\, TX\, 75202\, United States
CATEGORIES:events
END:VEVENT
BEGIN:VEVENT
DTSTART;VALUE=DATE:20220312
DTEND;VALUE=DATE:20220315
DTSTAMP:20260422T111212
CREATED:20220221T210023Z
LAST-MODIFIED:20220221T214439Z
UID:45329-1647043200-1647302399@www.eacctx.com
SUMMARY:EACC Texas at SXSW - Visit EU House with the EU Delegation to the United States
DESCRIPTION:The EACC Texas joins the EU Delegation from Washington\, DC at EU House in Austin for South by Southwest®. \nMembers are invited to stop by and attend events. \n  \nClick here for the full calendar of panel discussions and events EU@SXSW  \n  \nEACC Texas Members please contact us if you plan to stop by!\nEACC Executive Director Erin McKelvey\n972-241-0111\nSend Email
URL:https://www.eacctx.com/2event/eacc-texas-at-sxsw-at-europe-house-of-the-eu-delegation-to-the-us/
LOCATION:Native\, 807 E. 4th St.\, Austin\, TX\, 78702\, United States
CATEGORIES:events
END:VEVENT
BEGIN:VEVENT
DTSTART;TZID=America/Chicago:20220315T170000
DTEND;TZID=America/Chicago:20220315T183000
DTSTAMP:20260422T111212
CREATED:20220302T170425Z
LAST-MODIFIED:20220304T164335Z
UID:45447-1647363600-1647369000@www.eacctx.com
SUMMARY:Reception with EU Delegation at Whitley Penn Fort Worth
DESCRIPTION:  \nWhile Tomas Baert\, Head of the Trade & Agriculture Section at the Delegation of the European Union to the United States will be in DFW for an invitation-only luncheon on March 16th\, EACC Texas Member Whitley Penn and the EACC Texas invite you to join us (pls register) to welcome the Delegation trade officials\, Tomas Baert & Jennifer Riccardi in Fort Worth for an after-work reception and policy discussion on March 15th. \nThe European Union Delegation to the US will be in Texas to learn more about the City of Fort Worth as well as to share updates and answer questions on trade policy between the US and the EU. \nPlease register HERE. \nThis event is open to EACC members and non-members. Wine & light fare will be provided.
URL:https://www.eacctx.com/2event/reception-with-tomas-baert/
LOCATION:Whitley Penn\, 640 Taylor Street 22nd Floor\, Fort Worth\, TX\, 76102\, United States
CATEGORIES:events
ORGANIZER;CN="EACC Texas":MAILTO:info@eacctx.com
END:VEVENT
BEGIN:VEVENT
DTSTART;TZID=America/Chicago:20220316T113000
DTEND;TZID=America/Chicago:20220316T133000
DTSTAMP:20260422T111212
CREATED:20220215T205850Z
LAST-MODIFIED:20220228T205525Z
UID:45209-1647430200-1647437400@www.eacctx.com
SUMMARY:EU-US Trade Relations: From Tensions and Turbulence to New Opportunities
DESCRIPTION:Luncheon on March 16th\, 2022 at 12:00pm held at the Dallas Petroleum Club with Tomas Baert speaking. \n  \nPlease Note:  11:30am Registration* \nPlease join us for a luncheon on March 16th\, 2022 at 12:00pm with registration beginning at 11:30am\, held at the Dallas Petroleum Club. Speaking at the luncheon is Tomas Baert. \nPrior to moving to Washington\, DC in August 2018\, Tomas was the Head of Unit for Trade Strategy at the European Commission’s Directorate-General for Trade (DG Trade)\, where he led the team responsible for the 2015 Trade for All strategy and the 2017 Communication on A balanced and progressive trade policy to harness globalization. He also coordinated DG Trade’s work on the withdrawal of the UK from the EU and the preparatory discussions on a future EU-UK trade relationship. From 2014 to 2016\, Tomas was an assistant to Director-General for Trade\, advising on the Transatlantic Trade and Investment Partnership (TTIP) and WTO negotiations. \nBetween 2010 and 2014\, Tomas was based in Geneva\, where he served as a first secretary at the Permanent Mission of the EU to the WTO\, handling multilateral negotiations on intellectual property rights and rules and competition policy. Tomas joined the European Commission in 2005 as a trade negotiator on services trade and investment. He was the EU’s negotiator on trade in services and investment for the EU-India free trade negotiations\, as well as a member of the team concluding the EU-Korea FTA. From 2007 to 2010\, he was in charge of the development of a common investment policy – an area in which the EU gained exclusive competence in 2009. \nBefore joining the European Commission\, Tomas worked for three years as a government affairs representative for US multinational DuPont on EU policy and regulatory questions relating to chemicals\, biotechnology\, and trade\, and researched the emergence of regulatory barriers to trade at the International Trade Policy Unit at the London School of Economics. \nTomas holds an MSc from the London School of Economics (LSE) and an MA from the Catholic University of Leuven (KUL)\, Belgium. He spent a term at the Graduate Institute of International and Development Studies in Geneva\, Switzerland\, and completed the Mastering Trade Policy program at the John F. Kennedy School of Government at Harvard University. \n  \nRegister here \nEACC Texas Members – No Charge : President’s Circle/Sustaining Partner Members (2); Partner/SME/Institutional Members (1).  Members must log in to register or contact us at info@eacctx.com  \nWe will offer a waiting list for members. \n 
URL:https://www.eacctx.com/2event/eu-us-trade-relations-from-tensions-and-turbulence-to-new-opportunities/
LOCATION:Dallas Petroleum Club\, 2200 Ross Ave\, Dallas\, Texas\, 75201\, United States
CATEGORIES:events
ORGANIZER;CN="EACC Texas":MAILTO:info@eacctx.com
END:VEVENT
BEGIN:VEVENT
DTSTART;TZID=America/Chicago:20220330T173000
DTEND;TZID=America/Chicago:20220330T193000
DTSTAMP:20260422T111212
CREATED:20220310T181702Z
LAST-MODIFIED:20220322T160112Z
UID:45564-1648661400-1648668600@www.eacctx.com
SUMMARY:Québec Day during Le Mois de la Francophonie in Houston
DESCRIPTION:EAT\, DRINK & NETWORK IN HOUSTON! \nThe Quebec Delegation in Houston (EACCTX Board Member) cordially invites you to Québec Day to Celebrate Le Mois de la Francophonie. \nPlease join us at Sawyer Yards\, in Houston\, March 30th at 5:30 pm. \nRegister here today and enjoy a discount to The Infinite! \n 
URL:https://www.eacctx.com/2event/celebrate-le-mois-de-la-francophonie-with-the-quebec-delegation-of-houston/
LOCATION:Sawyer Yards\, Silver Street Studios\, 2000 Edwards Street\, Houston\, TX\, 77007\, United States
CATEGORIES:events
ORGANIZER;CN="EACC Texas":MAILTO:info@eacctx.com
END:VEVENT
END:VCALENDAR