BEGIN:VCALENDAR
VERSION:2.0
PRODID:-//European American Chamber of Commerce Texas [EACCTX] | Your Partner for Transatlantic Business Resources - ECPv6.15.20//NONSGML v1.0//EN
CALSCALE:GREGORIAN
METHOD:PUBLISH
X-WR-CALNAME:European American Chamber of Commerce Texas [EACCTX] | Your Partner for Transatlantic Business Resources
X-ORIGINAL-URL:https://www.eacctx.com
X-WR-CALDESC:Events for European American Chamber of Commerce Texas [EACCTX] | Your Partner for Transatlantic Business Resources
REFRESH-INTERVAL;VALUE=DURATION:PT1H
X-Robots-Tag:noindex
X-PUBLISHED-TTL:PT1H
BEGIN:VTIMEZONE
TZID:America/New_York
BEGIN:DAYLIGHT
TZOFFSETFROM:-0500
TZOFFSETTO:-0400
TZNAME:EDT
DTSTART:20200308T070000
END:DAYLIGHT
BEGIN:STANDARD
TZOFFSETFROM:-0400
TZOFFSETTO:-0500
TZNAME:EST
DTSTART:20201101T060000
END:STANDARD
BEGIN:DAYLIGHT
TZOFFSETFROM:-0500
TZOFFSETTO:-0400
TZNAME:EDT
DTSTART:20210314T070000
END:DAYLIGHT
BEGIN:STANDARD
TZOFFSETFROM:-0400
TZOFFSETTO:-0500
TZNAME:EST
DTSTART:20211107T060000
END:STANDARD
BEGIN:DAYLIGHT
TZOFFSETFROM:-0500
TZOFFSETTO:-0400
TZNAME:EDT
DTSTART:20220313T070000
END:DAYLIGHT
BEGIN:STANDARD
TZOFFSETFROM:-0400
TZOFFSETTO:-0500
TZNAME:EST
DTSTART:20221106T060000
END:STANDARD
END:VTIMEZONE
BEGIN:VEVENT
DTSTART;TZID=America/New_York:20210430T100000
DTEND;TZID=America/New_York:20210430T110000
DTSTAMP:20260421T004454
CREATED:20210428T170134Z
LAST-MODIFIED:20210429T000200Z
UID:43157-1619776800-1619780400@www.eacctx.com
SUMMARY:What Employers Need to Know About the COVID-19 Vaccine in the US:  Risk Management and Legal Considerations
DESCRIPTION:Please join us in EACC Carolina’s upcoming Zoom webinar about risk management and legal considerations during the pandemic. \nThis webinar will be help by EACC Carolina on April 30th at 10:00 AM EST with speakers from March & McLennan Agency LLC and Ogletree Deakins. During this event\, the speakers will be discussing COVID-19 vaccine resources and legal considerations as well as hosting a vibrant Q&A session. \nTo learn more about the event and the speakers and to register for the event follow the following link or go to EACC Carolina’s webpage and navigate to the events page. \nClick here to access registration and information for the upcoming EACC Carolina’s event.
URL:https://www.eacctx.com/2event/what-employers-need-to-know-about-the-covid-19-vaccine-in-the-us-risk-management-and-legal-considerations/
LOCATION:Zoom Webinar
CATEGORIES:Partner Events
END:VEVENT
END:VCALENDAR