BEGIN:VCALENDAR
VERSION:2.0
PRODID:-//European American Chamber of Commerce Texas [EACCTX] | Your Partner for Transatlantic Business Resources - ECPv6.15.20//NONSGML v1.0//EN
CALSCALE:GREGORIAN
METHOD:PUBLISH
X-ORIGINAL-URL:https://www.eacctx.com
X-WR-CALDESC:Events for European American Chamber of Commerce Texas [EACCTX] | Your Partner for Transatlantic Business Resources
REFRESH-INTERVAL;VALUE=DURATION:PT1H
X-Robots-Tag:noindex
X-PUBLISHED-TTL:PT1H
BEGIN:VTIMEZONE
TZID:America/Chicago
BEGIN:DAYLIGHT
TZOFFSETFROM:-0600
TZOFFSETTO:-0500
TZNAME:CDT
DTSTART:20250309T080000
END:DAYLIGHT
BEGIN:STANDARD
TZOFFSETFROM:-0500
TZOFFSETTO:-0600
TZNAME:CST
DTSTART:20251102T070000
END:STANDARD
BEGIN:DAYLIGHT
TZOFFSETFROM:-0600
TZOFFSETTO:-0500
TZNAME:CDT
DTSTART:20260308T080000
END:DAYLIGHT
BEGIN:STANDARD
TZOFFSETFROM:-0500
TZOFFSETTO:-0600
TZNAME:CST
DTSTART:20261101T070000
END:STANDARD
BEGIN:DAYLIGHT
TZOFFSETFROM:-0600
TZOFFSETTO:-0500
TZNAME:CDT
DTSTART:20270314T080000
END:DAYLIGHT
BEGIN:STANDARD
TZOFFSETFROM:-0500
TZOFFSETTO:-0600
TZNAME:CST
DTSTART:20271107T070000
END:STANDARD
END:VTIMEZONE
BEGIN:VEVENT
DTSTART;TZID=America/Chicago:20260311T090000
DTEND;TZID=America/Chicago:20260311T130000
DTSTAMP:20260419T123416
CREATED:20260226T150041Z
LAST-MODIFIED:20260326T113524Z
UID:53928-1773219600-1773234000@www.eacctx.com
SUMMARY:The EACC invites you to apply for admission for the BRAVE1 US Investment Roadshow!
DESCRIPTION:  \nThe EACC invites investors\, eco-system leaders\, and strategic partners to apply for admission for the BRAVE1 US Investment Roadshow!\n\n\nBrave1 is bringing 16 carefully selected Ukrainian dual-use companies to the Dallas for the day of March 11th\, 2026 to focus on the topics of unmanned systems\, AI-enabled defense applications\, secure communications\, and counter-drone solutions.\n\nRegister here to apply for admission!\n\n\n\nAgenda:\n\n9:00 am — Doors open\n9:30-9:45 — Technology & Battlefield insights from Brave1\n9:45-10:30 — Company Pitches (Part I): Battle-proven defense tech teams with solutions already scaled and deployed on the frontline\n10:30-11:00 — Panel Discussion on Ecosystem & Market insights with Oedipus\, Green Flag\, KSE and Resist.UA\n11:00-11:45 — Company Pitches (Part II)\n11:45-13:00 — Networking & Matchmaking: Connect directly with founders and peer investors already investing in Ukraine\n\n\nCompanies Attending: \n1) HIMERA\n            – Domain: Communication\n            – Company Description: HIMERA develops and manufactures scalable resilient communication systems based on its unique access to the modern battlefield. They’re used by global defense forces in the most complex electronic warfare and electronic reconnaissance environments.\n              – Maturity Stage: Seed\n\n2) Vidar Systems\n            – Domain: AI\n            – Company Description: Vidar Systems is an intelligent acoustic technology startup\, which develops and operates AI-powered autonomous sensory systems to help defense forces gain full acoustic situational awareness\, enabling early warning and strengthening target acquisition capabilities.\n              – Maturity Stage: Seed\n3) LAZR \n            – Domain: Air Defense\n            – Company Description: LAZR builds distributed laser defense – affordable\, mobile\, networked laser C-UAS systems for FPV and small drones shaped by real operator feedback. Multiple smart turrets mount on vehicles and fixed sites to share tracks\, expand coverage\, and keep operating even under attrition.\n              – Maturity Stage: Seed\n4) Iron Belly \n            – Domain: UAV + AI\n            – Company Description: Iron Belly is a Ukrainian defense technology and manufacturing company specializing in AI-driven autonomous UAV systems for defense. The company combines in-house AI software\, electronics\, and scalable production to deliver combat-proven\, production-ready platforms.\n              – Maturity Stage: Series A\n5) The Fourth Law \n            – Domain: AI\n            – Company Description: The Fourth Law solves autonomy for drones. It’s product video is the world’ s first video of AI killer drones systematically used in battlefield.\n              – Maturity Stage: Series A\n6) Frontline Robotics \n            – Domain: UAV + Robotics\n            – Company Description: Frontline Robotics is a Ukrainian defense manufacturer (now scaling internationally) of highly autonomous unmanned systems for air and ground domains\, designed for mass production and resilience in ever-evolving battlefield conditions.\n              – Maturity Stage: Series A\n7) Buntar Aerospace \n            – Domain: UAV + AI\n            – Company Description: Buntar is a Ukrainian-born unmanned aerial systems manufacturer that transforms frontline experience into AI-driven decision-making to save lives.\n             – Maturity Stage: Series A\n8) Odd Systems \n            – Domain: Components; UAV\n            – Company Description: Founded by Petcube Founders\, Odd Systems scales battle-proven thermal and daylights cameras and UAVs through localized\, high-volume manufacturing to ensure “Free World” cameras sovereignty.\n              – Maturity Stage: Series A\n9) Aero Center Ltd. \n            – Domain: UAV + Air Defense\n            – Company Description: Aero Center is a drone and munition production company that will enable autonomous combat in the sky and on the ground in 2026.\n            – Maturity Stage: Series A\n10) Sine Engineering \n            – Domain: Communication\n            – Company Description: Sine Engineering is Ukraine’s leading provider of autonomy infrastructure for unmanned systems\, developing resilient communications\, GPS- independent navigation\, and multi-drone control for contested environments.\n– Maturity Stage: Series A\n11) Airlogix \n            – Domain: UAV + Air Defense\n            – Company Description: Airlogix is an innovative aerospace company developing advanced unmanned aerial vehicles (drones) and systems for both civilian and defense applications\, uniquely focused on creating resilient\, dual-use UAV technologies that enhance security and operational effectiveness in challenging environments.\n            – Maturity Stage: Series B+\n12) TAF Industries \n            – Domain: UAV + EW\n            – Company Description: TAF Industries is one of Ukraine’s leading military-tech companies\, uniquely combining large-scale FPV drone production\, advanced reconnaissance UAVs\, and cutting-edge AI-enabled EW/ELINT systems to deliver battle- proven solutions that protect soldiers and give tactical advantage on the modern battlefield.\n            – Maturity Stage: Series B+\n13) Pegasus Arms \n            – Domain: UAV + Air Defense\n            – Company Description: We are a full-cycle production company developing drone-interceptors\, EW and UAVs. Our flagship heavy bomber drone is used in more than 50 units on the frontline.\n             – Maturity Stage: Series B+\n14) Skyfall \n            – Domain: UAV + Air Defense\n            – Company Description: SkyFall is the largest UAV manufacturer inUkraine. Founded in 2022\, our drones have already been deployed in well over 2\,500\,000 missions.\n            – Maturity Stage: Series B+\n15) General Cherry \n            – Domain: UAV + Air Defense\n            – Company Description: General Cherry is unique because it builds combat-proven drones in direct feedback loops with frontline pilots and a production model designed for 3× scalability.\n            – Maturity Stage: Series B+\n16) Contra Drone \n            – Domain: EW\n            – Company Description: Contra-drone represents Ukrainian innovative anti-UAV systems engineered for real-world combat challenges. We combine cutting-edge technology\, international standards\, and field experience to guarantee the maximum level of security.\n            – Maturity Stage: Series B+
URL:https://www.eacctx.com/2event/the-eacc-invites-you-to-apply-for-admission-for-the-brave1-us-investment-roadshow/
LOCATION:Crum Family Boulevard Auditorium\, The David B. Miller Business Quadrangle - 6214 Bishop Blvd on the lower level\, Dallas\, TX\, United States
CATEGORIES:Past Event,upcoming
END:VEVENT
BEGIN:VEVENT
DTSTART;TZID=America/Chicago:20260330T180000
DTEND;TZID=America/Chicago:20260330T200000
DTSTAMP:20260419T123416
CREATED:20260323T173859Z
LAST-MODIFIED:20260331T145423Z
UID:53999-1774893600-1774900800@www.eacctx.com
SUMMARY:STRAIT TALK...Geopolitics and the Current Impact on Global Supply Chains
DESCRIPTION:The EACC Texas Trade Alliance is thrilled to invite you to an exclusive discussion about trade logistics\, transportation\, customs\, and supply chain management featuring EACC Texas Chairwoman Michelle Schulz\, and Ario Aalaei\, founder and principal of Bridgepoint Global Advisors. \nTime: 6:00-8:00 PM \nDate: Monday\, March 30\, 2026 \nLocation: 8343 Douglas Avenue Conference Center Dallas TX 75225 \nMembers: FREE \nNonmembers: $30 register fee \nREGISTER HERE \n \nEACC Texas Chairwoman Michelle Schulz \nMichelle Schulz is the Founder and Managing Partner of Schulz Trade Law PLLC\, a Dallas-based firm specializing in international trade law. As Chairwoman of the EACC Texas Board of Directors\, she has over two decades of experience in import and export compliance and enforcement matters. She is also a founding member of the EACC Texas Transatlantic Trade Alliance (ETTA) task force\, launched earlier this year. \nAs an international trade attorney\, Michelle represents Fortune 500 companies and global corporate clients in compliance with U.S. and international regulations governing exports of dual-use commodities\, defense articles\, software\, and technology. Her clients span the globe – from North and South America to Europe\, Africa\, and Asia. She serves as an outside advisor to the U.S. Secretary of Commerce and U.S. Trade Representative on the Industry Trade Advisory Committee for Aerospace (ITAC-1)\, holding a secret-level security clearance. \nHer practice encompasses defense exports under ITAR\, dual-use exports under EAR\, U.S. Customs Regulations\, FCPA\, CFIUS regulations\, sanctions\, embargoes\, and trade data reporting. She regularly guides corporate counsel through international trade due diligence in mergers and acquisitions. \n  \n \nArio Aalaei \nArio Aalaei is the Founder and Principal of BridgePoint Global Advisors\, a Texas-based advisory firm focused on freight\, supply chain strategy\, and international market entry. He brings more than 25 years of leadership experience in global freight forwarding and container shipping across the United States\, Europe\, and Asia. \nOver the course of his career\, he has led large ocean freight and logistics organizations\, managed multimillion-dollar customer portfolios\, and worked closely with global shipping lines\, importers\, and multinational companies. His experience spans everything from carrier contracts and trade lane strategy to port selection\, routing decisions\, and helping companies respond to changing market conditions. Today\, through BridgePoint\, he advises leadership teams on how to make smarter freight and supply chain decisions\, especially when markets become more volatile or complex. \nHis work is grounded in a simple idea: most supply chain problems do not begin with execution — they begin with structure\, planning\, and the decisions made before disruption hits. \n  \n \nModerator: Stefan Boehmer \nStefan Boehmer is a senior finance executive\, advisor\, and board leader with extensive experience in business transformation\, turnaround situations\, and international growth. He has held senior leadership roles in global organizations\, combining financial discipline with strategic execution to drive sustainable value creation. \nAt Siemens\, Stefan led a major financial and strategic transformation\, delivering strong revenue growth and turning a challenging operating position into record profitability. He is known for building high-performance teams and successfully leading organizations through complex change. Today\, Stefan is actively involved with Texas Advisory Services\, supporting U.S. and international companies with market entry\, growth strategy\, financial leadership\, and ecosystem access across Texas. He also serves as an advisory board member and is a frequent speaker and writer on finance transformation\, automation\, AI\, and leadership. Stefan’s leadership philosophy centers on servant leadership and the integration of IQ\, EQ\, and TQ\, believing strong results come from empowered people\, disciplined execution\, and a clear long-term vision. \n \nOver 45 years of experience have provided Tim Feemster\, CEO & Managing Principal of Foremost Quality Logistics\, with a variety of hands on problem solving situations in industrial/manufacturing site selection\, economic development\, real estate\, transportation\, logistics\, distribution\, and marketing. Tim is quoted frequently in the economic development\, real estate & supply chain press\, makes over 20 keynote presentations a year\, and was designated one of the “2019 & 2020 Dallas 500” the “Most Powerful Business Leaders in Dallas-Fort Worth” in the D Magazine’s CEO edition. Before forming Foremost Quality Logistics\, Feemster had experience as a senior manager in three manufacturing companies\, a general manager\, a consultant\, an executive in two third party logistics providers\, and a practice group leader in two commercial real estate firms. Feemster has been responsible for economic development strategy consulting\, building construction management\, transportation & warehouse operations; real estate site selection; network optimization; strategic planning; lease management; marketing; inventory planning & deployment; lean systems & quality management; and private fleet management. Feemster holds an M.B.A. in Marketing from the Ross School of Business\, University of Michigan in Ann Arbor\, and a B.A. in Mathematics from DePauw University in Greencastle\, Indiana\, and is a Six Sigma Green Belt. Feemster is an active member in the Warehouse Education and Research Council (WERC.org)\, where he is a Past President; Council Supply Chain Management Professionals (CSCMP.org)\, Industrial Asset Management Council (IAMC.org)\, Intermodal Association of North America (IANA.org)\, DePauw Alumni Board (DePauw.edu)\, and a board member of the DePauw DFW Regional Alumni Chapter. Specialties: Logistics & Supply Chain Trends/Site Selection Keynote Speaker | Supply Chain Optimization & Strategy | Real Estate Site Selection | Economic Development Strategy Consulting
URL:https://www.eacctx.com/2event/strait-talk-geopolitics-and-disruption/
LOCATION:Conference Center\, 8343 Douglas Avenue Conference Center Dallas TX 75225\, Dallas\, 75225\, United States
CATEGORIES:events,Past Event
ORGANIZER;CN="EACC Texas":MAILTO:info@eacctx.com
END:VEVENT
BEGIN:VEVENT
DTSTART;TZID=America/Chicago:20260419T110000
DTEND;TZID=America/Chicago:20260419T190000
DTSTAMP:20260419T123416
CREATED:20260408T212547Z
LAST-MODIFIED:20260409T141431Z
UID:54113-1776596400-1776625200@www.eacctx.com
SUMMARY:Eataly Dallas Pizza Fest 2026
DESCRIPTION:Eataly Dallas Pizza Fest 2026\n\n\nDallas’s largest citywide\, all-you-can-eat pizza festival returns\, featuring more than 30 DFW pizza shops\, entertainment\, and much more! \n\n\n\n\nOn April 19th\, Dallas’s largest\, all-inclusive\, citywide pizza festival returns! Join us for Pizza Fest 2026\, as we bring together more than 25 of DFW’s best pizza spots to celebrate one of the world’s favorite foods. \nYour all-inclusive tickets give you access to 25+ local pizza shops\, Italian wines\, local beers\, live music\, chef demonstrations\, hands-on pizza-making demonstrations\, and more! \nGet your tickets now! \nParticipating pizzerie include: \n\nAndrew’s American Pizza\nCenzo’s Pizza and Deli\nDelucca Gaucho Pizza & Wine\nDoughbird\nEataly\nEno’s Pizza Tavern\nFarina in Grani\nFireova\nFortunate Son\nGreenville Avenue Pizza Co.\nIl Forno (San Antonio)\nJet’s Pizza\nMimi’s Pizzeria\nNEONY Pizza Works\nPartenope Ristorante\nPazzeria by Pietro’s (Longview)\nPie Tap\nPizzana\nPizzeria Carina\nPoco Fiasco\nPrego Pasta House\nRossopomodoro\nSalisbury’s Pizza\nSan Martin Bakery\nSauceBros\nStarship Bagel\nUrban Crust\nZoli’s\n\n… and more! \nYour General Admission Ticket Gets You: \n\nAccess to Eataly Pizza Fest from 11:30AM – 2:30PM or 4:00PM-7:00PM\nUnlimited complimentary pizza from 30+ of the best Pizzerias in DFW\nUnlimited Italian wines and local beers (to enjoy responsibly)\nLive Music\nInteractive chef-led demonstrations\n\n\n\nYour VIP Ticket Gets You: \n\nEarly Access to Eataly Pizza Fest at 11:00AM or 3:30PM\nAccess to multiple complimentary cocktail bars (to enjoy responsibly)\nExclusive VIP lounge with seating\nItalian desserts provided by Eataly\n\n\n\n\n\nTo purchase a ticket\, please select your preferred time slot and ticket tier (General Admission or VIP). \nGeneral Admission: 11:30AM – 2:30PM or 4:00PM-7:00PM \nVIP: 11:00AM-2:30PM or 3:30PM-7:00PM \nYour time at Eataly Pizza Fest will be limited to your selected slot in order to allow as many people to enjoy the festival as possible without crowds and long lines. \nGeneral Admission Tickets: $75 \nVIP Tickets: $125 \nKids under 10: Free\, when accompanied by a paid ticketed adult (RSVP required. Limit 2 children per ticketed adult. Unregistered kids under 10 will not be allowed entry).
URL:https://www.eacctx.com/2event/eataly-dallas-pizza-fest-2026/
LOCATION:Eataly DALLAS\, NorthPark Center 8687 N. Central Expy\, Suite 2172\, Dallas
CATEGORIES:Partner Events,upcoming
ORGANIZER;CN="Eataly":MAILTO:eda.guestrelations@eataly.com
END:VEVENT
BEGIN:VEVENT
DTSTART;TZID=America/Chicago:20260421T170000
DTEND;TZID=America/Chicago:20260421T200000
DTSTAMP:20260419T123416
CREATED:20260219T165312Z
LAST-MODIFIED:20260219T165312Z
UID:53900-1776790800-1776801600@www.eacctx.com
SUMMARY:The Sentinel Defense Forum at SMU: The Business of Aerospace\, Defense & National Security
DESCRIPTION:  \nThe Sentinel Defense Forum at Southern Methodist University brings together leaders from aerospace\, defense\, national security\, finance\, and academia for a focused conversation on where the industry stands today\, and where it’s headed next. Hosted by the SMU Cox School of Business with the Lyle School of Engineering\, the forum highlights both established industry players and emerging defense technology companies. \nHeld at the Collins Executive Education Center on campus\, the event features two panel discussions. One discussion will explore the current state of aerospace and defense and the shift toward defense tech\, and the other focusing on success stories and how to build strong companies in this space. \nThe forum concludes with a reception\, offering attendees the chance to connect with speakers and fellow professionals. \nWhen: April 21st\, 2026 \nRegistration and Networking: 5:00-5:30 PM\, Program: 5:30-7:00 PM\, Reception: 7:00-8:00 PM \nLocation: SMU Cox Collins Executive Educations Center\,  \n3150 Binkley Avenue\, Dallas\, TX\, 75205 \nRegistration is free\, but required!  \nYou can register by clicking here! \n  \nEvent Timeline: \nRegistration & Networking \nPanel Discussion 1: \nModerator – Edward Crawford\, Co-Founder and Co-CEO of Coltata Holdings        Panelists – \n\nTim Booher – Sr. Vice President Leidos\nNader Jalili – Dean\, SMU Lyle School of Engineering\nRyan Morfin – Founder and MD of Iron Gate Capital\nMatt Muns – CEO & Chairman |Redhawk Federal\n\nPanel Discussion 2: \nModerator – Edward Crawford\, Co-Founder and Co-CEO of Coltata Holdings        Panelists – \n\nBryan Perkins – Founder CEO of Novaria Group\nSuresh Narayanan – Founder CEO of Jets MRO (SMU Cox MBA )\nWill Edwards – Founder and CEO Firehawk Aerospace\n\nReception \n 
URL:https://www.eacctx.com/2event/the-sentinel-defense-forum-at-smu-the-business-of-aerospace-defense-national-security/
LOCATION:SMU Cox Collins Executive Education Center\, 3150 Binkley Avenue\, Dallas\, 75205\, United States
CATEGORIES:Partner Events,upcoming
END:VEVENT
BEGIN:VEVENT
DTSTART;TZID=America/Chicago:20260514T180000
DTEND;TZID=America/Chicago:20260514T203000
DTSTAMP:20260419T123416
CREATED:20260327T164645Z
LAST-MODIFIED:20260414T162816Z
UID:54061-1778781600-1778790600@www.eacctx.com
SUMMARY:EXPERIENCE EUROPE 2026 REGISTER NOW!
DESCRIPTION:VIP EARLY ACCESS – 6:00 PM – 7:00 PM \nEACC Texas Members $100 \nNon-Members $125 \nThe VIP Reception is exclusively reserved for VIP ticket holders \nVIP ticker holders have access to the Sparkling Networking Reception and the main event! \nGeneral Admission $75 – 7:00 PM to 8:30 PM \nExperience EUROPE™ is back in Dallas\, in the Harwood District of Dallas! Prepare to immerse yourself in all that Europe has to offer! \n  \nEarly Bird Ticket Pricing ends April 17!  CLICK HERE TO REGISTER!!\n  \n \n  \n \n  \n \nMark your calendars and prepare to embark on a journey like no other! Europe is calling and Texas is ready to answer! \nCheck out last year’s festivity for a sneak peak into what’s in store. \nMark your calendars and set the clocks ready for departure! \n⚠️All ticket holders must be 21 or older to attend Experience EUROPE™⚠️
URL:https://www.eacctx.com/2event/experience-europe-2026/
LOCATION:Marie Gabrielle Restaurant and Gardens\, 2728 N Harwood St\, Dallas\, 75201\, United States
CATEGORIES:upcoming
ORGANIZER;CN="EACC Texas":MAILTO:info@eacctx.com
END:VEVENT
BEGIN:VEVENT
DTSTART;VALUE=DATE:20260613
DTEND;VALUE=DATE:20260704
DTSTAMP:20260419T123416
CREATED:20260223T231923Z
LAST-MODIFIED:20260327T051115Z
UID:53906-1781308800-1783123199@www.eacctx.com
SUMMARY:Summer of Soccer DALLAS - EACC Texas International Fans Tournaments
DESCRIPTION:The EACC Texas is partnering with Personal Analytics and Sports Statistics\, LLC (PA$$) and Soccer Spectrum to host a series of exciting International Fans Tournaments in Dallas during the summer of 2026! As part of the World Cup excitement\, the EACC Texas is inviting fans from every nation competing in Dallas and around the world to participate in our series of one-day Soccer Spectrum World Cup tournaments. \nTeams are built out of country of origin or support. \nHow to join: \n\nGroup of 7+ players: $35/person\nIndividual players: $50/person\nThese are co-ed tournaments\, refer to the Soccer Spectrum website for more information\n\nRegister as an entire team up to 12 players or you can register as an individual or small group and be placed on a team for your desired country. \nEach team will receive a unique Soccer Spectrum World Cup Jersey as a part of their registration fee. \n\n\nTournament Format \n\n7 v 7 games\n3-game minimum guarantee\n\n\n\nGroup play matches \n\n20-minute games\nGroup winners advance to playoffs\n\n\nPlayoffs \n\nSemifinals and Finals\nGolden Goal overtime if tied after regulation\n\n\n\nPRIORITY REGISTRATION OPEN NOW \n\nRegister now at no cost to be put on a priority registration list.\nWith priority registration\, you will receive access to the official registration 48 hours before the general public is allowed to register\, guaranteeing you a spot in your desired tournament date.\nThe events will sell out and once we reach capacity\, we are unable to add any players or teams.\n\n\nCLICK FOR PRIORITY REGISTRATION!
URL:https://www.eacctx.com/2event/summer-of-soccer-dallas-eacc-texas-international-fans-tournaments/
LOCATION:Spectrum Soccer\, 1251 Digital Dr\, Richardson\, TX\, 75081\, United States
CATEGORIES:events,upcoming
END:VEVENT
BEGIN:VEVENT
DTSTART;VALUE=DATE:20260613
DTEND;VALUE=DATE:20260704
DTSTAMP:20260419T123416
CREATED:20260223T232204Z
LAST-MODIFIED:20260327T142440Z
UID:53909-1781308800-1783123199@www.eacctx.com
SUMMARY:Summer of Soccer HOUSTON - EACC Texas International Fans Tournaments
DESCRIPTION:  \n \nThe EACC Texas is partnering with Personal Analytics and Sports Statistics\, LLC (PA$$) and Revolution Soccer to host a series of exciting International Fans Tournaments in Houston during the summer of 2026!   As part of the SUMMER OF SOCCER excitement\, the EACC Texas is inviting fans from every nation competing in Dallas and around the world to participate in our series of one-day tournaments on the evening prior to each major match.. Teams are built out of country of origin or support. How to join : Group of 7+ players: $35/person Individual players: $50/person You can register as an entire team up to 12 players or you can register as an individual or small group and be placed on a team for your desired country. \nTeams are built out of country of origin or support.  . \n \n \n  \n  \n  \n  \n  \n  \n  \n  \n  \nAND ADD YOUR LOGO TO 1000 JERSEYS!
URL:https://www.eacctx.com/2event/summer-of-soccer-houston-eacc-texas-international-fans-tournaments/
LOCATION:Community Fieldhouse Houston\, 007 Riley Fuzzel Rd\, Spring\, TX\, 77386\, United States
CATEGORIES:events,Past Event,upcoming
ORGANIZER;CN="EACC Texas":MAILTO:info@eacctx.com
END:VEVENT
END:VCALENDAR