BEGIN:VCALENDAR
VERSION:2.0
PRODID:-//European American Chamber of Commerce Texas [EACCTX] | Your Partner for Transatlantic Business Resources - ECPv6.15.20//NONSGML v1.0//EN
CALSCALE:GREGORIAN
METHOD:PUBLISH
X-ORIGINAL-URL:https://www.eacctx.com
X-WR-CALDESC:Events for European American Chamber of Commerce Texas [EACCTX] | Your Partner for Transatlantic Business Resources
REFRESH-INTERVAL;VALUE=DURATION:PT1H
X-Robots-Tag:noindex
X-PUBLISHED-TTL:PT1H
BEGIN:VTIMEZONE
TZID:America/Chicago
BEGIN:DAYLIGHT
TZOFFSETFROM:-0600
TZOFFSETTO:-0500
TZNAME:CDT
DTSTART:20240310T080000
END:DAYLIGHT
BEGIN:STANDARD
TZOFFSETFROM:-0500
TZOFFSETTO:-0600
TZNAME:CST
DTSTART:20241103T070000
END:STANDARD
BEGIN:DAYLIGHT
TZOFFSETFROM:-0600
TZOFFSETTO:-0500
TZNAME:CDT
DTSTART:20250309T080000
END:DAYLIGHT
BEGIN:STANDARD
TZOFFSETFROM:-0500
TZOFFSETTO:-0600
TZNAME:CST
DTSTART:20251102T070000
END:STANDARD
BEGIN:DAYLIGHT
TZOFFSETFROM:-0600
TZOFFSETTO:-0500
TZNAME:CDT
DTSTART:20260308T080000
END:DAYLIGHT
BEGIN:STANDARD
TZOFFSETFROM:-0500
TZOFFSETTO:-0600
TZNAME:CST
DTSTART:20261101T070000
END:STANDARD
END:VTIMEZONE
BEGIN:VEVENT
DTSTART;TZID=America/Chicago:20251202T170000
DTEND;TZID=America/Chicago:20251202T190000
DTSTAMP:20260419T133717
CREATED:20251111T193506Z
LAST-MODIFIED:20251202T201558Z
UID:53743-1764694800-1764702000@www.eacctx.com
SUMMARY:PORTUGAL: Trade Gateway to Europe in Dallas
DESCRIPTION:The European American Chamber of Commerce Texas is honored to announce a business program and holiday reception in Dallas featuring H.E. Francisco Duarte Lopes\, the Ambassador of Portugal to the United States\, and Carlos Moura\, Director/Trade Commissioner\, USA. \n \nFrancisco Duarte Lopes \nAmbassador of Portugal in USA since 2022 \nAmbassador Duarte Lopes\, a career diplomat\, previously served as Portugal’s Permanent Representative to the United Nations from 2017 to 2022. Before this role\, he held key positions within Portugal’s Ministry of Foreign Affairs\, achieving the rank of Ambassador in December 2015. He served as Political Director\, Director-General for European Affairs\, and Chief of Staff to the Secretary of State for European Affairs\, demonstrating his expertise in European and institutional affairs. Duarte Lopes also worked as a diplomatic advisor to the Prime Minister and held positions in Portugal’s Permanent Representation to the European Union. His Diplomatic Career began in 1989\, and he has extensive international experience\, including postings in Pakistan as Denmark. Ambassador Duarte Lopes\, born in Castelo Branco\, Portugal\, holds a law degree from the Faculdade de Direito de Lisboa. \n \nCarlos Moura \nDirector / Trade & Investment Commissioner\, USA since 2024. \nInitiated his career as a Human Resources Expert with AIG before moving on to the involvement with Portugal’s external economics. Since then\, have held several roles in Human Resources\, International Financing and Product Management\, with postings in London\, Dublin\, Singapore\, São Paulo and the Nordic Markets (based in Stockholm\, Sweden).\nActive member of the Swedish Portuguese Chamber of Commerce from 2016 to 2022\, of the Portuguese Chamber of Commerce in São Paulo from 2012 to 2016 and European Chamber of Commerce in Singapore (Eurocham) from 2008 to 2011\, as well as a Member of the Board of Directors for the EU-Malaysia Chamber of Commerce and Industry (EUMCCI).\nGraduated in Business and Public Administration (1992)\, specializing in Human Resource Management\, from Lisbon University\, holding two post-graduate diplomas in Diplomacy (1993) and Consulting & Training related to Company Management and Organization (1993)\, from the University of Lisbon. From University College of Dublin (UCD) holds a certificate in International Development: Key Issues and Challenges (2003-2004). \n  \nDate and Time: 5:00 PM\, Tuesday\, December 2\, 2025 \nPrice: FREE \nMORE INFORMATION COMING SOON! \nREGISTER HERE!
URL:https://www.eacctx.com/2event/portugal-trade-gateway-to-europe-in-dallas/
CATEGORIES:events,upcoming
ORGANIZER;CN="EACC Texas":MAILTO:info@eacctx.com
END:VEVENT
END:VCALENDAR