BEGIN:VCALENDAR
VERSION:2.0
PRODID:-//European American Chamber of Commerce Texas [EACCTX] | Your Partner for Transatlantic Business Resources - ECPv6.15.20//NONSGML v1.0//EN
CALSCALE:GREGORIAN
METHOD:PUBLISH
X-ORIGINAL-URL:https://www.eacctx.com
X-WR-CALDESC:Events for European American Chamber of Commerce Texas [EACCTX] | Your Partner for Transatlantic Business Resources
REFRESH-INTERVAL;VALUE=DURATION:PT1H
X-Robots-Tag:noindex
X-PUBLISHED-TTL:PT1H
BEGIN:VTIMEZONE
TZID:America/Chicago
BEGIN:DAYLIGHT
TZOFFSETFROM:-0600
TZOFFSETTO:-0500
TZNAME:CDT
DTSTART:20240310T080000
END:DAYLIGHT
BEGIN:STANDARD
TZOFFSETFROM:-0500
TZOFFSETTO:-0600
TZNAME:CST
DTSTART:20241103T070000
END:STANDARD
BEGIN:DAYLIGHT
TZOFFSETFROM:-0600
TZOFFSETTO:-0500
TZNAME:CDT
DTSTART:20250309T080000
END:DAYLIGHT
BEGIN:STANDARD
TZOFFSETFROM:-0500
TZOFFSETTO:-0600
TZNAME:CST
DTSTART:20251102T070000
END:STANDARD
BEGIN:DAYLIGHT
TZOFFSETFROM:-0600
TZOFFSETTO:-0500
TZNAME:CDT
DTSTART:20260308T080000
END:DAYLIGHT
BEGIN:STANDARD
TZOFFSETFROM:-0500
TZOFFSETTO:-0600
TZNAME:CST
DTSTART:20261101T070000
END:STANDARD
END:VTIMEZONE
BEGIN:VEVENT
DTSTART;TZID=America/Chicago:20250828T173000
DTEND;TZID=America/Chicago:20250828T200000
DTSTAMP:20260419T210352
CREATED:20250804T141304Z
LAST-MODIFIED:20250804T141818Z
UID:53030-1756402200-1756411200@www.eacctx.com
SUMMARY:Smart Moves: Strategic Decisions for M&D Companies in the U.S. Market
DESCRIPTION:Hosted by The Bonadio Group\n\n\n\n\n\n\n\n\n📅 Date: Thursday\, August 28\, 2025🕠 Time: 5:30 PM – 8:00 PM (Presentation 6:00–7:00 PM\, followed by a networking reception)📍 Location: 7557 Rambler Road\, Dallas\, TX 75231 (2nd Floor Conference Room)🥂 Drinks and appetizers will be served \nJoin us for an insightful evening designed for manufacturing and distribution (M&D) businesses navigating the U.S. market. This event\, hosted by accounting and consulting firm The Bonadio Group\, will offer strategic guidance on timely business decisions impacting the M&D sector today. \nJohn McCurdy\, Assurance Partner and M&D Industry Line Leader\, will address current challenges in supply chain management. \nRob Zielinski\, International Tax Services Partner\, will provide a high-level overview of recent tax legislation and its implications for M&D businesses operating in the U.S. \nJay Jerose\, Advisory Partner\, will build on these insights with practical advice on implementing changes and optimizing internal management reporting for operational efficiency. \nStay after the presentation to connect with peers\, enjoy refreshments\, and continue the conversation during a relaxed reception. \nWho Should Attend:Executives and decision-makers from manufacturing and distribution companies with U.S. operations\, as well as professional advisors serving clients in this space. \n\n\nRegister here
URL:https://www.eacctx.com/2event/smart-moves-strategic-decisions-for-md-companies-in-the-u-s-market/
LOCATION:Bonadio Group\, 7557 Rambler Road\, Dallas\, 75231\, United States
CATEGORIES:events,upcoming
ORGANIZER;CN="EACC Texas":MAILTO:info@eacctx.com
END:VEVENT
END:VCALENDAR