BEGIN:VCALENDAR
VERSION:2.0
PRODID:-//European American Chamber of Commerce Texas [EACCTX] | Your Partner for Transatlantic Business Resources - ECPv6.15.20//NONSGML v1.0//EN
CALSCALE:GREGORIAN
METHOD:PUBLISH
X-ORIGINAL-URL:https://www.eacctx.com
X-WR-CALDESC:Events for European American Chamber of Commerce Texas [EACCTX] | Your Partner for Transatlantic Business Resources
REFRESH-INTERVAL;VALUE=DURATION:PT1H
X-Robots-Tag:noindex
X-PUBLISHED-TTL:PT1H
BEGIN:VTIMEZONE
TZID:America/Chicago
BEGIN:DAYLIGHT
TZOFFSETFROM:-0600
TZOFFSETTO:-0500
TZNAME:CDT
DTSTART:20240310T080000
END:DAYLIGHT
BEGIN:STANDARD
TZOFFSETFROM:-0500
TZOFFSETTO:-0600
TZNAME:CST
DTSTART:20241103T070000
END:STANDARD
BEGIN:DAYLIGHT
TZOFFSETFROM:-0600
TZOFFSETTO:-0500
TZNAME:CDT
DTSTART:20250309T080000
END:DAYLIGHT
BEGIN:STANDARD
TZOFFSETFROM:-0500
TZOFFSETTO:-0600
TZNAME:CST
DTSTART:20251102T070000
END:STANDARD
BEGIN:DAYLIGHT
TZOFFSETFROM:-0600
TZOFFSETTO:-0500
TZNAME:CDT
DTSTART:20260308T080000
END:DAYLIGHT
BEGIN:STANDARD
TZOFFSETFROM:-0500
TZOFFSETTO:-0600
TZNAME:CST
DTSTART:20261101T070000
END:STANDARD
END:VTIMEZONE
BEGIN:VEVENT
DTSTART;TZID=America/Chicago:20250731T090000
DTEND;TZID=America/Chicago:20250731T110000
DTSTAMP:20260419T210433
CREATED:20250723T140050Z
LAST-MODIFIED:20250724T162427Z
UID:53022-1753952400-1753959600@www.eacctx.com
SUMMARY:FinTech & AI: "Faster Growth\, Lower Risk – How to Automate Financial Services with Low-Code/No-Code"
DESCRIPTION:Thursday\, July 31\, 2025 @ 9:00 AM – 11:00 AM\n\n\n\n\nTowers at Williams Square\, West Tower Conference Center\n5221 N O’Connor Blvd\nIrving\, TX 75039\n\n\n\n\n\n\n\n\n\n\nComplimentary Registration: https://lu.ma/61v6ujb9  \nJoin our partner Irving Economic Development Partnership for an exclusive business breakfast dedicated to financial institutions from the Dallas Metroplex – including credit unions\, community banks\, and fintech-focused service providers. \nRITS USA\, invites you to a practical and inspiring session focused on the power of process automation and no-code solutions in accelerating growth\, improving internal operations\, and unlocking faster ROI for financial institutions. \nWhat to Expect: \nLive Demo: Creatio + AI Agent + Automation \n\nWatch a live scenario where we automate invoice processing using Creatio integrated with Salesforce\, enhanced by our own low-code automation and AI agent. Discover how no-code tolls drive real ROI fast.\n\nActionable Insights on: \n\n\n\nOptimizing internal workflows without costly IT overhauls\nConnecting data from fragmented systems\nReducing operational risk with intelligent automation\nIncreasing revenue with smarter processes\n\n\n\nNetworking & Business Breakfast: \n\nAfter the session\, enjoy coffee and networking with local leaders and tech innovators.\n\nWho Should Attend: \n\nExecutives and decision-makers from credit unions\, community banks\, Fidelity institutions\, and financial services\nCTOs\, Heads of Ops\, IT Leads\, Innovation Officers\, and Digital Transformation Managers\nAnyone interested in leveraging low-code to accelerate business value\n\nFeatured Speakers: \n\nKrzysztof Kantor – Head of IT Delivery\, RITS\nOlga Yatsenko – Solution Engineer\, Sardine.ai\nGary Wetzel – CEO\, Form.IO\n\nEvent Organizer & Moderator: \n\nPaul Mydlo – Moderator | Business Development Lead\, RITS USA\n\nDon’t miss this opportunity to gain actionable insights and connect with industry leaders. Register now! \n\n\n\n\n\n\nHosted by the Irving Economic Development Partnership.
URL:https://www.eacctx.com/2event/fintech-ai-faster-growth-lower-risk-how-to-automate-financial-services-with-low-code-no-code/
CATEGORIES:Partner Events
END:VEVENT
END:VCALENDAR