BEGIN:VCALENDAR
VERSION:2.0
PRODID:-//European American Chamber of Commerce Texas [EACCTX] | Your Partner for Transatlantic Business Resources - ECPv6.15.20//NONSGML v1.0//EN
CALSCALE:GREGORIAN
METHOD:PUBLISH
X-ORIGINAL-URL:https://www.eacctx.com
X-WR-CALDESC:Events for European American Chamber of Commerce Texas [EACCTX] | Your Partner for Transatlantic Business Resources
REFRESH-INTERVAL;VALUE=DURATION:PT1H
X-Robots-Tag:noindex
X-PUBLISHED-TTL:PT1H
BEGIN:VTIMEZONE
TZID:Europe/Paris
BEGIN:DAYLIGHT
TZOFFSETFROM:+0100
TZOFFSETTO:+0200
TZNAME:CEST
DTSTART:20240331T010000
END:DAYLIGHT
BEGIN:STANDARD
TZOFFSETFROM:+0200
TZOFFSETTO:+0100
TZNAME:CET
DTSTART:20241027T010000
END:STANDARD
BEGIN:DAYLIGHT
TZOFFSETFROM:+0100
TZOFFSETTO:+0200
TZNAME:CEST
DTSTART:20250330T010000
END:DAYLIGHT
BEGIN:STANDARD
TZOFFSETFROM:+0200
TZOFFSETTO:+0100
TZNAME:CET
DTSTART:20251026T010000
END:STANDARD
BEGIN:DAYLIGHT
TZOFFSETFROM:+0100
TZOFFSETTO:+0200
TZNAME:CEST
DTSTART:20260329T010000
END:DAYLIGHT
BEGIN:STANDARD
TZOFFSETFROM:+0200
TZOFFSETTO:+0100
TZNAME:CET
DTSTART:20261025T010000
END:STANDARD
END:VTIMEZONE
BEGIN:VEVENT
DTSTART;TZID=Europe/Paris:20250309T093000
DTEND;TZID=Europe/Paris:20250309T200000
DTSTAMP:20260420T050305
CREATED:20250228T161211Z
LAST-MODIFIED:20250228T195214Z
UID:52692-1741512600-1741550400@www.eacctx.com
SUMMARY:Going BIG in TEXAS - Slovak House!
DESCRIPTION:Join Erin McKelvey at Slovak House 2025\, a high-energy\, one-day event designed for entrepreneurs\, investors\, and professionals eager to expand in Texas – the land of limitless opportunities!  \nThis all day networking event is about real opportunities. You’ll hear from Slovak companies breaking into the U.S. market\, meet people who know how to succeed in Texas\, and get straight talk from those who’ve done it. Calling all EACC Texas members and friends to join EACC Texas President Erin McKelvey as she moderates Panel 1: Practical Foundations for Success in Texas! \nIf you want to learn how to expand\, invest\, or partner in one of the most business-friendly states in the U.S.\, this is the room you need to be in.   \nMarch 9 at Q-Branch 9:30AM to 8:00PM Event link to register: https://lu.ma/hc5gepdn  \nWHAT TO EXPECT  \n\nTexas Secretary of State Jane Nelson on what makes Texas a land of opportunity\nPractical panels on navigating the Texas business landscape\nSlovak entrepreneurs proving they can compete and win in the U.S.\nInspiring TEDx talks from Slovaks making waves in the U.S.\nRapid-fire pitch sessions – 15 companies\, 60 seconds each\nPlenty of time to meet people who matter \n\nPROGRAM – SLOVAK HOUSE  \n\n10:30 AM – Welcome to Slovak House\nRadovan Javorcik – Ambassador of Slovakia to the United States\nAndrea Hrusovska - Chief People Officer at Slovak PRO\n\n  \n\n10:50 AM – Business Friendly Slovakia\nVladimir Lackovic - Special Representative to the U.S. for Trade and Investment\, SARIO - Slovak Investment and Trade Development Agency\nNikola Kmecova - FDI Consultant\, SARIO - Slovak Investment and Trade Development Agency \n\n  \n\n11:20 AM – TEDx Talk: Slovak Success in the U.S.\nVlado Hruda - Product Manager\, Miro \n\n  \n\n11:40 AM – Quick Pitch Session\n15 Slovak companies\, 60 seconds each \n\n  \n          \n\n12:00 PM – PANEL 1: Practical Foundations for Success in Texas\nPanel of lawyers: Dave Quinn\, John Sigety & Martin Valko\nModerator: Erin McKelvey - President\, EACC Texas\n\n  \n\n13:00 PM – Networking Lunch \n\n  \n\n2:00 PM – PANEL 2: The Austin Ecosystem – Your Growth Partner\nMarcos Cervantes - CEO of Q-Branch\nMortada Mohamed - President\, World Affairs Council of Austin\nScott Smith - Director of Economic Development\, City of Cedar Park\nDavid Steele - Director\, Plug and Play Sportstech \n\n  \n\n3:00 PM – KEYNOTE ADDRESS: Texas – The Land of Opportunity\nTexas Secretary of State Jane Nelson \n\n  \n\n3:20 PM – Coffee & Networking \n\n  \n\n3:40 PM – Quick Pitch Session (Round 2)\n15 Slovak companies\, 60 seconds each \n\n  \n\n4:00 PM – Achieving Success in America\nGrant Mitterlehner - CEO of MittGroup \n\n  \n\n4:30 PM – TEDx Talk: Slovak AI Innovation Changing America\nNiko Dubovsky - Co-founder of SuperCity AI  \n\n  \n\n4:40 PM – Closing Remarks \n\n  \n\n5:00 – 8:00 PM – Networking with Slovak food and drinks \n\n \nA special shoutout to last year’s webinar with Erin McKelvey\, Dave Quinn\, Jitka Rysava\, John Sigety\, and Martin Valko!
URL:https://www.eacctx.com/2event/going-big-in-texas-slovak-house/
LOCATION:Q-Branch Global Collaboration Center\, 200 E 6th St #310\, Austin\, TX\, 78701\, United States
CATEGORIES:Partner Events
END:VEVENT
BEGIN:VEVENT
DTSTART;TZID=Europe/Paris:20250309T170000
DTEND;TZID=Europe/Paris:20250309T190000
DTSTAMP:20260420T050305
CREATED:20250228T201722Z
LAST-MODIFIED:20250228T210642Z
UID:52703-1741539600-1741546800@www.eacctx.com
SUMMARY:Get ready for the SACC Austin: SXSW Event!
DESCRIPTION:Join Us for a Special SXSW Gathering at Eleiko! \nJoin us on Sunday\, March 9th at Eleiko Sport Inc. for an exciting social gathering during SXSW\, where you’ll have the opportunity to connect with a dynamic mix of companies as well as representatives traveling from Sweden to Austin. \nThe evening will feature a special keynote speaker\, Siavosh Derakhti\, who will share his inspiring insights in his presentation “Courage and Commitment: Making a Difference in an Uncertain World.” \nHosted by Eleiko\, this event promises a welcoming and engaging atmosphere\, complete with refreshments and authentic barbecue by The Smoking Swede. And of course\, no Swedish gathering is complete without something sweet! Our friends at Fika & Candy will introduce their brand and treat guests to a selection of authentic Swedish sweets. \nAbout Our Host – Corporate Member Eleiko\nEleiko has been a global leader in strength training for over 60 years\, providing premium weightlifting and fitness equipment to athletes and training facilities worldwide. With a commitment to innovation\, quality\, and performance\, Eleiko empowers people to become stronger\, healthier\, and better through world-class equipment and education. \nSpecial Guest – Siavosh Derakhti\nDuring the evening\, we will hear from Siavosh Derakhti\, an award-winning advocate for social change. Derakhti is not just a speaker – he´s a changemaker. As a young muslim growing up in Malmö\, Sweden\, Derakhti witnessed firsthand how his childhood bestfriend\, who was jewish\, faced antisemitism from an early age. Years later\, while in highschool\, Derakhti saw antisemitism continue to rise – and he knew he had to act. Determined to make a difference\, he launched initiatives to “bridge cultural divides” among Malmös youth. Since then\, Derakhti has organized study trips and created opportunities for young people from diverse backgrounds to connect. He is the founder of a non-profit organization called UMAF that works against antisemitism and Xenophobia\, and has been featured in Forbes Magazine as one of the world’s most influential young leaders. Derakhti is also the first recipient of the newly established ELSA award and the inaugural Raoul Wallenberg Prize. In his speech\, “Courage and Commitment: Making a Difference in an Uncertain World\,” Derakthi will share his inspiring journey and discuss the power of engagement\, diversity\, and leadership in today’s world.\nPlease secure your spot by RSVPing promptly\, as availability is limited. \n📅 Date: March 9th\n🕔 Time: 5:00 – 7:00 p.m.\n📍 Location: Eleiko Sport Inc.\, 3910 S Industrial Dr Suite 100\, Austin\, Tx 78744 \nWe look forward to seeing you there! \n\nFees/Admission\nFree of charge\, but please register for planning purposes. Limited spots available!\nLocation\nEleiko Sport Inc.\, 3910 S Industrial Dr Suite 100\, Austin\, Tx 78744
URL:https://www.eacctx.com/2event/get-ready-for-the-sacc-austin-sxsw-event/
LOCATION:Eleiko Sport Inc.\, 3910 S Industrial Dr Suite 100\, Austin\, 78744\, United States
CATEGORIES:Partner Events
ORGANIZER;CN="Swedish American Chamber of Commerce":MAILTO:lena.starostine@gff.com
END:VEVENT
BEGIN:VEVENT
DTSTART;TZID=Europe/Paris:20250309T180000
DTEND;TZID=Europe/Paris:20250309T213000
DTSTAMP:20260420T050305
CREATED:20250228T211501Z
LAST-MODIFIED:20250228T211501Z
UID:52709-1741543200-1741555800@www.eacctx.com
SUMMARY:Polish Networking NIGHT!
DESCRIPTION:Join the Polish Investment & Trade Agency for an exciting evening of innovation\, culture (yes\, there will be pierogi)\, and networking at the Polish Networking Night during SXSW in Austin on March 9th! \nThis exclusive event will showcase Poland’s brightest tech companies\, offering a unique opportunity to meet the minds behind the cutting-edge innovations shaping the future of tech. \nLocation: Innovation Bridge Europe House\, 4th Floor\, Thompson Hotel \nDoors Open: 6:00 PM | Programming Begins: 6:30 PM | Networking: 7:30 PM – 9:30 PM \nRSVP: https://lnkd.in/ev7KxfsB
URL:https://www.eacctx.com/2event/polish-networking-night/
LOCATION:Innovation Bridge Europe House\, 506 San Jacinto Blvd\, Austin\, TX\, United States
CATEGORIES:Partner Events
END:VEVENT
END:VCALENDAR