BEGIN:VCALENDAR
VERSION:2.0
PRODID:-//European American Chamber of Commerce Texas [EACCTX] | Your Partner for Transatlantic Business Resources - ECPv6.15.20//NONSGML v1.0//EN
CALSCALE:GREGORIAN
METHOD:PUBLISH
X-ORIGINAL-URL:https://www.eacctx.com
X-WR-CALDESC:Events for European American Chamber of Commerce Texas [EACCTX] | Your Partner for Transatlantic Business Resources
REFRESH-INTERVAL;VALUE=DURATION:PT1H
X-Robots-Tag:noindex
X-PUBLISHED-TTL:PT1H
BEGIN:VTIMEZONE
TZID:Europe/Paris
BEGIN:DAYLIGHT
TZOFFSETFROM:+0100
TZOFFSETTO:+0200
TZNAME:CEST
DTSTART:20240331T010000
END:DAYLIGHT
BEGIN:STANDARD
TZOFFSETFROM:+0200
TZOFFSETTO:+0100
TZNAME:CET
DTSTART:20241027T010000
END:STANDARD
BEGIN:DAYLIGHT
TZOFFSETFROM:+0100
TZOFFSETTO:+0200
TZNAME:CEST
DTSTART:20250330T010000
END:DAYLIGHT
BEGIN:STANDARD
TZOFFSETFROM:+0200
TZOFFSETTO:+0100
TZNAME:CET
DTSTART:20251026T010000
END:STANDARD
BEGIN:DAYLIGHT
TZOFFSETFROM:+0100
TZOFFSETTO:+0200
TZNAME:CEST
DTSTART:20260329T010000
END:DAYLIGHT
BEGIN:STANDARD
TZOFFSETFROM:+0200
TZOFFSETTO:+0100
TZNAME:CET
DTSTART:20261025T010000
END:STANDARD
END:VTIMEZONE
BEGIN:VEVENT
DTSTART;TZID=Europe/Paris:20250221T073000
DTEND;TZID=Europe/Paris:20250221T093000
DTSTAMP:20260420T062254
CREATED:20250106T182910Z
LAST-MODIFIED:20250106T182910Z
UID:52382-1740123000-1740130200@www.eacctx.com
SUMMARY:Blue Oak Consulting | Financial Foundation for Manufacturing Success
DESCRIPTION:  \n \n  \nThis is a great opportunity to grab breakfast\, network\, and get actionable financial tips to help your manufacturing business grow.\nWe’re going to break down financial strategies that can make a difference for manufacturers.\nAnd yes\, breakfast is free! So come hungry\, bring your questions\, and let’s chat about how we can help your business succeed.\n  \nSpots are limited\, so make sure to register today!\nDetails\nFriday\, February 21\, 2025\n7:30 AM – 9:30 AM CST \n\n First United Bank\n6401 South Custer Rd\, McKinney\, Texas 75070\nFREE TO ATTEND\n\nREGISTER HERE\nSpeakers \n  \nChristopher Thomas\, Blue Oak Consulting \nJose Malave\, First United Bank \n 
URL:https://www.eacctx.com/2event/blue-oak-consulting-financial-foundation-for-manufacturing-success/
LOCATION:First United Bank\, 6401 South Custer Rd\,\, McKinney\, Texas\, 75070
CATEGORIES:Partner Events
END:VEVENT
END:VCALENDAR