BEGIN:VCALENDAR
VERSION:2.0
PRODID:-//European American Chamber of Commerce Texas [EACCTX] | Your Partner for Transatlantic Business Resources - ECPv6.15.20//NONSGML v1.0//EN
CALSCALE:GREGORIAN
METHOD:PUBLISH
X-ORIGINAL-URL:https://www.eacctx.com
X-WR-CALDESC:Events for European American Chamber of Commerce Texas [EACCTX] | Your Partner for Transatlantic Business Resources
REFRESH-INTERVAL;VALUE=DURATION:PT1H
X-Robots-Tag:noindex
X-PUBLISHED-TTL:PT1H
BEGIN:VTIMEZONE
TZID:Europe/Paris
BEGIN:DAYLIGHT
TZOFFSETFROM:+0100
TZOFFSETTO:+0200
TZNAME:CEST
DTSTART:20230326T010000
END:DAYLIGHT
BEGIN:STANDARD
TZOFFSETFROM:+0200
TZOFFSETTO:+0100
TZNAME:CET
DTSTART:20231029T010000
END:STANDARD
BEGIN:DAYLIGHT
TZOFFSETFROM:+0100
TZOFFSETTO:+0200
TZNAME:CEST
DTSTART:20240331T010000
END:DAYLIGHT
BEGIN:STANDARD
TZOFFSETFROM:+0200
TZOFFSETTO:+0100
TZNAME:CET
DTSTART:20241027T010000
END:STANDARD
BEGIN:DAYLIGHT
TZOFFSETFROM:+0100
TZOFFSETTO:+0200
TZNAME:CEST
DTSTART:20250330T010000
END:DAYLIGHT
BEGIN:STANDARD
TZOFFSETFROM:+0200
TZOFFSETTO:+0100
TZNAME:CET
DTSTART:20251026T010000
END:STANDARD
END:VTIMEZONE
BEGIN:VEVENT
DTSTART;TZID=Europe/Paris:20241120T110000
DTEND;TZID=Europe/Paris:20241120T120000
DTSTAMP:20260420T104700
CREATED:20241107T155353Z
LAST-MODIFIED:20241112T230243Z
UID:52222-1732100400-1732104000@www.eacctx.com
SUMMARY:EACC New York | Quarterly EU Economic Update - The New EU Economic Statecraft – Promoting European Growth\, Competitiveness\, and Security in the 21st Century
DESCRIPTION:  \n \n  \nJoin us for an in-depth discussion of the economic outlook in Europe and the major challenges and opportunities facing the EU and US over the coming year. The focus topic of this webinar will be the European competitiveness in light of growth and security. \n  \nEvent details \n\nWednesday\, November 20\n11:00 am – 12:00 pm CST\n\n  \nLocation \nOnline \nREGISTER HERE\nSpeakers:\n• Ben Carliner\, Senior Economist\, DELEGATION OF THE EU TO THE U.S.\n• Nora Hesse\, Head of Section – Economic & Financial Affairs\, DELEGATION OF THE EU TO THE U.S.\n• Yvonne Bendinger-Rothschild\, Executive Director\, EACCNY [Moderator] \n  \n\n\n\nThis webinar was organized in partnership with:
URL:https://www.eacctx.com/2event/eaccny-quarterly-eu-economic-update-november/
LOCATION:Virtual
CATEGORIES:Partner Events
END:VEVENT
END:VCALENDAR