BEGIN:VCALENDAR
VERSION:2.0
PRODID:-//European American Chamber of Commerce Texas [EACCTX] | Your Partner for Transatlantic Business Resources - ECPv6.15.20//NONSGML v1.0//EN
CALSCALE:GREGORIAN
METHOD:PUBLISH
X-ORIGINAL-URL:https://www.eacctx.com
X-WR-CALDESC:Events for European American Chamber of Commerce Texas [EACCTX] | Your Partner for Transatlantic Business Resources
REFRESH-INTERVAL;VALUE=DURATION:PT1H
X-Robots-Tag:noindex
X-PUBLISHED-TTL:PT1H
BEGIN:VTIMEZONE
TZID:Europe/Paris
BEGIN:DAYLIGHT
TZOFFSETFROM:+0100
TZOFFSETTO:+0200
TZNAME:CEST
DTSTART:20230326T010000
END:DAYLIGHT
BEGIN:STANDARD
TZOFFSETFROM:+0200
TZOFFSETTO:+0100
TZNAME:CET
DTSTART:20231029T010000
END:STANDARD
BEGIN:DAYLIGHT
TZOFFSETFROM:+0100
TZOFFSETTO:+0200
TZNAME:CEST
DTSTART:20240331T010000
END:DAYLIGHT
BEGIN:STANDARD
TZOFFSETFROM:+0200
TZOFFSETTO:+0100
TZNAME:CET
DTSTART:20241027T010000
END:STANDARD
BEGIN:DAYLIGHT
TZOFFSETFROM:+0100
TZOFFSETTO:+0200
TZNAME:CEST
DTSTART:20250330T010000
END:DAYLIGHT
BEGIN:STANDARD
TZOFFSETFROM:+0200
TZOFFSETTO:+0100
TZNAME:CET
DTSTART:20251026T010000
END:STANDARD
END:VTIMEZONE
BEGIN:VEVENT
DTSTART;TZID=Europe/Paris:20241031T111500
DTEND;TZID=Europe/Paris:20241031T123000
DTSTAMP:20260420T104659
CREATED:20241021T144525Z
LAST-MODIFIED:20241021T150358Z
UID:51750-1730373300-1730377800@www.eacctx.com
SUMMARY:Tech Ranch Austin | Campfire Networking: Austin Tech Week International Track Edition
DESCRIPTION:Are you ready to make meaningful connections that could take your business to the next level? Join us for a special edition of TechRanch’s Campfire event\, connecting Texas resources with local attendees\, visiting attendees\, and international guests. This isn’t your typical networking event—it’s a unique gathering where attendees will come together to share ideas\, collaborate\, and build lasting partnerships.\n\n✨ What to expect:\n\nOne-minute pitch sessions from a handful of local Entrepreneurship Support Organizations\nTeaming activities to foster deep connections\nInformal social networking in a relaxed atmosphere\n\nBuy your tickets for Austin Tech Week here\n\nNot in Austin but still want to join? You can join us using Zoom\, use this link!\n  \nEvent details \n\nThursday\, October 31st\n11:15am-12:30pm\n\nFOR MORE INFORMATION\nLocation \nCapital Factory\n701 Brazos Street\nAustin\, TX 78701 + \n 
URL:https://www.eacctx.com/2event/tech-ranch-austin-campfire-austin-tech-week-international/
LOCATION:Capital Factory\, 701 Brazos Street\, Austin\, 78701
CATEGORIES:Partner Events
END:VEVENT
END:VCALENDAR