BEGIN:VCALENDAR
VERSION:2.0
PRODID:-//European American Chamber of Commerce Texas [EACCTX] | Your Partner for Transatlantic Business Resources - ECPv6.15.20//NONSGML v1.0//EN
CALSCALE:GREGORIAN
METHOD:PUBLISH
X-ORIGINAL-URL:https://www.eacctx.com
X-WR-CALDESC:Events for European American Chamber of Commerce Texas [EACCTX] | Your Partner for Transatlantic Business Resources
REFRESH-INTERVAL;VALUE=DURATION:PT1H
X-Robots-Tag:noindex
X-PUBLISHED-TTL:PT1H
BEGIN:VTIMEZONE
TZID:America/Chicago
BEGIN:DAYLIGHT
TZOFFSETFROM:-0600
TZOFFSETTO:-0500
TZNAME:CDT
DTSTART:20230312T080000
END:DAYLIGHT
BEGIN:STANDARD
TZOFFSETFROM:-0500
TZOFFSETTO:-0600
TZNAME:CST
DTSTART:20231105T070000
END:STANDARD
BEGIN:DAYLIGHT
TZOFFSETFROM:-0600
TZOFFSETTO:-0500
TZNAME:CDT
DTSTART:20240310T080000
END:DAYLIGHT
BEGIN:STANDARD
TZOFFSETFROM:-0500
TZOFFSETTO:-0600
TZNAME:CST
DTSTART:20241103T070000
END:STANDARD
BEGIN:DAYLIGHT
TZOFFSETFROM:-0600
TZOFFSETTO:-0500
TZNAME:CDT
DTSTART:20250309T080000
END:DAYLIGHT
BEGIN:STANDARD
TZOFFSETFROM:-0500
TZOFFSETTO:-0600
TZNAME:CST
DTSTART:20251102T070000
END:STANDARD
END:VTIMEZONE
BEGIN:VEVENT
DTSTART;VALUE=DATE:20241024
DTEND;VALUE=DATE:20241025
DTSTAMP:20260420T122711
CREATED:20240530T193628Z
LAST-MODIFIED:20241022T172056Z
UID:51125-1729728000-1729814399@www.eacctx.com
SUMMARY:2024 - Ambassadors' Gala & EU-Texas Economic Leadership Forum
DESCRIPTION:REGISTER HERE\n  \nAmbassador Neliupšienės‘ visit emphasizes the strong bilateral trade and investment ties between Europe and the Lone Star State\, leveraging Texas’ significant role as a leading exporter to Europe and a hub for European investment in the United States. \n Ambassador Takács‘ presence marks a remarkable celebration of the dynamic transatlantic relationship between Hungary and Texas. Hungary is Texas’ fifth largest export partner. From January 2013 to December 2022\, Hungarian companies made $13.9 million in capital investment in Texas.  In 2022\, Texas exports to Hungary totaled $729 million and total trade totaled $1.3 billion. \nThere’s more!  \nOn the eve of Hungary’s historic mission to send an astronaut to the International Space Station (ISS)\, our Ambassadors will be accompanied in Dallas by two Hungarian astronauts. They will join us from training at NASA before their 30-day mission to the space where they will test various equipment and conduct scientific experiments aboard the ISS.* \n*The attendance of Hungarian astronauts at our event is subject to change based on their training schedules. We appreciate your understanding.\n  \n \n\n– Trade\, Industry\, and Defense in the Space Economy – \nTIME:  8:30 AM – 12:30 PM \nLOCATION:  Cox School of Business\, SMU \n6214 Bishop Blvd\, Dallas\, TX 75275 \nEACC Texas Members: FREE\nNon-Members: $100\n \n  \n    \n\n\n\nTIME:  6:00 PM – 9:00 PM \nLOCATION: Farimont DALLAS \n1717 N Akard St\, Dallas\, TX 75201 \nEACC Texas Members: $225\nNon-Members: $275\nJoin us for an elegant evening at the Ambassadors’ Gala\, the perfect setting to celebrate the strong transatlantic connections between Texas\, the United States\, and Europe. \nThis Gala is a unique opportunity to network with local and global business leaders\, clients and colleagues\, fostering new connections and strengthening existing relationships. The evening will include an exclusive silent auction\, offering guests the chance to take home a piece of this memorable event as the stars of Texas\, the United States\, and Europe align! \nDress code: Black tie optional. Formal suits or cocktail dresses are also appropriate. \n  \n\n  \n \n  \n \n \n \n  \n  \n  \nSPONSORSHIP OPPORTUNITIES!\nAs the Stars of Texas\, Europe and the United States align on October 24th\, we invite you to be part of these impactful partnerships and explore new opportunities for growth and collaboration on both sides of the Atlantic. \n \nContact us to explore sponsorship opportunities and benefits\nAdditional information to follow\nREGISTER HERE\n  \n\nGuests of Honor: \nHer Excellency Jovita Neliupšienė \nAmbassador of the European Union to the United States \n \nJovita Neliupšienė became the Ambassador of the European Union to the United States on January 1\, 2024. Before that\, she was a Vice Minister of Foreign Affairs of Lithuania from September 2022\, where she was responsible for the coordination of European Affairs\, European bilateral and regional issues\, as well as national sanctions coordinator. \nFrom 2020-2022\, she was Vice Minister of Economy and Innovation of Lithuania\, tasked with investment and export promotion\, international cooperation\, including policy coordination of state-owned enterprises\, as well as chairing the interagency commission for export control. \nIn 2020\, she held the post of Chancellor and State Secretary of the Ministry of Foreign Affairs of Lithuania. This position included responsibility for staff coordination\, legal and consular affairs. Between 2015-2020\, she served as Ambassador and Permanent Representative of Lithuania to the EU. These years were marked by the migration crisis and the COVID-19 pandemic. \nFrom 2009-2015\, she worked as an advisor and chief foreign policy advisor to the President of the Republic of Lithuania Ms. Dalia Grybauskaite. She was responsible for foreign policy coordination\, inter-institutional relations\, as well as the role of sherpa/EU advisor\, and in this respect took a leading position in preparing and coordinating the Lithuanian presidency of the EU Council in 2013. In 2014\, she was awarded the State Decoration Order “For Merit to Lithuania” Commander’s Cross. \nREAD HER FULL BIO HERE \n\nHis Excellency Szabolcs Takács \nAmbassador of Hungary to the United States \n \nMEET AMBASSADOR SZABOLCS TAKÁCS \nMr. Szabolcs Takács is currently the Hungarian Ambassador to the United States. Prior to his arrival to Washington D.C. in November 2020\, he was the Ministerial Commissioner for BREXIT in the Ministry of Foreign Affairs and Trade in Budapest between 2019 and 2020. He is also the Head of the Hungarian Delegation to the International Holocaust Remembrance Alliance (IHRA) since 2016. During the Hungarian Chairmanship year of IHRA in 2015-2016 he was the Chair of the organization. \nPrior to these positions he was State Secretary for European Union Affairs at the Prime Minister’s Office between 2015-2019. Before that he served as the Deputy State Secretary for Security Policy (Political Director) at the Ministry of Foreign Affairs and Trade. He also served as the Deputy State Secretary for Global Affairs between 2012 and 2013\, and as a Director General of the Asia-Pacific Department between 2011 and 2012. \nHis earlier assignments included working as a director at the Office of the Deputy State Secretary for Global Affairs in charge of bilateral relations with non-European countries and International Development Cooperation. Between 2005 and 2009 he was the Deputy Head of Mission at the Embassy of Hungary in Doha\, State of Qatar\, and prior to that worked at the Department of Asia-Pacific since joining the Ministry of Foreign Affairs in 2002. \n\n* Add event to your calendar *\n•   Apple  •  Google  •  Office 365  •  Outlook Web  •  Outlook  •  \n⚠️Share this invitation with your contacts\n 
URL:https://www.eacctx.com/2event/eacc-texas-2024-ambassadors-gala-eu-texas-economic-leadership-forum/
CATEGORIES:events,upcoming
END:VEVENT
END:VCALENDAR