BEGIN:VCALENDAR
VERSION:2.0
PRODID:-//European American Chamber of Commerce Texas [EACCTX] | Your Partner for Transatlantic Business Resources - ECPv6.15.20//NONSGML v1.0//EN
CALSCALE:GREGORIAN
METHOD:PUBLISH
X-WR-CALNAME:European American Chamber of Commerce Texas [EACCTX] | Your Partner for Transatlantic Business Resources
X-ORIGINAL-URL:https://www.eacctx.com
X-WR-CALDESC:Events for European American Chamber of Commerce Texas [EACCTX] | Your Partner for Transatlantic Business Resources
REFRESH-INTERVAL;VALUE=DURATION:PT1H
X-Robots-Tag:noindex
X-PUBLISHED-TTL:PT1H
BEGIN:VTIMEZONE
TZID:Europe/Paris
BEGIN:DAYLIGHT
TZOFFSETFROM:+0100
TZOFFSETTO:+0200
TZNAME:CEST
DTSTART:20230326T010000
END:DAYLIGHT
BEGIN:STANDARD
TZOFFSETFROM:+0200
TZOFFSETTO:+0100
TZNAME:CET
DTSTART:20231029T010000
END:STANDARD
BEGIN:DAYLIGHT
TZOFFSETFROM:+0100
TZOFFSETTO:+0200
TZNAME:CEST
DTSTART:20240331T010000
END:DAYLIGHT
BEGIN:STANDARD
TZOFFSETFROM:+0200
TZOFFSETTO:+0100
TZNAME:CET
DTSTART:20241027T010000
END:STANDARD
BEGIN:DAYLIGHT
TZOFFSETFROM:+0100
TZOFFSETTO:+0200
TZNAME:CEST
DTSTART:20250330T010000
END:DAYLIGHT
BEGIN:STANDARD
TZOFFSETFROM:+0200
TZOFFSETTO:+0100
TZNAME:CET
DTSTART:20251026T010000
END:STANDARD
END:VTIMEZONE
BEGIN:VEVENT
DTSTART;TZID=Europe/Paris:20241005T090000
DTEND;TZID=Europe/Paris:20241005T153000
DTSTAMP:20260420T122611
CREATED:20240909T154205Z
LAST-MODIFIED:20240909T154205Z
UID:51472-1728118800-1728142200@www.eacctx.com
SUMMARY:Alliance Française de Dallas | Symposium on La Réunion Colony: Unveiling Dallas' Utopian European Past
DESCRIPTION:  \nJoin us for an enlightening Symposium exploring the history and legacy of La Réunion Colony\, a 19th-century utopian settlement in Dallas. Established by French\, Belgian\, and Swiss immigrants in 1855\, La Réunion was a bold experiment in communal living\, blending ideals of socialism\, cooperation\, and artistic expression. \nThis event will bring together historians\, descendants of the colony\, and enthusiasts to discuss the colony’s origins\, its impact on the region\, and the lessons it offers for Dallas contemporary society. Through presentations\, panel discussions\, and rare archival exhibits\, attendees will gain a deeper understanding of this fascinating chapter in Dallas’ history. \n  \nREGISTER HERE\n\nEnhance your journey: Seize the opportunity to purchase The Road to Texas\, ‘A historical document reintroducing Dallas as an early French socialist utopia\, pieced from journal entries\, letters\, and sketches of French scholar Victor Considerant’\, in either hard cover ($35)\, or soft cover ($16).The perfect companion to deepen your historical adventure! (Click here to purchase the book). \n\nRegistration will include food and drinks. \nDon’t miss this opportunity to delve into the dreams and challenges of the pioneers who sought to create a new society on the Texas frontier!\n 
URL:https://www.eacctx.com/2event/alliance-francaise-de-dallas-symposium-on-la-reunion-colony/
LOCATION:The Oak Cliff Society of Fine Arts\, Turner House\, 401 N. Rosemont\, Dallas\, Texas\, 75208
CATEGORIES:Partner Events
END:VEVENT
END:VCALENDAR