BEGIN:VCALENDAR
VERSION:2.0
PRODID:-//European American Chamber of Commerce Texas [EACCTX] | Your Partner for Transatlantic Business Resources - ECPv6.15.20//NONSGML v1.0//EN
CALSCALE:GREGORIAN
METHOD:PUBLISH
X-ORIGINAL-URL:https://www.eacctx.com
X-WR-CALDESC:Events for European American Chamber of Commerce Texas [EACCTX] | Your Partner for Transatlantic Business Resources
REFRESH-INTERVAL;VALUE=DURATION:PT1H
X-Robots-Tag:noindex
X-PUBLISHED-TTL:PT1H
BEGIN:VTIMEZONE
TZID:Europe/Paris
BEGIN:DAYLIGHT
TZOFFSETFROM:+0100
TZOFFSETTO:+0200
TZNAME:CEST
DTSTART:20230326T010000
END:DAYLIGHT
BEGIN:STANDARD
TZOFFSETFROM:+0200
TZOFFSETTO:+0100
TZNAME:CET
DTSTART:20231029T010000
END:STANDARD
BEGIN:DAYLIGHT
TZOFFSETFROM:+0100
TZOFFSETTO:+0200
TZNAME:CEST
DTSTART:20240331T010000
END:DAYLIGHT
BEGIN:STANDARD
TZOFFSETFROM:+0200
TZOFFSETTO:+0100
TZNAME:CET
DTSTART:20241027T010000
END:STANDARD
BEGIN:DAYLIGHT
TZOFFSETFROM:+0100
TZOFFSETTO:+0200
TZNAME:CEST
DTSTART:20250330T010000
END:DAYLIGHT
BEGIN:STANDARD
TZOFFSETFROM:+0200
TZOFFSETTO:+0100
TZNAME:CET
DTSTART:20251026T010000
END:STANDARD
END:VTIMEZONE
BEGIN:VEVENT
DTSTART;TZID=Europe/Paris:20241001T110000
DTEND;TZID=Europe/Paris:20241001T120000
DTSTAMP:20260420T122712
CREATED:20240912T150519Z
LAST-MODIFIED:20240912T150519Z
UID:51484-1727780400-1727784000@www.eacctx.com
SUMMARY:EACC Paris | WEBINAR - Expatriation and Mobility – Arriving in France
DESCRIPTION:  \n“Expatriation and Mobility – Arriving in France” Webinar\nTuesday\, October 1st 2024\nWebinar (Teams)\, 18:00-19:00 CET/12 :00-13:00 EDT\n  \nJoin the European American Chamber of Commerce and the Chambre des Notaires de Paris for an online transatlantic discussion addressing crucial questions\, both professional and personal\, that Americans and other foreigners need to ask for a successful move to France. \nOur panelists will also cover key areas of vigilance for French companies onboarding foreign nationals. \n  \nREGISTER HERE\n  \nPanelists: \n  \n \nMr. Pierre-Philippe BUDET\, Notary Public in Paris\, will discuss the legal and fiscal aspects of personal and family law in a Franco-American context. He will cover topics such as marriage\, marriage contracts\, divorce\, donations\, inheritances and how to anticipate them\, as well as the question of housing (whether to rent or buy). \n \nMs. Vanessa TOLLIS\, Partner and Co-Head of Gide’s New York office\, will cover U.S. tax planning for international clients. She specializes in cross-border transactions and tax issues relevant to starting or expanding operations abroad\, including U.S. tax treaty eligibility\, entity classification\, and cross-border equity compensation. \n \nMs. Elisabeth MAURY\, Chartered Accountant and Partner at ORCOM International\, will delve into the professional aspects of expatriation. She will provide expert insights on social law\, including the choice between secondment and expatriation\, the impact of residence permits\, and employment contracts. \n \nMr. Jean D’ALBIS\, Head of the US Desk and Member of the Executive Committee at Banque Paris Saint Germain\, will discuss financing\, wealth management\, and taxation for American residents in France. He will also address the challenges of finding French banks that accept American customers. \n \nMs. Camille BEAUDOIN\, Notary Public in Paris and Discussion Lead\, will guide this conversation on the real estate\, family law\, and business law issues most pertinent to Americans and other foreign nationals arriving in France \n  \nREGISTER HERE\n 
URL:https://www.eacctx.com/2event/eacc-paris-webinar-expatriation-and-mobility-arriving-in-france/
LOCATION:Virtual
CATEGORIES:Partner Events
END:VEVENT
END:VCALENDAR