BEGIN:VCALENDAR
VERSION:2.0
PRODID:-//European American Chamber of Commerce Texas [EACCTX] | Your Partner for Transatlantic Business Resources - ECPv6.15.20//NONSGML v1.0//EN
CALSCALE:GREGORIAN
METHOD:PUBLISH
X-ORIGINAL-URL:https://www.eacctx.com
X-WR-CALDESC:Events for European American Chamber of Commerce Texas [EACCTX] | Your Partner for Transatlantic Business Resources
REFRESH-INTERVAL;VALUE=DURATION:PT1H
X-Robots-Tag:noindex
X-PUBLISHED-TTL:PT1H
BEGIN:VTIMEZONE
TZID:America/Chicago
BEGIN:DAYLIGHT
TZOFFSETFROM:-0600
TZOFFSETTO:-0500
TZNAME:CDT
DTSTART:20230312T080000
END:DAYLIGHT
BEGIN:STANDARD
TZOFFSETFROM:-0500
TZOFFSETTO:-0600
TZNAME:CST
DTSTART:20231105T070000
END:STANDARD
BEGIN:DAYLIGHT
TZOFFSETFROM:-0600
TZOFFSETTO:-0500
TZNAME:CDT
DTSTART:20240310T080000
END:DAYLIGHT
BEGIN:STANDARD
TZOFFSETFROM:-0500
TZOFFSETTO:-0600
TZNAME:CST
DTSTART:20241103T070000
END:STANDARD
BEGIN:DAYLIGHT
TZOFFSETFROM:-0600
TZOFFSETTO:-0500
TZNAME:CDT
DTSTART:20250309T080000
END:DAYLIGHT
BEGIN:STANDARD
TZOFFSETFROM:-0500
TZOFFSETTO:-0600
TZNAME:CST
DTSTART:20251102T070000
END:STANDARD
END:VTIMEZONE
BEGIN:VEVENT
DTSTART;TZID=America/Chicago:20240919T090000
DTEND;TZID=America/Chicago:20240919T100000
DTSTAMP:20260420T140948
CREATED:20240620T215735Z
LAST-MODIFIED:20240826T162618Z
UID:51244-1726736400-1726740000@www.eacctx.com
SUMMARY:EEN | Doing business in the United States: What you need to know about U.S. import customs issues
DESCRIPTION:Embracing Global Markets Webinar Series\nThe webinar series ‘Embracing Global Markets’ supports European small and medium-sized enterprises and start-ups to innovate and expand in Asia\, Africa and the Americas. The webinars are hosted by experts of various European Commission services and the ‘Enterprise Europe Network’\, the world’s largest business service provider. \nWho should attend? \nThe webinar aims at European small and medium-sized enterprises (SMEs)\, start-ups (ready to scale internationally)\, beneficiaries or holders of seals of excellence of the European Innovation Council\, European clusters and cluster managers\, business advisers of the Enterprise Europe Network and other European business support organizations\, including all stakeholders of the ‘Friends of EEN’ initiative. \nObjectives \nThis webinar will be an update on the state of transatlantic trade and what you need to know about recent trade policy changes\, including topics like: \n\nJoint EU & US efforts in the context of the Trade & Technology Council; legal impediments to transatlantic trade incl. An update on duty/and tariff regimens\, increased customs enforcement\, issues related to extraterritorial jurisdiction\, sanctions update\nThe current state of Supply chain\, remaining challenges\, new sourcing patterns (near-shoring / reshoring)\, congestion at ports\, other bottlenecks such as the relocation of vessels and containers\, the cost and lack of warehouses interplay\, managing rate volatility\, picking partners\nNew developments in Trade Law\, how trade agreements affect nearshoring trends\, Trade restrictions\, incl. what exporters need to know now about the Steel & Aluminum (232) and the Section 301 tariffs\, along with complications that companies face by secondary sanctions\nTips and ways to manage trade compliance in common sectors (food\, technology\, chemicals\, medical devices)\nthings you need to know to ensure a smooth path through customs for specialty products\n\nSet the date on your calendars\nand tune in live on Webex to interact with our expert speakers\,\nor catch the webinar live on YouTube!\nDon’t miss out on this valuable opportunity\nto gain insights and ask questions.\n  \n\n\nSpeakers\n\n\n\n\n\n\n\nYvonne Bendinger-Rothschild\nExecutive Director; European American Chamber of Commerce New York (EACCNY)\nYvonne focuses on promoting an active transatlantic discourse and to engage the business communities on both sides in a meaningful dialog\, to create profitable partnerships and to provide a professional platform to exchange ideas.\n\n\n\n\n\n\n\n——————————————————\n\n\n\n\n\n\n\n\nMichelle Schulz\nManaging Partner; Schulz Trade Law PLLC\nMichelle Schulz is a widely recognised leader in international trade law and is highly experienced in the U.S. customs regulations\, guiding companies through customs matters\, such as valuation and classification rulings\, prior disclosures\, rate advances\, Focused Assessments\, detentions\, and penalties.\n\n\n\n\n\n\n\n\n\n——————————————————\n\n\n\n\n\n\nNoa Sussman\nGlobal Senior Sales Director; TecEx\nNoa Sussman is the Global Senior Sales Director at TecEx\, where she leads the charge in crafting and executing advanced risk management strategies for large manufacturers\, enterprises and firms dedicated to the global deployments and transportation of technology devices and components.\n\n\n\n\n\n\n\n\n\n——————————————————–\n\n\n\n\n\n\nSimon Kaye\nCEO and Founder; Jaguar Freight Services\nSimon strives everyday to create an innovative work environment. It is this innovation\, along with a deep commitment to exceeding industry standards in customer service\, expertise\, and technological faculty that keeps Jaguar Freight at the apex of the industry.\n\n\n\n\n\n\n\n\nOur webinars are recorded and disseminated via our social media channels. If you don’t want to be visible\, deactivate your camera and microphone. For more information read our detailed data protection notice.
URL:https://www.eacctx.com/2event/een-doing-business-in-the-united-states-us-import-customs-issues/
CATEGORIES:events,upcoming
END:VEVENT
END:VCALENDAR