BEGIN:VCALENDAR
VERSION:2.0
PRODID:-//European American Chamber of Commerce Texas [EACCTX] | Your Partner for Transatlantic Business Resources - ECPv6.15.20//NONSGML v1.0//EN
CALSCALE:GREGORIAN
METHOD:PUBLISH
X-WR-CALNAME:European American Chamber of Commerce Texas [EACCTX] | Your Partner for Transatlantic Business Resources
X-ORIGINAL-URL:https://www.eacctx.com
X-WR-CALDESC:Events for European American Chamber of Commerce Texas [EACCTX] | Your Partner for Transatlantic Business Resources
REFRESH-INTERVAL;VALUE=DURATION:PT1H
X-Robots-Tag:noindex
X-PUBLISHED-TTL:PT1H
BEGIN:VTIMEZONE
TZID:Europe/Paris
BEGIN:DAYLIGHT
TZOFFSETFROM:+0100
TZOFFSETTO:+0200
TZNAME:CEST
DTSTART:20230326T010000
END:DAYLIGHT
BEGIN:STANDARD
TZOFFSETFROM:+0200
TZOFFSETTO:+0100
TZNAME:CET
DTSTART:20231029T010000
END:STANDARD
BEGIN:DAYLIGHT
TZOFFSETFROM:+0100
TZOFFSETTO:+0200
TZNAME:CEST
DTSTART:20240331T010000
END:DAYLIGHT
BEGIN:STANDARD
TZOFFSETFROM:+0200
TZOFFSETTO:+0100
TZNAME:CET
DTSTART:20241027T010000
END:STANDARD
BEGIN:DAYLIGHT
TZOFFSETFROM:+0100
TZOFFSETTO:+0200
TZNAME:CEST
DTSTART:20250330T010000
END:DAYLIGHT
BEGIN:STANDARD
TZOFFSETFROM:+0200
TZOFFSETTO:+0100
TZNAME:CET
DTSTART:20251026T010000
END:STANDARD
END:VTIMEZONE
BEGIN:VEVENT
DTSTART;TZID=Europe/Paris:20240627T120000
DTEND;TZID=Europe/Paris:20240627T164500
DTSTAMP:20260420T185723
CREATED:20240617T145928Z
LAST-MODIFIED:20240617T145928Z
UID:51193-1719489600-1719506700@www.eacctx.com
SUMMARY:Dallas Association of Young Lawyers | Business Development Boot Camp
DESCRIPTION:  \n\n\n\n\n\n\n\n\n\n\nBusiness Development Boot Camp\n\nThursday\, June 27\, 2024 | Noon – 4:45pm\nReception to Follow \nArts District Mansion\nApproved for 3.00 hours CLE credit\, including 2.00 hours ethics credit\n\nRegister by June 23\, 2024\n\nJoin us for a deep dive into the ethics of business development.\n\nSession 1 – Ethics of New Clients\n12:00 – 1:00pm\n\nSession 1 will focus on the ethics of new client engagements\, including 1)  screening new and existing clients and matters for conflicts of interest; 2) the circumstances under which conflicts may be waived; and 3) the requirements of attorney engagement letters.\n\nSpeakers:\n\nStacy Brainin\, Haynes and Boone\, LLP\nTed Huffman\, Katten Muchin Rosenman LLP\nHon. Doug Lang\, Thompson Coburn LLP\nCarrie Phaneuf\, Cobb Martinez Woodward\, PLLC\nModerated by Stephen Huschka\, Kessler Collins\, P.C.\n\n__________________________________________ \nSession 2 – Ethics of Marketing\n1:00 – 2:00pm\n \nDuring Session 2\, hear creative ways to market legal services including podcasts\, blogs\, and social media\, while adhering to the State Bar of Texas’s advertising guidelines. \nSpeakers: \n\nDavid Coale\, Lynn Pinker Hurst Schwegmann\nCharles Gillis\, Platt Richmond PLLC\nMelissa Gray\, The Law Spot\nSarah Crotty Minjoe\, Dykema\nModerated by Katya Long\, Ferguson Braswell Fraser Kubasta PC\n\n____________________________________ \nSession 3 – In-House Counsel/RFP Process\n2:15 – 3:30pm \nSession 3’s impressive panel of in-house counsel will consider ways to develop and build the relationship between outside counsel and in-house counsel and how outside counsel can deliver valuable legal services and otherwise add value to the business practices and coals of corporate and institutional clients. \nSpeakers: \n\nHumma Siddiqi\, Toyota Motor North America\, Inc.\nChantel Cheatham\, Pizza Hut\nMallory South\, Top Golf\nJoe Wyly\, Stealth Monitoring\nModerated by Haleigh Jones\, Crawford Wishnew Lang\n\n____________________________________ \n\nSession 4 – Experiential Learning\n3:30 – 4:45pm \nSession 4 will present an experiential learning opportunity where DAYL members will have the opportunity to create and present their “elevator pitch” – a brief introduction of themselves to prospective clients and others – and receive valuable feedback from more experienced attorneys. \n____________________________________ \nHappy Hour\n4:45 – 6:00pm \nStay for a post event happy hour with complimentary food and drinks. \n____________________________________ \nREGISTER HERE\n____________________________________\nCost\n\nThere is no charge for DAYL members to attend. The fee for non-members is $60. If you are not a DAYL member please contact Cherie Harris for payment details. Lunch will be available for purchase through the buffet line at the Arts District Mansion. The post-event reception is generously sponsored by our event sponsors.
URL:https://www.eacctx.com/2event/dallas-association-of-young-lawyers-business-development-boot-camp/
CATEGORIES:Partner Events
END:VEVENT
END:VCALENDAR