BEGIN:VCALENDAR
VERSION:2.0
PRODID:-//European American Chamber of Commerce Texas [EACCTX] | Your Partner for Transatlantic Business Resources - ECPv6.15.20//NONSGML v1.0//EN
CALSCALE:GREGORIAN
METHOD:PUBLISH
X-ORIGINAL-URL:https://www.eacctx.com
X-WR-CALDESC:Events for European American Chamber of Commerce Texas [EACCTX] | Your Partner for Transatlantic Business Resources
REFRESH-INTERVAL;VALUE=DURATION:PT1H
X-Robots-Tag:noindex
X-PUBLISHED-TTL:PT1H
BEGIN:VTIMEZONE
TZID:Europe/Paris
BEGIN:DAYLIGHT
TZOFFSETFROM:+0100
TZOFFSETTO:+0200
TZNAME:CEST
DTSTART:20230326T010000
END:DAYLIGHT
BEGIN:STANDARD
TZOFFSETFROM:+0200
TZOFFSETTO:+0100
TZNAME:CET
DTSTART:20231029T010000
END:STANDARD
BEGIN:DAYLIGHT
TZOFFSETFROM:+0100
TZOFFSETTO:+0200
TZNAME:CEST
DTSTART:20240331T010000
END:DAYLIGHT
BEGIN:STANDARD
TZOFFSETFROM:+0200
TZOFFSETTO:+0100
TZNAME:CET
DTSTART:20241027T010000
END:STANDARD
BEGIN:DAYLIGHT
TZOFFSETFROM:+0100
TZOFFSETTO:+0200
TZNAME:CEST
DTSTART:20250330T010000
END:DAYLIGHT
BEGIN:STANDARD
TZOFFSETFROM:+0200
TZOFFSETTO:+0100
TZNAME:CET
DTSTART:20251026T010000
END:STANDARD
END:VTIMEZONE
BEGIN:VEVENT
DTSTART;TZID=Europe/Paris:20240602T160000
DTEND;TZID=Europe/Paris:20240602T180000
DTSTAMP:20260420T185720
CREATED:20240530T162101Z
LAST-MODIFIED:20240530T162335Z
UID:51116-1717344000-1717351200@www.eacctx.com
SUMMARY:SACC Houston | SVERIGES NATIONALDAG/SWEDEN'S NATIONAL DAY
DESCRIPTION:  \nSWEDEN’S NATIONAL DAY\nPROSECCO\, APPETIZERS\, SWEDISH RULLTÅRTA AND SWEDISH SUMMER SONGS!\nSUNDAY JUNE 2\, 2024\n4:00-6:00 PM\n  \n  \n  \n  \nVENUE: PRIVATE VENUE\, ENERGY CORRIDOR\nTHE ADDRESS FOR THE EVENT WILL BE PROVIDED ONCE YOU HAVE COMPLETED THE REGISTRATION PROCESS. \n  \n  \n  \nBUY TICKETS HERE: https://swedishclub.org/component/forme/?fid=12 \nFOR INFORMATION CALL: 713-304-0052\, houston@consulateofsweden.org
URL:https://www.eacctx.com/2event/sacc-houston-sveriges-nationaldag-swedens-national-day/
LOCATION:Virtual
CATEGORIES:Partner Events
END:VEVENT
END:VCALENDAR