BEGIN:VCALENDAR
VERSION:2.0
PRODID:-//European American Chamber of Commerce Texas [EACCTX] | Your Partner for Transatlantic Business Resources - ECPv6.15.20//NONSGML v1.0//EN
CALSCALE:GREGORIAN
METHOD:PUBLISH
X-WR-CALNAME:European American Chamber of Commerce Texas [EACCTX] | Your Partner for Transatlantic Business Resources
X-ORIGINAL-URL:https://www.eacctx.com
X-WR-CALDESC:Events for European American Chamber of Commerce Texas [EACCTX] | Your Partner for Transatlantic Business Resources
REFRESH-INTERVAL;VALUE=DURATION:PT1H
X-Robots-Tag:noindex
X-PUBLISHED-TTL:PT1H
BEGIN:VTIMEZONE
TZID:America/Chicago
BEGIN:DAYLIGHT
TZOFFSETFROM:-0600
TZOFFSETTO:-0500
TZNAME:CDT
DTSTART:20230312T080000
END:DAYLIGHT
BEGIN:STANDARD
TZOFFSETFROM:-0500
TZOFFSETTO:-0600
TZNAME:CST
DTSTART:20231105T070000
END:STANDARD
BEGIN:DAYLIGHT
TZOFFSETFROM:-0600
TZOFFSETTO:-0500
TZNAME:CDT
DTSTART:20240310T080000
END:DAYLIGHT
BEGIN:STANDARD
TZOFFSETFROM:-0500
TZOFFSETTO:-0600
TZNAME:CST
DTSTART:20241103T070000
END:STANDARD
BEGIN:DAYLIGHT
TZOFFSETFROM:-0600
TZOFFSETTO:-0500
TZNAME:CDT
DTSTART:20250309T080000
END:DAYLIGHT
BEGIN:STANDARD
TZOFFSETFROM:-0500
TZOFFSETTO:-0600
TZNAME:CST
DTSTART:20251102T070000
END:STANDARD
END:VTIMEZONE
BEGIN:VEVENT
DTSTART;TZID=America/Chicago:20240523T090000
DTEND;TZID=America/Chicago:20240523T100000
DTSTAMP:20260420T203928
CREATED:20240517T172343Z
LAST-MODIFIED:20240517T172343Z
UID:51087-1716454800-1716458400@www.eacctx.com
SUMMARY:EEN | Doing business in the United States: what you need to know about the US sustainable energy market
DESCRIPTION:  \nEmbracing Global Markets Webinar Series\nThe webinar series ‘Embracing global markets’ supports European small and medium-sized enterprises and start-ups to innovate and expand in Asia\, Africa and the Americas. The webinars are hosted by experts of various European Commission services and the ‘Enterprise Europe Network’\, the world’s largest business service provider. \nWho should attend? \nThe webinar aims at European small and medium-sized enterprises (SMEs)\, start-ups (ready to scale internationally)\, beneficiaries or holders of seals of excellence of the European Innovation Council\, European clusters and cluster managers\, business advisers of the Enterprise Europe Network and other European business support organizations\, including all stakeholders of the ‘Friends of EEN’ initiative. \nObjectives \nThis webinar will provide comprehensive insights into navigating the legal\, market\, partnership\, and regulatory landscape for international businesses entering the US sustainable energy market\, including: \n\nUnderstanding the energy market in the United States\nLegal aspects of expanding into the US market\nBuilding successful partnerships with US-based companies\nExploring opportunities under the Inflation Reduction Act for European companies\n\n  \nSet the date on your calendars\nand tune in live on Webex to interact with our expert speakers\,\nor catch the webinar live on YouTube!\nDon’t miss out on this valuable opportunity\nto gain insights and ask questions.\n  \nDon’t miss this opportunity to gain invaluable knowledge and connections for your future business endeavors. \n\nSpeaker Bios: \n\n\n\n\n\nDaniel Anziska\, Partner; Troutman Pepper\nDan solves antitrust and related regulatory issues for businesses in the construction\, modeling\, sports\, financial services\, publishing\, energy\, retail\, and healthcare industries. \n\n\n\n\n  \n  \n\n\n  \n\n\n\n\n\n\nXavier Tison\, Director; Maguire Energy Institute \nXavier Tison is the Director of Energy Innovation at the Maguire Energy Institute and has over twenty years of experience in the energy industry. \n\n\n\n\n\n\n\n\n\n\n  \n  \n  \n\n\n\n\nKera Gautreau\, Senior Director; Houston Energy Transition Initiative (HETI)\nKera leads the development and implementation of key workstreams and cross-cutting enablers that leverage Houston’s energy leadership to accelerate global solutions for a low-carbon future. \n\n\n\n\n  \n  \n  \n  \n\n\n\n\nChristos Skouras\, Policy officer; European Commission\nChristos is a Policy Officer at the Directorate General for Internal Market\, Industry\, Entrepreneurship\, and SMEs\, where he plays a pivotal role in the Industrial Forum\, Alliances\, and Clusters unit. \n\n\n\n\n  \n  \n  \n  \n\n\n\n\nMichael Kerschbaumer\, Senior consultant; SFG\nMike is one of the renowned Innovation and R&D experts at the Enterprise Europe Network\, known for his keen eye for great business ideas in the renewable energy sector. \n\n\n\n\n  \n  \n  \n  \n\n\n\n\nErin McKelvey President & CEO; European American Chamber of Commerce Texas \nErin McKelvey has extensive experience in association management having served for 11 years as Director of both the Dallas/Fort Worth and San Francisco Chapters of the French-American Chamber of Commerce.\n\n\n\n\n\n 
URL:https://www.eacctx.com/2event/een-doing-business-in-the-united-states-sustainable-energy-market/
LOCATION:Virtual
CATEGORIES:events,upcoming
END:VEVENT
END:VCALENDAR