BEGIN:VCALENDAR
VERSION:2.0
PRODID:-//European American Chamber of Commerce Texas [EACCTX] | Your Partner for Transatlantic Business Resources - ECPv6.15.20//NONSGML v1.0//EN
CALSCALE:GREGORIAN
METHOD:PUBLISH
X-WR-CALNAME:European American Chamber of Commerce Texas [EACCTX] | Your Partner for Transatlantic Business Resources
X-ORIGINAL-URL:https://www.eacctx.com
X-WR-CALDESC:Events for European American Chamber of Commerce Texas [EACCTX] | Your Partner for Transatlantic Business Resources
REFRESH-INTERVAL;VALUE=DURATION:PT1H
X-Robots-Tag:noindex
X-PUBLISHED-TTL:PT1H
BEGIN:VTIMEZONE
TZID:America/Chicago
BEGIN:DAYLIGHT
TZOFFSETFROM:-0600
TZOFFSETTO:-0500
TZNAME:CDT
DTSTART:20230312T080000
END:DAYLIGHT
BEGIN:STANDARD
TZOFFSETFROM:-0500
TZOFFSETTO:-0600
TZNAME:CST
DTSTART:20231105T070000
END:STANDARD
BEGIN:DAYLIGHT
TZOFFSETFROM:-0600
TZOFFSETTO:-0500
TZNAME:CDT
DTSTART:20240310T080000
END:DAYLIGHT
BEGIN:STANDARD
TZOFFSETFROM:-0500
TZOFFSETTO:-0600
TZNAME:CST
DTSTART:20241103T070000
END:STANDARD
BEGIN:DAYLIGHT
TZOFFSETFROM:-0600
TZOFFSETTO:-0500
TZNAME:CDT
DTSTART:20250309T080000
END:DAYLIGHT
BEGIN:STANDARD
TZOFFSETFROM:-0500
TZOFFSETTO:-0600
TZNAME:CST
DTSTART:20251102T070000
END:STANDARD
END:VTIMEZONE
BEGIN:VEVENT
DTSTART;TZID=America/Chicago:20240510T190000
DTEND;TZID=America/Chicago:20240510T213000
DTSTAMP:20260420T203929
CREATED:20240401T182854Z
LAST-MODIFIED:20240508T180433Z
UID:50472-1715367600-1715376600@www.eacctx.com
SUMMARY:Experience EUROPE™ in HOUSTON
DESCRIPTION:https://www.eacctx.com/wp-content/uploads/2024/03/Experience-Europe-2.mp4\n  \n\nthe Official Celebration of Europe Day in Houston!\n May 10th\, HOUSTON\nVIP & Sponsor Reception  – 6:00 PM\nThe VIP Reception is exclusively reserved for VIP ticket holders.\nGeneral FUN –  7:00 PM to 9:30 PM\n⚠️All Ticket holders must be 21 & over to attend Experience EUROPE. \n  \nOn your itinerary for this evening:\nStep into the vibrant tapestry of Europe at Experience EUROPE™ in Houston! Indulge in Scottish whisky tastings\, Greek treasures and dance extravaganza\, Polish beer delights\, and French culinary wonders and fine wines. Savor Dutch Stroopwafels\, sip world-class Hungarian wines\, and explore the secrets behind Finland‘s happiness. Don’t miss out on tasting exquisite Cypriot wines and sampling traditional Bulgarian products. Discover academic institutions paving the way for future leaders with innovative and inspired educational programs.\nIf the travel bug bites by the end of the evening\, remember Delta Air Lines\, Air France KLM Royal Dutch Airlines are ready to open the skies for you. Get inspired and prepare for your next journey across the Atlantic!\nGet ready for an unforgettable journey through the heart of Europe!\nGET YOUR TICKETS HERE\n  \n \n        \n  \nGroup Discount: Save $5 per General Admission Ticket when You Buy 5 or More!\n  \n \n  \n  \n \n\n\n  \n  \nSecure your Parisian getaway!\nBid during the silent auction for 2 tickets to Paris with AIR FRANCE KLM!\n  \n  \n  \n  \n\nFor the inaugural Houstonian edition of Experience EUROPE (™)\, we’re thrilled to announce our venue at POST\, the transformed USPS headquarters in Houston. Once the bustling hub of the city’s U.S. mail system\, this long-abandoned building is now undergoing a remarkable metamorphosis\nPost is more than just a space; it’s a vibrant hub for culture\, food\, workspace\, and retail\, breathing new life into Houston’s downtown scene. What better setting could there be for Experience EUROPE (™) to make its debut in Houston?\nThe industrial and warehouse vibe of POST provides the perfect canvas to paint the town in the rich colors of Europe!\nGet ready to immerse yourself in a one-of-a-kind experience as we transform this historic venue into a celebration of European culture\, cuisine\, and creativity.\nMark your calendars\, and set the clocks ready for departure! Let’s head to POST for an evening of European celebration!\n \n401 Franklin St\, Houston\, TX 77201 \n  \n         \n\n\n\n\n\n\n\n\n\n  \n  \n  \n  \n  \n  \n  \n  \n  \n  \n  \n  \n  \n  \n  \n  \n  \n  \n  \n  \n  \n  \n 
URL:https://www.eacctx.com/2event/2nd-annual-experience-europe-in-houston/
LOCATION:POST\, 401 Franklin St\,\, Houston\, TX\, 77201\, United States
CATEGORIES:events,upcoming
END:VEVENT
END:VCALENDAR