BEGIN:VCALENDAR
VERSION:2.0
PRODID:-//European American Chamber of Commerce Texas [EACCTX] | Your Partner for Transatlantic Business Resources - ECPv6.15.20//NONSGML v1.0//EN
CALSCALE:GREGORIAN
METHOD:PUBLISH
X-WR-CALNAME:European American Chamber of Commerce Texas [EACCTX] | Your Partner for Transatlantic Business Resources
X-ORIGINAL-URL:https://www.eacctx.com
X-WR-CALDESC:Events for European American Chamber of Commerce Texas [EACCTX] | Your Partner for Transatlantic Business Resources
REFRESH-INTERVAL;VALUE=DURATION:PT1H
X-Robots-Tag:noindex
X-PUBLISHED-TTL:PT1H
BEGIN:VTIMEZONE
TZID:Europe/Paris
BEGIN:DAYLIGHT
TZOFFSETFROM:+0100
TZOFFSETTO:+0200
TZNAME:CEST
DTSTART:20230326T010000
END:DAYLIGHT
BEGIN:STANDARD
TZOFFSETFROM:+0200
TZOFFSETTO:+0100
TZNAME:CET
DTSTART:20231029T010000
END:STANDARD
BEGIN:DAYLIGHT
TZOFFSETFROM:+0100
TZOFFSETTO:+0200
TZNAME:CEST
DTSTART:20240331T010000
END:DAYLIGHT
BEGIN:STANDARD
TZOFFSETFROM:+0200
TZOFFSETTO:+0100
TZNAME:CET
DTSTART:20241027T010000
END:STANDARD
BEGIN:DAYLIGHT
TZOFFSETFROM:+0100
TZOFFSETTO:+0200
TZNAME:CEST
DTSTART:20250330T010000
END:DAYLIGHT
BEGIN:STANDARD
TZOFFSETFROM:+0200
TZOFFSETTO:+0100
TZNAME:CET
DTSTART:20251026T010000
END:STANDARD
END:VTIMEZONE
BEGIN:VEVENT
DTSTART;TZID=Europe/Paris:20240430T100000
DTEND;TZID=Europe/Paris:20240430T110000
DTSTAMP:20260420T203931
CREATED:20240426T170814Z
LAST-MODIFIED:20240426T170814Z
UID:50642-1714471200-1714474800@www.eacctx.com
SUMMARY:EACC NY | How the EU and the US can Advance  Together in the Microchip Race
DESCRIPTION:  \nIn the aftermath of the Covid Pandemic and now the War in Ukraine\, the EU and the United States are eager to work together and leverage their innovative ecosystems and to build up their position in the semiconductor ecosystem. \nJoin us for a webinar to explore how the EU and the US can put their ambitious plans into action and what it will take – on the ground – to execute against this strategic realignment in order to secure the supply of semiconductors. \nIssues to be discussed include: \n· Examining European and US ambition and the realities in the global semiconductor market place – are we realistic or overly optimistic \n· Strategies on both sides of the Atlantic to enhance innovation\, R&D \n· The subsidy race – analyzing European and American approaches \n· US-China-Taiwan chips tension: de-risking from China – how to proceed \n· Efficacy of export controls \n· Over-reliance on Taiwan or underdeveloped partnership? \n· Structures for ongoing transatlantic co-operation \n· How can the EU and the United States collaborate effectively to create a viable semiconductor ecosystem \nREGISTER HERE\nSPEAKERS: \n· Lucinda Creighton\, CEO\, VULCAN CONSULTING [Moderator] \n· Avi Messica\, CEO & Co-Founder\, NEOLOGIC \n· Lucilla Sioli\, Director for Artificial Intelligence and Digital Industry\, EUROPEAN COMMISSION – DG CONNECT \n· Adam Schafer\, Head of Supply Chain Strategy – CHIPS Program Office\, U.S. DEPARTMENT OF COMMERCE \n  \n  \nTHIS IS A FREE WEBINAR FOR both EACC Members and non-Members \nREGISTRATION FEE: EACCNY Member: Free EACCNY non-Member: Free LOCATION: Online \nFor more information and other EACC events visit www.eaccny.com
URL:https://www.eacctx.com/2event/eacc-ny-how-eu-and-us-can-advance-together-in-the-microchip-race/
LOCATION:Virtual
CATEGORIES:Partner Events
END:VEVENT
END:VCALENDAR