BEGIN:VCALENDAR
VERSION:2.0
PRODID:-//European American Chamber of Commerce Texas [EACCTX] | Your Partner for Transatlantic Business Resources - ECPv6.15.20//NONSGML v1.0//EN
CALSCALE:GREGORIAN
METHOD:PUBLISH
X-ORIGINAL-URL:https://www.eacctx.com
X-WR-CALDESC:Events for European American Chamber of Commerce Texas [EACCTX] | Your Partner for Transatlantic Business Resources
REFRESH-INTERVAL;VALUE=DURATION:PT1H
X-Robots-Tag:noindex
X-PUBLISHED-TTL:PT1H
BEGIN:VTIMEZONE
TZID:Europe/Paris
BEGIN:DAYLIGHT
TZOFFSETFROM:+0100
TZOFFSETTO:+0200
TZNAME:CEST
DTSTART:20230326T010000
END:DAYLIGHT
BEGIN:STANDARD
TZOFFSETFROM:+0200
TZOFFSETTO:+0100
TZNAME:CET
DTSTART:20231029T010000
END:STANDARD
BEGIN:DAYLIGHT
TZOFFSETFROM:+0100
TZOFFSETTO:+0200
TZNAME:CEST
DTSTART:20240331T010000
END:DAYLIGHT
BEGIN:STANDARD
TZOFFSETFROM:+0200
TZOFFSETTO:+0100
TZNAME:CET
DTSTART:20241027T010000
END:STANDARD
BEGIN:DAYLIGHT
TZOFFSETFROM:+0100
TZOFFSETTO:+0200
TZNAME:CEST
DTSTART:20250330T010000
END:DAYLIGHT
BEGIN:STANDARD
TZOFFSETFROM:+0200
TZOFFSETTO:+0100
TZNAME:CET
DTSTART:20251026T010000
END:STANDARD
END:VTIMEZONE
BEGIN:VEVENT
DTSTART;TZID=Europe/Paris:20240411T180000
DTEND;TZID=Europe/Paris:20240412T150000
DTSTAMP:20260420T221542
CREATED:20240325T214205Z
LAST-MODIFIED:20240325T214205Z
UID:50354-1712858400-1712934000@www.eacctx.com
SUMMARY:SMU | Jno. E. Owens Conference 70th Anniversary: Shifting Patterns of Globalization: Trade\, Migration and North American Integration.
DESCRIPTION:  \nThursday\, April 11\, 2024 – Meadows Museum\n  \n6:00 p.m. – 8:00 p.m. | Keynote Dinner Program \n\nMichael A. Clemens\, George Mason University\nModerator: Pia Orrenius\, Federal Reserve Bank of Dallas\n\n  \nFriday\, April 12\, 2024 – Federal Reserve Bank of Dallas\n8:00 a.m. | Registration begins. \n  \n8:30 a.m | Welcome remarks: Mark A. Wynne\, Federal Reserve Bank of Dallas \n  \n8:40 a.m. | Panel 1: Global Trade and Industrial Policy \n\nLaura Alfaro\, Harvard Business School\nDerek Scissors\, American Enterprise Institute\nCaroline Freund\, UC San Diego School of Global Policy and Strategy\nModerator: Thomas Osang\, Southern Methodist University\n\n  \n10:10 a.m. | Break \n  \n10:20 a.m. | Panel 2: North American Trade and Integration \n\nEugene Beaulieu\, University of Calgary\nHale Utar\, Grinnell College\nManuel Sánchez González\, Former Deputy Governor\, Bank of Mexico\nModerator: Raymond Robertson\, Texas A&M University\n\n  \n11:50 a.m. | Break \n  \n12:00 p.m. | Keynote Lunch Program \n\nAdam Posen\, Peterson Institute\nModerator: Kathleen Cooper\, Senior Fellow Tower Center\n\n  \n1:30 p.m. | Break \n  \n1:35 p.m. | Panel 3: Migration \n\nJeanne Batalova\, Migration Policy Institute\nNicole Simpson\, Colgate University\nPia Orrenius\, Federal Reserve Bank of Dallas & Raymond Robertson\, Texas A&M University\nModerator: Jim Hollifield\, Southern Methodist University\n\n  \n3:05 p.m. | Closing remarks and end of event. \n  \nREGISTER HERE\n  \n\n\n\n\n\n\n\n \nSMU Tower Center | http://www.smu.edu/TowerCenter \nSouthern Methodist University (SMU)\n3300 University Boulevard\, Dallas\, TX 75275-0117 \n214-768-3954
URL:https://www.eacctx.com/2event/smu-jno-e-owens-conference-70th-anniversary-shifting-patterns-of-globalization-trade-migration-and-north-american-integration/
LOCATION:Federal Reserve Bank of Dallas\, 2200 N. Pearl St\, Dallas\, tx\, 75201
CATEGORIES:Partner Events
END:VEVENT
END:VCALENDAR