BEGIN:VCALENDAR
VERSION:2.0
PRODID:-//European American Chamber of Commerce Texas [EACCTX] | Your Partner for Transatlantic Business Resources - ECPv6.15.20//NONSGML v1.0//EN
CALSCALE:GREGORIAN
METHOD:PUBLISH
X-WR-CALNAME:European American Chamber of Commerce Texas [EACCTX] | Your Partner for Transatlantic Business Resources
X-ORIGINAL-URL:https://www.eacctx.com
X-WR-CALDESC:Events for European American Chamber of Commerce Texas [EACCTX] | Your Partner for Transatlantic Business Resources
REFRESH-INTERVAL;VALUE=DURATION:PT1H
X-Robots-Tag:noindex
X-PUBLISHED-TTL:PT1H
BEGIN:VTIMEZONE
TZID:Europe/Paris
BEGIN:DAYLIGHT
TZOFFSETFROM:+0100
TZOFFSETTO:+0200
TZNAME:CEST
DTSTART:20230326T010000
END:DAYLIGHT
BEGIN:STANDARD
TZOFFSETFROM:+0200
TZOFFSETTO:+0100
TZNAME:CET
DTSTART:20231029T010000
END:STANDARD
BEGIN:DAYLIGHT
TZOFFSETFROM:+0100
TZOFFSETTO:+0200
TZNAME:CEST
DTSTART:20240331T010000
END:DAYLIGHT
BEGIN:STANDARD
TZOFFSETFROM:+0200
TZOFFSETTO:+0100
TZNAME:CET
DTSTART:20241027T010000
END:STANDARD
BEGIN:DAYLIGHT
TZOFFSETFROM:+0100
TZOFFSETTO:+0200
TZNAME:CEST
DTSTART:20250330T010000
END:DAYLIGHT
BEGIN:STANDARD
TZOFFSETFROM:+0200
TZOFFSETTO:+0100
TZNAME:CET
DTSTART:20251026T010000
END:STANDARD
END:VTIMEZONE
BEGIN:VTIMEZONE
TZID:America/Chicago
BEGIN:DAYLIGHT
TZOFFSETFROM:-0600
TZOFFSETTO:-0500
TZNAME:CDT
DTSTART:20230312T080000
END:DAYLIGHT
BEGIN:STANDARD
TZOFFSETFROM:-0500
TZOFFSETTO:-0600
TZNAME:CST
DTSTART:20231105T070000
END:STANDARD
BEGIN:DAYLIGHT
TZOFFSETFROM:-0600
TZOFFSETTO:-0500
TZNAME:CDT
DTSTART:20240310T080000
END:DAYLIGHT
BEGIN:STANDARD
TZOFFSETFROM:-0500
TZOFFSETTO:-0600
TZNAME:CST
DTSTART:20241103T070000
END:STANDARD
BEGIN:DAYLIGHT
TZOFFSETFROM:-0600
TZOFFSETTO:-0500
TZNAME:CDT
DTSTART:20250309T080000
END:DAYLIGHT
BEGIN:STANDARD
TZOFFSETFROM:-0500
TZOFFSETTO:-0600
TZNAME:CST
DTSTART:20251102T070000
END:STANDARD
END:VTIMEZONE
BEGIN:VEVENT
DTSTART;TZID=Europe/Paris:20240325T130000
DTEND;TZID=Europe/Paris:20240329T180000
DTSTAMP:20260421T000001
CREATED:20240226T235901Z
LAST-MODIFIED:20240227T002246Z
UID:50213-1711371600-1711735200@www.eacctx.com
SUMMARY:UT Energy Week 2024
DESCRIPTION:  \n\n\n\n  \n\n\n\n\n\n  \nUT Energy Week connects students\, researchers\, faculty\, energy professionals\, and industry leaders across disciplines and sectors to build community\, facilitate strategic partnerships\, and advance research. \n  \nREGISTER HERE\n  \nFind the agenda and other details on the UT Energy Week website. \nUT Energy Week is hosted by the UT Energy Institute in partnership with the Kay Bailey Hutchison Energy Center. As part of this year’s program\, the KBH Center is hosting two special\, limited-seating events. To register for these programs\, please visit the links below: \n\nWomen in Energy Networking Reception (Thursday\, 5-6pm)\nKBH Energy Center Spring Energy Summit (Friday\, 8am-1pm)
URL:https://www.eacctx.com/2event/ut-energy-week-2024/
LOCATION:AT&T Hotel and Conference Center\, 1900 University Avenue\, Austin\, TX\, 78705
CATEGORIES:Partner Events
END:VEVENT
BEGIN:VEVENT
DTSTART;TZID=America/Chicago:20240328T090000
DTEND;TZID=America/Chicago:20240328T100000
DTSTAMP:20260421T000001
CREATED:20240322T140344Z
LAST-MODIFIED:20240322T140344Z
UID:50337-1711616400-1711620000@www.eacctx.com
SUMMARY:Transatlantic Tech|Showcase: AICA with DevPark
DESCRIPTION:  \nWith just a scan of a QR Code\, immerse yourself in the future of hospitality! DevPark invites you to participate in a live test of their groundbreaking technology\, AICA.  \n👉Discover how AICA revolutionizes customer experiences by delivering accurate and time-relevant information to clients before and during their stay. \nAddressing common challenges such as language barriers and requests outside of regular business hours\, AICA elevates your guests’ overall experiences. \n👉What’s more\, AICA is 100% customizable\, seamlessly taking on the form and essence of your brand to enhance your image and complement your unique brand identity. \n \n👉It’s crucial to emphasize that AICA isn’t designed to replace the human touch in hospitality. Instead\, it seamlessly complements it\, ensuring a smooth and personalized customer service journey. \nJoin Andrzej Fenzel\, CEO of DevPark\, and Bartosz Kamiński\, CTO of DevPark for this exclusive opportunity to witness firsthand how AICA can transform the way you interact with your guests. \nDon’t miss your chance to test AICA during our program! \nDiscover the future of customer service experience with AICA! \n  \nREGISTER HERE\n  \nMore Information about AICA \nMore Information about DevPark
URL:https://www.eacctx.com/2event/transatlantic-techshowcase-aica-with-devpark/
LOCATION:Virtual
CATEGORIES:events,upcoming
END:VEVENT
END:VCALENDAR