BEGIN:VCALENDAR
VERSION:2.0
PRODID:-//European American Chamber of Commerce Texas [EACCTX] | Your Partner for Transatlantic Business Resources - ECPv6.15.20//NONSGML v1.0//EN
CALSCALE:GREGORIAN
METHOD:PUBLISH
X-WR-CALNAME:European American Chamber of Commerce Texas [EACCTX] | Your Partner for Transatlantic Business Resources
X-ORIGINAL-URL:https://www.eacctx.com
X-WR-CALDESC:Events for European American Chamber of Commerce Texas [EACCTX] | Your Partner for Transatlantic Business Resources
REFRESH-INTERVAL;VALUE=DURATION:PT1H
X-Robots-Tag:noindex
X-PUBLISHED-TTL:PT1H
BEGIN:VTIMEZONE
TZID:America/New_York
BEGIN:DAYLIGHT
TZOFFSETFROM:-0500
TZOFFSETTO:-0400
TZNAME:EDT
DTSTART:20220313T070000
END:DAYLIGHT
BEGIN:STANDARD
TZOFFSETFROM:-0400
TZOFFSETTO:-0500
TZNAME:EST
DTSTART:20221106T060000
END:STANDARD
BEGIN:DAYLIGHT
TZOFFSETFROM:-0500
TZOFFSETTO:-0400
TZNAME:EDT
DTSTART:20230312T070000
END:DAYLIGHT
BEGIN:STANDARD
TZOFFSETFROM:-0400
TZOFFSETTO:-0500
TZNAME:EST
DTSTART:20231105T060000
END:STANDARD
BEGIN:DAYLIGHT
TZOFFSETFROM:-0500
TZOFFSETTO:-0400
TZNAME:EDT
DTSTART:20240310T070000
END:DAYLIGHT
BEGIN:STANDARD
TZOFFSETFROM:-0400
TZOFFSETTO:-0500
TZNAME:EST
DTSTART:20241103T060000
END:STANDARD
END:VTIMEZONE
BEGIN:VEVENT
DTSTART;TZID=America/New_York:20231210T150000
DTEND;TZID=America/New_York:20231210T180000
DTSTAMP:20260421T044340
CREATED:20231204T171452Z
LAST-MODIFIED:20231204T171452Z
UID:49646-1702220400-1702231200@www.eacctx.com
SUMMARY:SACC DALLAS | Traditional Julbord
DESCRIPTION:  \n\n\n\n\n\nThe holiday season is coming up and so is SACC Dallas’s beloved Traditional Julbord on December 10th! Join us for a traditional sit-down lunch at 3 PM at My Possibilities to celebrate Christmas with us at SACC Dallas. We will have a beautiful Luciatåg singing the traditional Lucia songs and making us all feel like we are back in Sweden\, performed by Glädjeklangen Lucia choir. We’ll be serving a delightful array of traditional Scandinavian Christmas dishes\, so you don’t want to miss this out! \nJulbord menu includes cured (gravad) salmon\, smoked salmon\, pickled herring\, eggs\, potatoes\, pates\, sausages\, Swedish meatballs\, Jansson’s Temptation\, ribs\, ham\, potato\, red cabbage\, Brussel sprouts\, bread\, cheese\, crispy bread\, desserts\, candy and more. \nRegister now to secure your spot!\nPlease RSVP by December 3rd. \nLocation: \n3601 Mapleshade Ln\, Plano\, TX 75075 \n  \nTime: \n3:00PM – 6:00 PM CDT \nCost: \nMembers: $60 (not including family\, friends or colleagues) \nChildren under the age of 8: $30 (Children 3 years and under are free) \nNon-members: $80 \nFamily & Friends – a table for 7 people: $560 (excluding drinks) \nDrinks: $8 for wine\, beer\, snaps\, cocktail\, $3 for soda/water \n  \nPlease note that all prices include gratuity and taxes \n  \n  \n  \n 
URL:https://www.eacctx.com/2event/sacc-dallas-traditional-julbord/
CATEGORIES:Partner Events
END:VEVENT
END:VCALENDAR