BEGIN:VCALENDAR
VERSION:2.0
PRODID:-//European American Chamber of Commerce Texas [EACCTX] | Your Partner for Transatlantic Business Resources - ECPv6.15.20//NONSGML v1.0//EN
CALSCALE:GREGORIAN
METHOD:PUBLISH
X-ORIGINAL-URL:https://www.eacctx.com
X-WR-CALDESC:Events for European American Chamber of Commerce Texas [EACCTX] | Your Partner for Transatlantic Business Resources
REFRESH-INTERVAL;VALUE=DURATION:PT1H
X-Robots-Tag:noindex
X-PUBLISHED-TTL:PT1H
BEGIN:VTIMEZONE
TZID:America/Chicago
BEGIN:DAYLIGHT
TZOFFSETFROM:-0600
TZOFFSETTO:-0500
TZNAME:CDT
DTSTART:20220313T080000
END:DAYLIGHT
BEGIN:STANDARD
TZOFFSETFROM:-0500
TZOFFSETTO:-0600
TZNAME:CST
DTSTART:20221106T070000
END:STANDARD
BEGIN:DAYLIGHT
TZOFFSETFROM:-0600
TZOFFSETTO:-0500
TZNAME:CDT
DTSTART:20230312T080000
END:DAYLIGHT
BEGIN:STANDARD
TZOFFSETFROM:-0500
TZOFFSETTO:-0600
TZNAME:CST
DTSTART:20231105T070000
END:STANDARD
BEGIN:DAYLIGHT
TZOFFSETFROM:-0600
TZOFFSETTO:-0500
TZNAME:CDT
DTSTART:20240310T080000
END:DAYLIGHT
BEGIN:STANDARD
TZOFFSETFROM:-0500
TZOFFSETTO:-0600
TZNAME:CST
DTSTART:20241103T070000
END:STANDARD
END:VTIMEZONE
BEGIN:VEVENT
DTSTART;TZID=America/Chicago:20231115T173000
DTEND;TZID=America/Chicago:20231115T200000
DTSTAMP:20260421T060729
CREATED:20231026T164216Z
LAST-MODIFIED:20231113T202436Z
UID:49066-1700069400-1700078400@www.eacctx.com
SUMMARY:Unlock Business Opportunities in North Rhine-Westphalia
DESCRIPTION:With its unrivaled location factors\, North Rhine-Westphalia stands as the cornerstone of the German economy and remains a prime investment hub for foreign companies across Europe. This event presents a unique opportunity to dive into the unmatched potential that NRW offers for businesses looking to expand their footprint in Europe. \n \nNRW.Global Business\, the esteemed trade and investment agency of the state of North Rhine-Westphalia\, is committed to providing tailor-made services for businesses setting their sights on North Rhine-Westphalia. As your trusted partner\, they offer comprehensive support for your investment projects\, ensuring seamless settlement and continued growth. \n \nJoin us for an evening of networking\, insightful discussions\, and a delectable experience\, and get ready to embark on a journey where success knows no bounds. \n  \nREGISTER HERE\n  \nAgenda \n5:30 PM – Registration \n6:00 PM – Presentation by Daniel Dueren\, Director of Economic Development SE\, NRW.Global Business (North America) LLC | Trade & Investment Agency of the German State of North Rhine-Westphalia \n7:00 PM – Mixer with delicacies and a beer bar\, allowing you to savor the essence of North Rhine-Westphalia.
URL:https://www.eacctx.com/2event/unlock-business-opportunities-in-north-rhine-westphalia/
LOCATION:Granite Park One Conference Room\, 5800 Granite Parkway\, Plano\, TX\, 75024\, United States
CATEGORIES:events,upcoming
END:VEVENT
END:VCALENDAR