BEGIN:VCALENDAR
VERSION:2.0
PRODID:-//European American Chamber of Commerce Texas [EACCTX] | Your Partner for Transatlantic Business Resources - ECPv6.15.20//NONSGML v1.0//EN
CALSCALE:GREGORIAN
METHOD:PUBLISH
X-WR-CALNAME:European American Chamber of Commerce Texas [EACCTX] | Your Partner for Transatlantic Business Resources
X-ORIGINAL-URL:https://www.eacctx.com
X-WR-CALDESC:Events for European American Chamber of Commerce Texas [EACCTX] | Your Partner for Transatlantic Business Resources
REFRESH-INTERVAL;VALUE=DURATION:PT1H
X-Robots-Tag:noindex
X-PUBLISHED-TTL:PT1H
BEGIN:VTIMEZONE
TZID:America/Chicago
BEGIN:DAYLIGHT
TZOFFSETFROM:-0600
TZOFFSETTO:-0500
TZNAME:CDT
DTSTART:20220313T080000
END:DAYLIGHT
BEGIN:STANDARD
TZOFFSETFROM:-0500
TZOFFSETTO:-0600
TZNAME:CST
DTSTART:20221106T070000
END:STANDARD
BEGIN:DAYLIGHT
TZOFFSETFROM:-0600
TZOFFSETTO:-0500
TZNAME:CDT
DTSTART:20230312T080000
END:DAYLIGHT
BEGIN:STANDARD
TZOFFSETFROM:-0500
TZOFFSETTO:-0600
TZNAME:CST
DTSTART:20231105T070000
END:STANDARD
BEGIN:DAYLIGHT
TZOFFSETFROM:-0600
TZOFFSETTO:-0500
TZNAME:CDT
DTSTART:20240310T080000
END:DAYLIGHT
BEGIN:STANDARD
TZOFFSETFROM:-0500
TZOFFSETTO:-0600
TZNAME:CST
DTSTART:20241103T070000
END:STANDARD
END:VTIMEZONE
BEGIN:VEVENT
DTSTART;VALUE=DATE:20231107
DTEND;VALUE=DATE:20231108
DTSTAMP:20260421T060618
CREATED:20231002T230042Z
LAST-MODIFIED:20231102T224055Z
UID:48920-1699315200-1699401599@www.eacctx.com
SUMMARY:3rd annual EACC Texas EU-Texas Economic Forum and Ambassador's Gala 2023
DESCRIPTION:  \nJoin us for a day of unparalleled excellence for the 3rd Annual EU-Texas Economic Leadership Forum and  Ambassador’s Gala in Dallas.  \nDuring this extraordinary day\, the European American Chamber of Commerce Texas has the privilege of hosting His Excellency Santiago Cabanas\, Ambassador of Spain to the US. Ambassador Cabanas’ presence marks a remarkable celebration of the dynamic transatlantic relationship between Spain and Texas. \n  \nThis year\, the EU-Texas Economic Leadership Forum‘s focus revolves around sustainability and AI\, with esteemed panelists representing prominent companies from both sides of the Atlantic\, sharing their invaluable knowledge and success stories. Prepare for a captivating and enlightening morning of discussions! \nFORUM AGENDA \n  \n \n  \nThis elegant affair will be set against the backdrop of one of the largest collections of Spanish art outside of Spain: the Meadows Museum of Art.\nOur guests will enjoy private access to the museum gallery\, including the “Spanish Light: Sorolla in American Collections” exhibition\, during the Ambassador’s Reception. Additionally\, they will have the opportunity to participate in an exclusive silent auction and later savor a delightful 4-course dinner crafted by Chef Abraham Salum\, Salum Restaurant\, paired with exquisite wines from Gonzalez Byass USA.\n \n\n  \n \n  \nREGISTER HERE\n  \n \n  \n  \n  \nWe invite you to explore the exciting sponsorship opportunities available for our 3rd annual EU-Texas Economic Leadership Forum and Ambassador’s Gala. By partnering with us\, your company can gain visibility\, connect with influential leaders\, and contribute to a thriving transatlantic business community.  \nClick the link below to learn more and secure your sponsorship. \nSPONSORSHIP OPPORTUNITIES\n  \n \n\nOur Guest of Honor:  \nHis Excellency Santiago Cabanas\, Ambassador of Spain to the US. \n \nAmbassador Cabanas was born in Madrid in 1954. He holds a Law Degree from the Universidad Autónoma de Madrid and joined the Spanish Foreign Service in 1981. \nThe Ambassador was most recently Ambassador to Algeria\, where he started his mission in 2017. Prior\, he held top-ranking positions at the Ministry of Foreign Affairs of Spain\, including Director of the Minister’s Cabinet and Director General for Foreign Policy. Ambassador Cabanas has also been Director General for Consular Affairs and Director General for Cultural and Scientific Relations.\nIn addition to his Ambassadorship to Algeria\, he has been the Ambassador of Spain to the Czech Republic and to Jordan. He previously served as a political counselor at the Embassy in Washington\, D.C. and as Consul General in Miami\, Florida.\nFor more on Ambassador Cabanas\, see his interview with the Delegation of the European Union in the United States: “We Are an Example of the Success of the EU Project”
URL:https://www.eacctx.com/2event/3rd-annual-eacc-texas-eu-texas-economic-forum-and-ambassadors-gala-2023/
LOCATION:James M. Collins Education Center\, https://www.smu.edu/cox/At-SMU-Cox/Campus/facilities/Collins-Center/Directions-to-Collins\, Dallas
CATEGORIES:events,upcoming
END:VEVENT
END:VCALENDAR