BEGIN:VCALENDAR
VERSION:2.0
PRODID:-//European American Chamber of Commerce Texas [EACCTX] | Your Partner for Transatlantic Business Resources - ECPv6.15.20//NONSGML v1.0//EN
CALSCALE:GREGORIAN
METHOD:PUBLISH
X-WR-CALNAME:European American Chamber of Commerce Texas [EACCTX] | Your Partner for Transatlantic Business Resources
X-ORIGINAL-URL:https://www.eacctx.com
X-WR-CALDESC:Events for European American Chamber of Commerce Texas [EACCTX] | Your Partner for Transatlantic Business Resources
REFRESH-INTERVAL;VALUE=DURATION:PT1H
X-Robots-Tag:noindex
X-PUBLISHED-TTL:PT1H
BEGIN:VTIMEZONE
TZID:America/Chicago
BEGIN:DAYLIGHT
TZOFFSETFROM:-0600
TZOFFSETTO:-0500
TZNAME:CDT
DTSTART:20220313T080000
END:DAYLIGHT
BEGIN:STANDARD
TZOFFSETFROM:-0500
TZOFFSETTO:-0600
TZNAME:CST
DTSTART:20221106T070000
END:STANDARD
BEGIN:DAYLIGHT
TZOFFSETFROM:-0600
TZOFFSETTO:-0500
TZNAME:CDT
DTSTART:20230312T080000
END:DAYLIGHT
BEGIN:STANDARD
TZOFFSETFROM:-0500
TZOFFSETTO:-0600
TZNAME:CST
DTSTART:20231105T070000
END:STANDARD
BEGIN:DAYLIGHT
TZOFFSETFROM:-0600
TZOFFSETTO:-0500
TZNAME:CDT
DTSTART:20240310T080000
END:DAYLIGHT
BEGIN:STANDARD
TZOFFSETFROM:-0500
TZOFFSETTO:-0600
TZNAME:CST
DTSTART:20241103T070000
END:STANDARD
END:VTIMEZONE
BEGIN:VEVENT
DTSTART;TZID=America/Chicago:20231012T090000
DTEND;TZID=America/Chicago:20231012T100000
DTSTAMP:20260421T085137
CREATED:20230928T225454Z
LAST-MODIFIED:20231009T175935Z
UID:48907-1697101200-1697104800@www.eacctx.com
SUMMARY:Transatlantic Tech|Showcase - Discover New Business Solutions with DevPark
DESCRIPTION:👉Join Andrzej Fenzel\, CEO of DevPark\, and Bartosz Kamiński\, CTO of DevPark – the visionaries behind UniTree – as they unveil their revolutionary unit testing management system. Explore cutting-edge solutions that are set to transform software testing. Say goodbye to coding complexity! \n \nUniTree simplifies test management with a user-friendly interface adaptable for various test types. It streamlines application testing\, making it accessible to clients\, expediting development\, and ensuring satisfaction. \n  \n👉Introducing AICA: Your Future Multilingual Concierge\, designed to revolutionize customer interactions and elevate their overall experience. \n \n  \nWith AICA\, DevPark breaks down the barriers between AI and your customers\, introducing a flexible and intelligent tool to seamlessly manage your data and enhance customer experiences. \nAlready in action across shopping malls throughout Poland\, AICA stands as the perfect solution to meet your customers’ needs. \nWhether in malls\, airports\, hotels\, convention centers\, or amusement parks\, AICA is just one QR code away from transforming and elevating your customer experience to new heights. \nDon’t miss your chance to test AICA during our program! \nDiscover the future of customer service experience with AICA! \n  \nJoin our live presentation and secure your slot for a virtual B2B meeting with DevPark following the event.\nMore Information about UniTree\nMore Information about AICA\nMore Information about DevPark\nDon’t forget to reach out to us if you’re interested in meeting with the DevPark team after the program. We can arrange a virtual B2B meeting session to discuss UniTree or AICA’s integration with your business and explore potential partnerships. (These sessions are scheduled for 15 minutes each)  \n  \nLocation\nOnline\nFREE TO ATTEND
URL:https://www.eacctx.com/2event/transatlantic-tech-showcase-discover-new-business-solutions-with-devpark/
CATEGORIES:events,upcoming
END:VEVENT
END:VCALENDAR