BEGIN:VCALENDAR
VERSION:2.0
PRODID:-//European American Chamber of Commerce Texas [EACCTX] | Your Partner for Transatlantic Business Resources - ECPv6.15.20//NONSGML v1.0//EN
CALSCALE:GREGORIAN
METHOD:PUBLISH
X-WR-CALNAME:European American Chamber of Commerce Texas [EACCTX] | Your Partner for Transatlantic Business Resources
X-ORIGINAL-URL:https://www.eacctx.com
X-WR-CALDESC:Events for European American Chamber of Commerce Texas [EACCTX] | Your Partner for Transatlantic Business Resources
REFRESH-INTERVAL;VALUE=DURATION:PT1H
X-Robots-Tag:noindex
X-PUBLISHED-TTL:PT1H
BEGIN:VTIMEZONE
TZID:Europe/Berlin
BEGIN:DAYLIGHT
TZOFFSETFROM:+0100
TZOFFSETTO:+0200
TZNAME:CEST
DTSTART:20220327T010000
END:DAYLIGHT
BEGIN:STANDARD
TZOFFSETFROM:+0200
TZOFFSETTO:+0100
TZNAME:CET
DTSTART:20221030T010000
END:STANDARD
BEGIN:DAYLIGHT
TZOFFSETFROM:+0100
TZOFFSETTO:+0200
TZNAME:CEST
DTSTART:20230326T010000
END:DAYLIGHT
BEGIN:STANDARD
TZOFFSETFROM:+0200
TZOFFSETTO:+0100
TZNAME:CET
DTSTART:20231029T010000
END:STANDARD
BEGIN:DAYLIGHT
TZOFFSETFROM:+0100
TZOFFSETTO:+0200
TZNAME:CEST
DTSTART:20240331T010000
END:DAYLIGHT
BEGIN:STANDARD
TZOFFSETFROM:+0200
TZOFFSETTO:+0100
TZNAME:CET
DTSTART:20241027T010000
END:STANDARD
END:VTIMEZONE
BEGIN:VEVENT
DTSTART;TZID=Europe/Berlin:20230921T100000
DTEND;TZID=Europe/Berlin:20230921T120000
DTSTAMP:20260421T085136
CREATED:20230815T144902Z
LAST-MODIFIED:20230815T145057Z
UID:48720-1695290400-1695297600@www.eacctx.com
SUMMARY:Slovenia Business Bridge Investment and Development Conference | Ljubljana\, Slovenia
DESCRIPTION:  \nWe are absolutely thrilled and proud to announce that our President and CEO\, Erin McKelvey\, will be among the distinguished speakers at the prestigious Slovenia Business Bridge Investment and Development Conference 2023 in Ljubljana\, Slovenia (September 21/22)\, organized by AmCham Slovenia\, SPIRIT Slovenija\, javna agencija\, Ministrstvo za gospodarstvo\, turizem in šport / Ministry of the Economy\, Tourism and Sport! \nErin’s presence at this esteemed event showcases the global impact and mission of EACC Texas in facilitating business connections and opportunities on both sides of the Atlantic.\nWe couldn’t be more honored to have her share her expertise and insights at this remarkable event in Slovenia. Her presence demonstrates the strong economic and friendship ties between Europe and Texas\, and we are delighted to see her representing our organization as she promotes the growth and prosperity of transatlantic businesses. \n\n  \nFor more information\n  \n\n\nAgenda\n\n\nSpeaker list
URL:https://www.eacctx.com/2event/slovenia-business-bridge-investment-and-development-conference-ljubljana-slovenia/
CATEGORIES:events,upcoming
END:VEVENT
END:VCALENDAR