BEGIN:VCALENDAR
VERSION:2.0
PRODID:-//European American Chamber of Commerce Texas [EACCTX] | Your Partner for Transatlantic Business Resources - ECPv6.15.20//NONSGML v1.0//EN
CALSCALE:GREGORIAN
METHOD:PUBLISH
X-ORIGINAL-URL:https://www.eacctx.com
X-WR-CALDESC:Events for European American Chamber of Commerce Texas [EACCTX] | Your Partner for Transatlantic Business Resources
REFRESH-INTERVAL;VALUE=DURATION:PT1H
X-Robots-Tag:noindex
X-PUBLISHED-TTL:PT1H
BEGIN:VTIMEZONE
TZID:America/New_York
BEGIN:DAYLIGHT
TZOFFSETFROM:-0500
TZOFFSETTO:-0400
TZNAME:EDT
DTSTART:20220313T070000
END:DAYLIGHT
BEGIN:STANDARD
TZOFFSETFROM:-0400
TZOFFSETTO:-0500
TZNAME:EST
DTSTART:20221106T060000
END:STANDARD
BEGIN:DAYLIGHT
TZOFFSETFROM:-0500
TZOFFSETTO:-0400
TZNAME:EDT
DTSTART:20230312T070000
END:DAYLIGHT
BEGIN:STANDARD
TZOFFSETFROM:-0400
TZOFFSETTO:-0500
TZNAME:EST
DTSTART:20231105T060000
END:STANDARD
BEGIN:DAYLIGHT
TZOFFSETFROM:-0500
TZOFFSETTO:-0400
TZNAME:EDT
DTSTART:20240310T070000
END:DAYLIGHT
BEGIN:STANDARD
TZOFFSETFROM:-0400
TZOFFSETTO:-0500
TZNAME:EST
DTSTART:20241103T060000
END:STANDARD
END:VTIMEZONE
BEGIN:VEVENT
DTSTART;TZID=America/New_York:20230909T160000
DTEND;TZID=America/New_York:20230909T230000
DTSTAMP:20260421T085220
CREATED:20230712T180602Z
LAST-MODIFIED:20230712T222315Z
UID:48588-1694275200-1694300400@www.eacctx.com
SUMMARY:Dallas International District | Night Market
DESCRIPTION:  \nDallas International Night Market \nHeld on the 2nd Saturday of every quarter\, Night Markets are an international food & cultural experience in Dallas\, Texas featuring restaurants\, artisans\, music\, and entertainment representing the many cultures within our city. \nPlace: Prism Center @ 5580 Peterson Ln.\, Dallas\, TX 75240 \nMarket Dates: \n\n\nSaturday\, September 9\, from 4-11 pm \n\n\nSaturday\, December 9\, from 4-11 pm
URL:https://www.eacctx.com/2event/dallas-international-district-night-market/
LOCATION:Prism Center\, 5580 Peterson Lane\, Dallas\, 75240\, United States
CATEGORIES:Partner Events
END:VEVENT
END:VCALENDAR