BEGIN:VCALENDAR
VERSION:2.0
PRODID:-//European American Chamber of Commerce Texas [EACCTX] | Your Partner for Transatlantic Business Resources - ECPv6.15.20//NONSGML v1.0//EN
CALSCALE:GREGORIAN
METHOD:PUBLISH
X-WR-CALNAME:European American Chamber of Commerce Texas [EACCTX] | Your Partner for Transatlantic Business Resources
X-ORIGINAL-URL:https://www.eacctx.com
X-WR-CALDESC:Events for European American Chamber of Commerce Texas [EACCTX] | Your Partner for Transatlantic Business Resources
REFRESH-INTERVAL;VALUE=DURATION:PT1H
X-Robots-Tag:noindex
X-PUBLISHED-TTL:PT1H
BEGIN:VTIMEZONE
TZID:America/Chicago
BEGIN:DAYLIGHT
TZOFFSETFROM:-0600
TZOFFSETTO:-0500
TZNAME:CDT
DTSTART:20220313T080000
END:DAYLIGHT
BEGIN:STANDARD
TZOFFSETFROM:-0500
TZOFFSETTO:-0600
TZNAME:CST
DTSTART:20221106T070000
END:STANDARD
BEGIN:DAYLIGHT
TZOFFSETFROM:-0600
TZOFFSETTO:-0500
TZNAME:CDT
DTSTART:20230312T080000
END:DAYLIGHT
BEGIN:STANDARD
TZOFFSETFROM:-0500
TZOFFSETTO:-0600
TZNAME:CST
DTSTART:20231105T070000
END:STANDARD
BEGIN:DAYLIGHT
TZOFFSETFROM:-0600
TZOFFSETTO:-0500
TZNAME:CDT
DTSTART:20240310T080000
END:DAYLIGHT
BEGIN:STANDARD
TZOFFSETFROM:-0500
TZOFFSETTO:-0600
TZNAME:CST
DTSTART:20241103T070000
END:STANDARD
END:VTIMEZONE
BEGIN:VEVENT
DTSTART;TZID=America/Chicago:20230821T170000
DTEND;TZID=America/Chicago:20230821T190000
DTSTAMP:20260421T101500
CREATED:20230815T153640Z
LAST-MODIFIED:20230815T153640Z
UID:48724-1692637200-1692644400@www.eacctx.com
SUMMARY:Multi Chamber Mixer | Grapevine
DESCRIPTION:🕒 Time’s ticking! Only 4 tickets left \nfor our EACC Texas Members to join the fun at\nChicken N Pickle on Monday\, August 21\, \nfrom 5 to 7 p.m. \n \n  \nJoin us for a delightful evening of mixing and mingling with our fellow Chamber friends at Chicken N Pickle on Monday\, August 21\, from 5 to 7 p.m. \nEnjoy delicious hors d’oeuvres courtesy of Chicken N Pickle\, with a cash bar at your service. \nRemember\, these tickets are limited and reserved just for our valued EACC Texas members. \nSecure your spot now (pick up your ticket at our Prism Center office). \nLooking forward to seeing you there! \nFor more information\, please contact: info@eacctx.com
URL:https://www.eacctx.com/2event/multi-chamber-mixer-grapevine/
LOCATION:Chicken n Pikle\, 4600 Merlot Ave\,\, Grapevine\, TX\, 76051\, United States
CATEGORIES:events,upcoming
END:VEVENT
END:VCALENDAR