BEGIN:VCALENDAR
VERSION:2.0
PRODID:-//European American Chamber of Commerce Texas [EACCTX] | Your Partner for Transatlantic Business Resources - ECPv6.15.20//NONSGML v1.0//EN
CALSCALE:GREGORIAN
METHOD:PUBLISH
X-ORIGINAL-URL:https://www.eacctx.com
X-WR-CALDESC:Events for European American Chamber of Commerce Texas [EACCTX] | Your Partner for Transatlantic Business Resources
REFRESH-INTERVAL;VALUE=DURATION:PT1H
X-Robots-Tag:noindex
X-PUBLISHED-TTL:PT1H
BEGIN:VTIMEZONE
TZID:America/New_York
BEGIN:DAYLIGHT
TZOFFSETFROM:-0500
TZOFFSETTO:-0400
TZNAME:EDT
DTSTART:20220313T070000
END:DAYLIGHT
BEGIN:STANDARD
TZOFFSETFROM:-0400
TZOFFSETTO:-0500
TZNAME:EST
DTSTART:20221106T060000
END:STANDARD
BEGIN:DAYLIGHT
TZOFFSETFROM:-0500
TZOFFSETTO:-0400
TZNAME:EDT
DTSTART:20230312T070000
END:DAYLIGHT
BEGIN:STANDARD
TZOFFSETFROM:-0400
TZOFFSETTO:-0500
TZNAME:EST
DTSTART:20231105T060000
END:STANDARD
BEGIN:DAYLIGHT
TZOFFSETFROM:-0500
TZOFFSETTO:-0400
TZNAME:EDT
DTSTART:20240310T070000
END:DAYLIGHT
BEGIN:STANDARD
TZOFFSETFROM:-0400
TZOFFSETTO:-0500
TZNAME:EST
DTSTART:20241103T060000
END:STANDARD
END:VTIMEZONE
BEGIN:VEVENT
DTSTART;TZID=America/New_York:20230714T190000
DTEND;TZID=America/New_York:20230714T210000
DTSTAMP:20260421T114118
CREATED:20230712T171224Z
LAST-MODIFIED:20230712T172117Z
UID:48579-1689361200-1689368400@www.eacctx.com
SUMMARY:Fort Worth Sister Cities International (FWSCI) | LA FÊTE DE LA BASTILLE AT THE KIMBELL
DESCRIPTION:  \nJoin the Nîmes Committee on July 14 to celebrate Bastille Day\, the celebration of the unity of the French people\, at the Kimbell Art Museum.\nExperience the Kimbell after hours\, learn about French art from expert docents\, and participate in a scavenger hunt throughout the permanent collection.\nA selection of beverages and snacks available for purchase.\n\nREGISTER HERE
URL:https://www.eacctx.com/2event/fort-worth-sister-cities-international-fwsci-la-fete-de-la-bastille-at-the-kimbell/
LOCATION:Kimbell Art Museum\, 3333 Camp Bowie Boulevard\, Fort Worth\, TX\, 76107
CATEGORIES:Partner Events
END:VEVENT
END:VCALENDAR