BEGIN:VCALENDAR
VERSION:2.0
PRODID:-//European American Chamber of Commerce Texas [EACCTX] | Your Partner for Transatlantic Business Resources - ECPv6.15.20//NONSGML v1.0//EN
CALSCALE:GREGORIAN
METHOD:PUBLISH
X-WR-CALNAME:European American Chamber of Commerce Texas [EACCTX] | Your Partner for Transatlantic Business Resources
X-ORIGINAL-URL:https://www.eacctx.com
X-WR-CALDESC:Events for European American Chamber of Commerce Texas [EACCTX] | Your Partner for Transatlantic Business Resources
REFRESH-INTERVAL;VALUE=DURATION:PT1H
X-Robots-Tag:noindex
X-PUBLISHED-TTL:PT1H
BEGIN:VTIMEZONE
TZID:America/Chicago
BEGIN:DAYLIGHT
TZOFFSETFROM:-0600
TZOFFSETTO:-0500
TZNAME:CDT
DTSTART:20220313T080000
END:DAYLIGHT
BEGIN:STANDARD
TZOFFSETFROM:-0500
TZOFFSETTO:-0600
TZNAME:CST
DTSTART:20221106T070000
END:STANDARD
BEGIN:DAYLIGHT
TZOFFSETFROM:-0600
TZOFFSETTO:-0500
TZNAME:CDT
DTSTART:20230312T080000
END:DAYLIGHT
BEGIN:STANDARD
TZOFFSETFROM:-0500
TZOFFSETTO:-0600
TZNAME:CST
DTSTART:20231105T070000
END:STANDARD
BEGIN:DAYLIGHT
TZOFFSETFROM:-0600
TZOFFSETTO:-0500
TZNAME:CDT
DTSTART:20240310T080000
END:DAYLIGHT
BEGIN:STANDARD
TZOFFSETFROM:-0500
TZOFFSETTO:-0600
TZNAME:CST
DTSTART:20241103T070000
END:STANDARD
END:VTIMEZONE
BEGIN:VEVENT
DTSTART;TZID=America/Chicago:20230627T180000
DTEND;TZID=America/Chicago:20230627T203000
DTSTAMP:20260421T114011
CREATED:20230614T202327Z
LAST-MODIFIED:20230614T202327Z
UID:48480-1687888800-1687897800@www.eacctx.com
SUMMARY:EACC Texas Open House & Farewell to Romain Trapp
DESCRIPTION:Dear EACC Texas Members and Friends\,\nWe are delighted to invite you to our Open House event\, where we will be celebrating a significant milestone for EACC Texas: our new home!\nLet’s raise a glass to the future possibilities that our new home offers!\nThis gathering is also an opportunity to bid farewell to Romain and Francoise Trapp. Although it is with a heavy heart that we say goodbye to Airbus Helicopters Inc. President & Head of North America and our EACC Texas Vice Chair of the Board of Directors\, it is also important to gather and acknowledge Romain’s dedication and contribution to building the vibrant transatlantic network we have today and celebrate the lasting impact he has made on the EACC Texas.\nJoin us to wish them well as they embark on the next chapter with Airbus in France\, knowing that Romain’s legacy will continue to inspire us and that he will be back to Texas from time to time because once a Texan\, always a Texan!\nWe are also pleased to welcome a special guest from the Aegean Region (Izmir) Chamber of Industry in Turkey to Dallas. If you have an interest in doing business with Turkey\, please register.\n\nTuesday\, June 27th\n6:00 PM – 8:30 PM\nLight Appetizers & Wine – Business Casual\nThe Prism Center in the Dallas International District\n5580 Peterson Lane\, Suite 175 Dallas\, Texas 75240\nREGISTER HERE\nWe are excited to share this momentous occasion with you as we embark on an exciting new chapter for EACC Texas.\nWe look forward to your presence at our Open House and Farewell Celebration.
URL:https://www.eacctx.com/2event/eacc-texas-open-house-farewell-to-romain-trapp/
LOCATION:EACC Texas – Prism Center\, 5580 Peterson Lane\, Suite 175 \, Dallas\, Texas\, 75240
CATEGORIES:events,upcoming
ORGANIZER;CN="EACC Texas":MAILTO:info@eacctx.com
END:VEVENT
END:VCALENDAR